Workbook
Name \: #REF!
Name \: #REF!
Name \: #REF!
Name \: #REF!
Name \: #REF!
Name _____________________________________________bla1: [1]leads!$H$7
Name _____________________________________________l1: [2]leads!$A$3:$E$108
Name _____________________________________________l12: #REF!
Name _____________________________________________l3: #REF!
Name _____________________________________________l4: [3]Sheet1!$W$2:$Y$103
Name _____________________________________________l5: #REF!
Name _____________________________________________mm1: [4]r!$F$4
Name _____________________________________________rr3: [5]v!$A$2:$E$51
Name _____________________________________________rrr1: [5]r!$B$1:$I$145
Name _____________________________________________ss12: [6]rdamdata!$J$8
Name _____________________________________________ss20: [6]rdamdata!$J$7
Name _____________________________________________ss40: [6]rdamdata!$J$6
Name _____________________________________________var1: #REF!
Name _____________________________________________var4: #REF!
Name ____________________________________________bla1: [7]leads!$H$7
Name ____________________________________________l1: [8]leads!$A$3:$E$108
Name ____________________________________________l12: #REF!
Name ____________________________________________l3: #REF!
Name ____________________________________________l4: [9]Sheet1!$W$2:$Y$103
Name ____________________________________________l5: #REF!
Name ____________________________________________mm1: [10]r!$F$4
Name ____________________________________________rr3: [11]v!$A$2:$E$51
Name ____________________________________________rrr1: [11]r!$B$1:$I$145
Name ____________________________________________ss12: [12]rdamdata!$J$8
Name ____________________________________________ss20: [12]rdamdata!$J$7
Name ____________________________________________ss40: [12]rdamdata!$J$6
Name ____________________________________________var1: #REF!
Name ____________________________________________var4: #REF!
Name ___________________________________________bla1: [7]leads!$H$7
Name ___________________________________________l1: [8]leads!$A$3:$E$108
Name ___________________________________________l12: #REF!
Name ___________________________________________l3: #REF!
Name ___________________________________________l4: [9]Sheet1!$W$2:$Y$103
Name ___________________________________________l5: #REF!
Name ___________________________________________mm1: [10]r!$F$4
Name ___________________________________________rr3: [11]v!$A$2:$E$51
Name ___________________________________________rrr1: [11]r!$B$1:$I$145
Name ___________________________________________ss12: [12]rdamdata!$J$8
Name ___________________________________________ss20: [12]rdamdata!$J$7
Name ___________________________________________ss40: [12]rdamdata!$J$6
Name ___________________________________________var1: #REF!
Name ___________________________________________var4: #REF!
Name __________________________________________bla1: [7]leads!$H$7
Name __________________________________________cur1: [13]r!$F$30
Name __________________________________________l1: [8]leads!$A$3:$E$108
Name __________________________________________l12: #REF!
Name __________________________________________l2: [13]r!$F$29
Name __________________________________________l3: #REF!
Name __________________________________________l4: [9]Sheet1!$W$2:$Y$103
Name __________________________________________l5: #REF!
Name __________________________________________l6: [13]r!$F$4
Name __________________________________________l7: [14]r!$F$4
Name __________________________________________l8: [13]r!$F$2
Name __________________________________________l9: [13]r!$F$3
Name __________________________________________mm1: [10]r!$F$4

Sheet SR PRO Flex 14
A1: SPECIFICATION REPORT
B2: =CONCATENATE(" Accompanying the Detailed Estimate for the work ",'Lead- Input sheet '!A2," PIU Rangareddy DIST ") -> Accompanying the Detailed Estimate for the work Construction of Anganwadi Building at Jeedipally Thanda (V) of Kalwakurthy (M) of Nagarkurnool District PIU Rangareddy DIST
E3: Estt. Cost Rs. : | F3: 24250000
B4: As per the Instructions of the Hon'ble Chief Minister Govt of Telangana the proposals for Construction of Rythu Vedhika works shed , is prepared with the following provisions for effective implementation of new agricultural polices and it is proposed to equip with advance technology including video conference facilities to disseminate information to the formers about the crops , and experts suggestions and Government assistances in providing marketing facilities to formers from time to time.
B5: Multipurpose hall | C5: 30'.00'x46'6 | D5: AEO Room | E5: 12'0"x12'0"
B6: PBS Coordinators room | C6: 17''7.5"x12' | D6: Ladies Toilet | E6: 10'6"x4'9"
B7: Total Plinth Area | C7: 2046 Sq ft | D7: Mens Toilets | E7: 10'6"x4'9"
B9: Roof height | C9: 12'0" Side Wall | D9: Roofing | E9: Proflex Roofing material
B11: The following provisions are made in this each of the above estimate with specifications
A13: 1 | B13: Earth work excavation and depositing on bank with initial lead of 10m and initial lift of 2m in Loamy and Clayey Soils like B.C. Soils, red earth & Ordinary Gravel (SS 20-B) including shoring, strutting, sheeting, planking and dewatering including cost of hire charges of T & P, labour charges etc., complete for finished item of work for Foundation of Building.(APSS No. 308) As per Rural SSR
A14: =A13+1 -> 2 | B14: Plain Cement Concrete (1:5:10) prop nominal mix (cement: fine aggregate: coarse aggregate) using 40mm size HBG (SS5) metal from approved quarry including Cost and Conveyance of all materials like cement, sand, coarse aggregate, water etc. to site, including all operational, incidental, and labour charges such as mixing, laying and ramming concrete in layers in position not exceeding 15cm, finishing top surface, curing concrete, excluding seign etc., complete for finished item of work for Foundations and Flooring Bed (APSS No. 402) for Levelling Course, Flooring bed in Hall and Rooms
A15: =A14+1 -> 3 | B15: Plain Cement Concrete (1:4:8) prop nominal mix (cement: fine aggregate: coarse aggregate) using 40mm size HBG (SS5) metal from approved quarry (obtained by blasting) including Cost and Conveyance of all materials like cement, sand, coarse aggregate, water etc. to site, including all operational, incidental, and labour charges such as mixing, laying and ramming concrete in layers in position not exceeding 15cm, finishing top surface, curing concrete,excluding seign etc., complete for finished item of work for Foundations and Flooring Bed (APSS No. 402)
A16: =A15+1 -> 4 | B16: Random Rubble stone masonry, in CM (1:8) prop: (Cement: Sand) using hard granite stones from approved quarry including Cost and Conveyance of all materials like Granite stones, cement, sand, water, etc., to site including all operational, incidental, and labour charges such as cutting stones to required size and shape, mixing of cement mortar, constructing masonry, curing,excluding seign etc., complete for finished item of work for foundation (APSS No. 601 & 615)
A17: =A16+1 -> 5 | B17: Filling with useful available excavated earth (excluding rock) in trenches, sides of foundations and basement with initial lead in layers not exceeding 15cm thick, consolidating each deposited layer by watering and ramming including cost and Cost and Conveyance of water to site and all operational, incidental, labour charges, sales and other taxes etc, hire charges of T & P excluding seignetc., complete for finished item of work. (APSS NO. 309 & 310)
A18: =A17+1 -> 6 | B18: Providing high yield strength deformed (HYSD) steel TMT bars (Fe 500 grade as per IS 1786-1985) of 8mm to 40mm diameters, cutting, bending, to required sizes and shapes placing in position with cover blocks of approved size and binding wire of 20SWG, forming grills for reinforcement work as per approved designs and drawings including Cost and Conveyance of bars from approved sources to site of work with all taxes including Cost and Conveyance of binding wire, cover blocks chains, overlaps, spaces, dowels, wastage etc, and all operational, incidental, and labour charges such as cutting, bending, placing in position, tying etc.excluding seign, and other taxes,on cost of all materials complete for finished item of work (APSS No.126) in all floors
A19: =A18+1 -> 7 | B19: Brick masonry in superstructure with CM (1:8) prop: using traditional bricks from approved quarry including Cost and Conveyance of all materials like cement, sand, bricks, water etc., to site, including materials, all operational, incidental and labour charges such as mixing cement mortar, constructing masonry, scaffolding charges, lift charges, curing, etc.,excluding seign complete for finished item of work. (APSS No. 501 & 504).
A20: =A19+1 -> 8 | B20: Ornamental plastering to ceiling 12mm thick in CM (1:3) with dubara sponge finish including Cost and Conveyance of all materials like cement, sand, water etc., to site, including other taxes on all materials, all operational, incidental and labour charges such as mixing mortar, finishing, scaffolding, lift charges, including cutting of Grooves wherever necessary as directed by Engineer-in-charge, curing, etc.,excluding seign complete for finished item of work.(APSS 901& 903 )
A21: =A20+1 -> 9 | B21: Providing impervious coat over RCC roof slab to required slopes with CM (1:3) prop. 20mm thick (average) mixed with water proofing compound manufactured by reputed manufacturers as approved by Engineer-in-charge at 1Kg/bag of cement, laid over roof slab when it is green, finished smooth with a floating coat of neat cement and thread lining at regular intervals of 45cmx45cm including Cost and Conveyance of all materials like cement, sand, water proofing compound, water etc., to site, on all materials, all operational, incidental and labour charges such as mixing mortar, laying, rounding off at junctions of wall and slab, rendering smooth with thread lining, curing, lift charges, etc., complete for finished item of work (APSS No. 901 & 903)
A22: =A21+1 -> 10 | B22: Plastering 12mm thick double coat in CM (1:6) 8mm thick base coat and top coat CM(1:4) of 4mm thick with dubara sponge finish including c/c of all materials like cement, sand,water etc., to site, other taxes on all materials, all operational, incidental and labour charges such as mixing mortar, scaffolding charges, lift charges, including cutting of Grooves wherever necessary as directed by Engineer-in-charge, finishing, curing, etc., complete for finished item of work. (APSS 901,903 & 904) - Internal Walls
A23: =A22+1 -> 11 | B23: Plastering 12mm thick double coat in CM (1:5) 8 mm thick base coat and CM (1:3) of 4mm thick top coat with dubara sponge finish including c/c of all materials like cement, sand,water etc., to site, other taxes on all materials, all operational, incidental and labour charges such as mixing mortar, scaffolding charges, lift charges, including cutting of Grooves wherever necessary as directed by Engineer-in-charge, finishing, curing, etc., complete for for finished item of work. (APSS 901,903 & 904) - External Walls
A25: 12 | B25: Flooring with 100mm thick Cement Concrete 1:4:8, using 40mm metal, 100mm thick and 20 mm Cement Concrete surface (Ellis Pattern, 1st Sort) on passage portion
A26: =A25+1 -> 13 | B26: Flooring with Ceramic Tiles of 7.3mm thick 1st. quality of any shade as approved by Engineer - in - charge set over a base coat of CM (1:8), 12mm thick laid over flooring bed / V.R.C.C. slab, with neat grey cement slurry of honey like consistency spread at the rate of 3.3 Kgs of cement per Sq.m and jointed with neat white cement paste mixed with pigment of matching shade including cost and conveyance of all materials for Bath Rooms
A27: =A26+1 -> 14 | B27: Dadooing to walls with white glazed tiles 1st. quality of any size of brand as approved by Engineer - in - charge and set over a base coat of CM (1:5), 12mm thick and neat cement paste at the rate of 3.3 Kg/Sqmt. and jointed with white cement paste mixed with pigment of matching shade including cost and conveyance of all materials for Toilets
A28: =A27+1 -> 15 | B28: Flush Pointing to RRS Masonry in CM(1:3) Prop: including cost and conveyance of all materials like cement, sand, water etc., to site, Excluding seigniorage charges,Including, Countryes & other taxes on all materials, all operational, incidental,GST charges of Cement and steel charges and labour charges such as mixing mortar, finishing, curing, etc., complete for finished item of work. (APSS 901,906)
A29: =A28+1 -> 16 | B29: Supply and fixing of teak wood Door double shutter fully panelled door of size with frame made of well seasoned Sal Wood scantlings of size respective size shown below and shutter made of Flush Door as per approved design with fixtures of 6 nos of 9" ' z" holdfasts, 300 mm long MS Iron coted aldrop-1 no, 125mm long MS iron butt hinges 6 No's, Door stoppers-2 no, 150mm long MS coated Tower bolts 3- no's MS iron coated fancy handles 150 mm -2nos with necessary screws complete including cost and conveyance of all materials and labour charges etc. complete as per specifications (APSS NO.1001 & 1002)
A30: =A29+1 -> 17 | B30: Door MD (1.80 x 2.40) of section 5"x 7' | C30: Door D1 (1.50 x 2.40) of section 4"x 6" | D30: Door D2 (0.90 x2.10) of section 3"x5"
A31: =A30+1 -> 18 | B31: Supplying and fixing of Unplasticised Poly Vinyl Chloride (UPVC) sliding doors three track - three glass shutters sliding - 112 -Series duly manufactured using UPVC reinforced profiles of 112.0 mm x 60 mm x 2.25 mm for outer frames, 66 mm x 42 mm x 2.25 mm for sliding door shutter frames capable of mounting single glazing system, structurally reinforced with hot dip galvanized up to 50 microns of minimum thickness of 1.2 mm prefabricated & welded through fusion welding the window sash shall be fitted with 5 mm thick clear float glass ofreputed make and fixed with EPDM weathering seal resistant accessories likeclippinglocking system made of aluminium 1 No., per set of sashes and the system is to be installed at the site using anchor fasteners, silicon rubber sealant, easy glazing/ deglazing at site etc., including cost and conveyance of all materials, accessories, labour charges for transportation, erection at site with templates for casement sizingcompleteforfinisheditemofwork
A32: =A31+1 -> 19 | B32: Window (1.50 x 1.20)
A33: =A32+1 -> 20 | B33: Skirting with 15 to 18mm thick polished shahbad stone 100mm height in CM (1:5) with
A34: =A33+1 -> 21 | B34: Self Supported Arch shaped Galvalume Sheeting , Colour complying to ASTM A792 , base metal 1.00mm thick (tolerance as +/- 0.03mm) with alloy coating AZ 150(Alluminium 55%, zinc 43.50%, Silicon 1.50%) Yeild strength:350 MPA , Paint coating regular modified polyster top coat 25 micron and bottom coat 12 micron Epoxy Painting. Top colour consisting of blue and off white and Bottom colour is with grey.The Make of metal off THYSSEN KRUPPS,Germany/Dongbu steel company limited Korea/corus steel ,UK/ Union steel,Korea Yieh Enterprises ltd , Taiwon steel sheet be 3.0 ( 914mm ) with which be curved and moulded at site using mechanical press and dies to desired curve and shape to form 2-0 ( 616mm) with interlocking panels. These panels shall be erected in position and joints are seamed .The instaltion should be done by mechanized method .The contractor has to mobilise required number of Hydra ,transportion of sheets and cranes for the erection of seamed sheets and complete the entire work satifactorily by using the fixtures like anchor,fasteners,standard light hanger, turbo ventilators and sky light each compartment to have combination of Turbo ventilators (Al) of size 24 inches capacity 2200 CFM at 30' interval with sky light of panel of 2.0mm thick polycharbonvate sheet to be installed for each compartment including cost and conveyance of materials and labour charges and all taxes,GST and also incidental and operational charges etc
A35: =A34+1 -> 22 | B35: Painting to new walls with 2 coats of ready mixed oil bound wahsable distemper of approved brand and shade over a base coat of appropriate primer of approved brand, making 3 coats in all to give an even shade after thourughly brushing the surface to remove all dirt and remains of loose powdered materials, including,GST charges of Cement and steel cost and conveyance of all materials to work site and all operational, incidental, labour charges etc. complete for finished item of work as per SS 911 for internal walls
A36: =A35+1 -> 23 | B36: Painting to New walls with two coats of snowcem paints of approved brand and shade over base coat of appropriate distemper primer of approved brand making three coats in all to give an even shade after thoroughly brushing the surface to remove all loose powdered materials, including c/c of all materials, cost of brushes, water to site, etc., & other taxes, all operational, incidental and labour charges such as scaffolding charges, lift charges, curing etc.,complete for finished item of work in all floors for external Walls.(APSS No. 911)
A37: =A36+1 -> 24 | B37: Painting with Synthetic Enamel paints - Two Coats - for New Wood Works including cost and conveyance of all materials to site, Countryes & other taxes, all operational, incidental and labour charges etc., complete for finished item of work.
A38: =A37+1 -> 25 | B38: Provision for Electrical work
A39: =A38+1 -> 26 | B39: Provision for Sanitory and Water supply
B41: The estimate is prepared with SSR 2019-20 ,RSSR and submitted for kind consideration for according adminidtrative sanction
B45: ='Lead- Input sheet '!B44 -> Assistant Exc.Engineer | D45: ='Lead- Input sheet '!H44 -> Deputy Executive Engineer
B46: ='Lead- Input sheet '!B45 -> PR MPP Kalwakurthy | D46: ='Lead- Input sheet '!H45 -> PR SD Kalwakurthy

Sheet Rythu Vedhika -14'Trep sheet(H)
A1: DETAIED AND ABSTRACT ESTIMATE
A2: ='Lead- Input sheet '!A2 -> Construction of Anganwadi Building at Jeedipally Thanda (V) of Kalwakurthy (M) of Nagarkurnool District
A3: Sno | B3: Description of item | C3: Nos. | F3: Measurements | I3: Qty | J3: Rate/Per | K3: Total Amount | L3: SEIGNORAGE CHARGES/Unit | M3: TOTALSEIGNORAGE CHARGES
F4: L | G4: B | H4: D
A5: 1 | B5: =A5+1 -> 2 | C5: =B5+1 -> 3 | F5: =C5+1 -> 4 | G5: =F5+1 -> 5 | H5: =G5+1 -> 6 | I5: =H5+1 -> 7 | J5: =I5+1 -> 8 | K5: 9 | L5: =K5+1 -> 10 | M5: =L5+1 -> 11
A6: 1 | B6: Earth work excavation and depositing on bank with initial lead of 10m and initial lift of 2m in Loamy & Clayey Soils like BC Soils, Red Earth & Ordinary Gravelly Soils ( SS 20-B) including shoring, strutting, sheeting, planking and dewatering including cost of hire charges of T & P, labor charges etc., complete for finished item of work for Foundation of Building. (APSS No. 308)
B7: For SBC 20 TN/sqm only
B8: Footings | C8: 2 | D8: x | E8: 6 | F8: 1.8 | G8: 1.8 | H8: 1.65 | I8: =ROUND(C8*E8*F8*G8*H8,2) -> 64.15
B9: For long walls for Plot form inclding Room Portion | C9: 1 | D9: x | E9: 2 | F9: =(60+1.5)*0.3048 -> 18.7452 | G9: 0.6 | H9: 0.6 | I9: =ROUND(C9*E9*F9*G9*H9,2) -> 13.5
B10: For Cross walls for Plot form inclding Room Portion | C10: 1 | D10: x | E10: 2 | F10: =(30.75-2)*0.3048 -> 8.763 | G10: 0.6 | H10: 0.6 | I10: =ROUND(C10*E10*F10*G10*H10,2) -> 6.31
B11: For Cross walls for Plot form | C11: 2 | D11: x | E11: 2 | F11: 1.2 | G11: 0.6 | H11: 0.6 | I11: =ROUND(C11*E11*F11*G11*H11,2) -> 1.73
B12: For toilets Long walls | C12: 2 | D12: x | E12: 2 | F12: 4.15 | G12: 0.6 | H12: 0.6 | I12: =ROUND(C12*E12*F12*G12*H12,2) -> 5.98
B13: For toilets Short walls | C13: 2 | D13: x | E13: 2 | F13: 4 | G13: 0.6 | H13: 0.6 | I13: =ROUND(C13*E13*F13*G13*H13,2) -> 5.76
B14: For Plot form walls of Toilets | C14: 1 | D14: x | E14: 2 | F14: 1.8 | G14: 0.6 | H14: 0.6 | I14: =ROUND(C14*E14*F14*G14*H14,2) -> 1.3
B15: For Soak Pit of Toilet Block | C15: PI/4 | D15: x | E15: 2 | F15: 1.35 | G15: 1.35 | H15: 2 | I15: =ROUND(PI()/4*E15*F15*G15*H15,2) -> 5.73
B16: for Entrrance steps Plot From Long wall | C16: 1 | D16: x | E16: 1 | F16: =(31.5-6-4)*0.3048 -> 6.5532 | G16: 0.6 | H16: 0.3 | I16: =ROUND(C16*E16*F16*G16*H16,2) -> 1.18
B17: for Entrrance steps Plot From short walls | C17: 1 | D17: x | E17: 2 | F17: 3 | G17: 0.6 | H17: 0.3 | I17: =ROUND(C17*E17*F17*G17*H17,2) -> 1.08
B18: for Entrrance steps | C18: 1 | D18: x | E18: 1 | F18: =(31.5-6)*0.3048 -> 7.7724 | G18: 1.2 | H18: 0.3 | I18: =ROUND(C18*E18*F18*G18*H18,2) -> 2.8
B19: for Entrrance steps | C19: 1 | D19: x | E19: 2 | F19: 4.2 | G19: 1.2 | H19: 0.3 | I19: =ROUND(C19*E19*F19*G19*H19,2) -> 3.02
I20: =SUM(I8:I19) -> 112.54
B21: As per Rural SSR Rates as GO 240 dt 13.05.2019 ((Hard Gravel soils) | I21: =CEILING(I20,0.05) -> 112.55 | J21: 197.21 | K21: =ROUND(J21*I21/1,0) -> 22196 | L21: 30 | M21: =L21*I21 -> 3376.5 | O21: =ROUND(I21*N21,0) -> 0
I22: Cum. | J22: 1 cum
A23: 2 | B23: Plain Cement Concrete corresponding to M5 grade as per IS 456 equivalent to (1:4;8) proportion nominal mix (cement: fine aggregate: Coarse aggregate) using 40mm size HBG (SS5) metal from approved quarry including cost and conveyance of all materials like cement, sand, coarse aggregate, water etc. to site, excluding seigniorage charges,Including, Countryes & other taxes on all materials, all operational, incidental,GST charges of Cement and steel and labor charges, such as mixing, laying and ramming concrete in layers in position not exceeding 15cm, finishing top surface, curing concrete, etc., complete for finished item of work for Foundations and Flooring Bed (APSS No. 402)
B24: Footings | C24: 2 | D24: x | E24: 6 | F24: 2 | G24: 2 | H24: 0.15 | I24: =ROUND(C24*E24*F24*G24*H24,2) -> 7.2
I25: =I24 -> 7.2 | J25: =Datas!G154 -> 4371.4636 | K25: =ROUND(J25*I25,0) -> 31475 | L25: 108 | M25: =L25*I25 -> 777.6 | N25: 108 | O25: =ROUND(I25*N25,0) -> 778
I26: Cum. | J26: Cum.
A27: 3 | B27: Plain Cement Concrete corresponding to M5 grade as per IS 456 equivalent to (1:5;10) proportion nominal mix (cement: fine aggregate: Coarse aggregate) using 40mm size HBG (SS5) metal from approved quarry including cost and conveyance of all materials like cement, sand, coarse aggregate, water etc. to site, excluding seigniorage charges,Including, Countryes & other taxes on all materials, all operational, incidental,GST charges of Cement and steel and labor charges such as mixing, laying and ramming concrete in layers in position not exceeding 15cm, finishing top surface, curing concrete, etc., complete for finished item of work for Foundations and Flooring Bed (APSS No. 402)
B28: For under Flooring in Hall | C28: 1 | D28: x | E28: 1 | F28: =(46.5)*0.3048 -> 14.1732 | G28: =(30)*0.3048 -> 9.144 | H28: 0.1 | I28: =ROUND(C28*E28*F28*G28*H28,2) -> 12.96
B29: For under Flooring in AEO Room | C29: 1 | D29: x | E29: 1 | F29: 3.6 | G29: =(12)*0.3048 -> 3.6576 | H29: 0.1 | I29: =ROUND(C29*E29*F29*G29*H29,2) -> 1.32
B30: For under Flooring in PBS Coordinator Room | C30: 1 | D30: x | E30: 1 | F30: 3.6 | G30: =(17.23)*0.3048 -> 5.251704 | H30: 0.1 | I30: =ROUND(C30*E30*F30*G30*H30,2) -> 1.89
B31: For under Flooring in Gents Toilet | C31: 1 | D31: x | E31: 1 | F31: 3.2 | G31: 3 | H31: 0.1 | I31: =ROUND(C31*E31*F31*G31*H31,2) -> 0.96
B32: For under Flooring in ladies Toilet | C32: 1 | D32: x | E32: 1 | F32: 3.6 | G32: =(17.23)*0.3048 -> 5.251704 | H32: 0.1 | I32: =ROUND(C32*E32*F32*G32*H32,2) -> 1.89
B33: For long walls for Plot form inclding Room Portion | C33: 1 | D33: x | E33: 2 | F33: =(60+2)*0.3048 -> 18.8976 | G33: 0.6 | H33: 0.1 | I33: =ROUND(C33*E33*F33*G33*H33,2) -> 2.27
B34: For Cross walls for Plot form inclding Room Portion | C34: 1 | D34: x | E34: 2 | F34: =(30.75-2)*0.3048 -> 8.763 | G34: 0.6 | H34: 0.1 | I34: =ROUND(C34*E34*F34*G34*H34,2) -> 1.05
B35: For Cross walls for Plot form | C35: 2 | D35: x | E35: 2 | F35: 1.2 | G35: 0.6 | H35: 0.1 | I35: =ROUND(C35*E35*F35*G35*H35,2) -> 0.29
B36: For toilets Long walls | C36: 2 | D36: x | E36: 2 | F36: 4.15 | G36: 0.6 | H36: 0.1 | I36: =ROUND(C36*E36*F36*G36*H36,2) -> 1
B37: For toilets Short walls | C37: 2 | D37: x | E37: 2 | F37: 4 | G37: 0.6 | H37: 0.1 | I37: =ROUND(C37*E37*F37*G37*H37,2) -> 0.96
B38: For Plot form walls of Toilets | C38: 1 | D38: x | E38: 2 | F38: 1.8 | G38: 0.6 | H38: 0.1 | I38: =ROUND(C38*E38*F38*G38*H38,2) -> 0.22
B39: for Entrrance steps Plot From Long wall | C39: 1 | D39: x | E39: 1 | F39: =(31.5-6-4)*0.3048 -> 6.5532 | G39: 0.6 | H39: 0.1 | I39: =ROUND(C39*E39*F39*G39*H39,2) -> 0.39
B40: for Entrrance steps Plot From short walls | C40: 1 | D40: x | E40: 2 | F40: 3 | G40: 0.6 | H40: 0.1 | I40: =ROUND(C40*E40*F40*G40*H40,2) -> 0.36
...

Sheet SR 22.00  (2)
A1: SPECIFICATION REPORT
B2: =CONCATENATE(" Accompanying the Detailed Estimate for the work ",'Lead- Input sheet '!A2," PIU Rangareddy DIST ") -> Accompanying the Detailed Estimate for the work Construction of Anganwadi Building at Jeedipally Thanda (V) of Kalwakurthy (M) of Nagarkurnool District PIU Rangareddy DIST
E3: Estt. Cost Rs. : | F3: 2400000
B4: As per the Instructions of the Hon'ble Chief Minister Govt of Telangana the proposals for Construction of Rythu Vedhika works shed , is prepared with the following provisions for effective implementation of new agricultural polices and it is proposed to equip with advance technology including video conference facilities to disseminate information to the formers about the crops , and experts suggestions and Government assistances in providing marketing facilities to formers from time to time.
B5: Multipurpose hall | C5: 30'.00'x46'6 | D5: AEO Room | E5: 12'0"x12'0"
B6: PBS Coordinators room | C6: 17''7.5"x12' | D6: Ladies Toilet | E6: 10'6"x4'9"
B7: Total Plinth Area | C7: 2046 Sq ft | D7: Mens Toilets | E7: 10'6"x4'9"
B9: Roof height | C9: 14'00" Side Wall | D9: Roofing | E9: Pre-painted Galvalume Trapezoidal Profile Roofing sheets with truss
B11: The following provisions are made in this each of the above estimate with specifications
A13: 1 | B13: Earth work excavation and depositing on bank with initial lead of 10m and initial lift of 2m in Loamy and Clayey Soils like B.C. Soils, red earth & Ordinary Gravel (SS 20-B) including shoring, strutting, sheeting, planking and dewatering including cost of hire charges of T & P, labour charges etc., complete for finished item of work for Foundation of Building.(APSS No. 308) As per Rural SSR
A14: =A13+1 -> 2 | B14: Plain Cement Concrete (1:5:10) prop nominal mix (cement: fine aggregate: coarse aggregate) using 40mm size HBG (SS5) metal from approved quarry including Cost and Conveyance of all materials like cement, sand, coarse aggregate, water etc. to site, including all operational, incidental, and labour charges such as mixing, laying and ramming concrete in layers in position not exceeding 15cm, finishing top surface, curing concrete, excluding seign etc., complete for finished item of work for Foundations and Flooring Bed (APSS No. 402) for Levelling Course, Flooring bed in Hall and Rooms
A15: =A14+1 -> 3 | B15: Plain Cement Concrete (1:4:8) prop nominal mix (cement: fine aggregate: coarse aggregate) using 40mm size HBG (SS5) metal from approved quarry (obtained by blasting) including Cost and Conveyance of all materials like cement, sand, coarse aggregate, water etc. to site, including all operational, incidental, and labour charges such as mixing, laying and ramming concrete in layers in position not exceeding 15cm, finishing top surface, curing concrete,excluding seign etc., complete for finished item of work for Foundations and Flooring Bed (APSS No. 402)
A16: =A15+1 -> 4 | B16: Random Rubble stone masonry, in CM (1:8) prop: (Cement: Sand) using hard granite stones from approved quarry including Cost and Conveyance of all materials like Granite stones, cement, sand, water, etc., to site including all operational, incidental, and labour charges such as cutting stones to required size and shape, mixing of cement mortar, constructing masonry, curing,excluding seign etc., complete for finished item of work for foundation (APSS No. 601 & 615)
A17: =A16+1 -> 5 | B17: Filling with useful available excavated earth (excluding rock) in trenches, sides of foundations and basement with initial lead in layers not exceeding 15cm thick, consolidating each deposited layer by watering and ramming including cost and Cost and Conveyance of water to site and all operational, incidental, labour charges, sales and other taxes etc, hire charges of T & P excluding seignetc., complete for finished item of work. (APSS NO. 309 & 310)
A18: =A17+1 -> 6 | B18: Providing high yield strength deformed (HYSD) steel TMT bars (Fe 500 grade as per IS 1786-1985) of 8mm to 40mm diameters, cutting, bending, to required sizes and shapes placing in position with cover blocks of approved size and binding wire of 20SWG, forming grills for reinforcement work as per approved designs and drawings including Cost and Conveyance of bars from approved sources to site of work with all taxes including Cost and Conveyance of binding wire, cover blocks chains, overlaps, spaces, dowels, wastage etc, and all operational, incidental, and labour charges such as cutting, bending, placing in position, tying etc.excluding seign, and other taxes,on cost of all materials complete for finished item of work (APSS No.126) in all floors
A19: =A18+1 -> 7 | B19: Brick masonry in superstructure with CM (1:8) prop: using traditional bricks from approved quarry including Cost and Conveyance of all materials like cement, sand, bricks, water etc., to site, including materials, all operational, incidental and labour charges such as mixing cement mortar, constructing masonry, scaffolding charges, lift charges, curing, etc.,excluding seign complete for finished item of work. (APSS No. 501 & 504).
A20: =A19+1 -> 8 | B20: Ornamental plastering to ceiling 12mm thick in CM (1:3) with dubara sponge finish including Cost and Conveyance of all materials like cement, sand, water etc., to site, including other taxes on all materials, all operational, incidental and labour charges such as mixing mortar, finishing, scaffolding, lift charges, including cutting of Grooves wherever necessary as directed by Engineer-in-charge, curing, etc.,excluding seign complete for finished item of work.(APSS 901& 903 )
A21: =A20+1 -> 9 | B21: Providing impervious coat over RCC roof slab to required slopes with CM (1:3) prop. 20mm thick (average) mixed with water proofing compound manufactured by reputed manufacturers as approved by Engineer-in-charge at 1Kg/bag of cement, laid over roof slab when it is green, finished smooth with a floating coat of neat cement and thread lining at regular intervals of 45cmx45cm including Cost and Conveyance of all materials like cement, sand, water proofing compound, water etc., to site, on all materials, all operational, incidental and labour charges such as mixing mortar, laying, rounding off at junctions of wall and slab, rendering smooth with thread lining, curing, lift charges, etc., complete for finished item of work (APSS No. 901 & 903)
A22: =A21+1 -> 10 | B22: Plastering 12mm thick double coat in CM (1:6) 8mm thick base coat and top coat CM(1:4) of 4mm thick with dubara sponge finish including c/c of all materials like cement, sand,water etc., to site, other taxes on all materials, all operational, incidental and labour charges such as mixing mortar, scaffolding charges, lift charges, including cutting of Grooves wherever necessary as directed by Engineer-in-charge, finishing, curing, etc., complete for finished item of work. (APSS 901,903 & 904) - Internal Walls
A23: =A22+1 -> 11 | B23: Plastering 12mm thick double coat in CM (1:5) 8 mm thick base coat and CM (1:3) of 4mm thick top coat with dubara sponge finish including c/c of all materials like cement, sand,water etc., to site, other taxes on all materials, all operational, incidental and labour charges such as mixing mortar, scaffolding charges, lift charges, including cutting of Grooves wherever necessary as directed by Engineer-in-charge, finishing, curing, etc., complete for for finished item of work. (APSS 901,903 & 904) - External Walls
A25: 12 | B25: Flooring with 100mm thick Cement Concrete 1:4:8, using 40mm metal, 100mm thick and 20 mm Cement Concrete surface (Ellis Pattern, 1st Sort) on passage portion
A26: =A25+1 -> 13 | B26: Flooring with Ceramic Tiles of 7.3mm thick 1st. quality of any shade as approved by Engineer - in - charge set over a base coat of CM (1:8), 12mm thick laid over flooring bed / V.R.C.C. slab, with neat grey cement slurry of honey like consistency spread at the rate of 3.3 Kgs of cement per Sq.m and jointed with neat white cement paste mixed with pigment of matching shade including cost and conveyance of all materials for Bath Rooms
A27: =A26+1 -> 14 | B27: Dadooing to walls with white glazed tiles 1st. quality of any size of brand as approved by Engineer - in - charge and set over a base coat of CM (1:5), 12mm thick and neat cement paste at the rate of 3.3 Kg/Sqmt. and jointed with white cement paste mixed with pigment of matching shade including cost and conveyance of all materials for Toilets
A28: =A27+1 -> 15 | B28: Flush Pointing to RRS Masonry in CM(1:3) Prop: including cost and conveyance of all materials like cement, sand, water etc., to site, Excluding seigniorage charges,Including, Countryes & other taxes on all materials, all operational, incidental,GST charges of Cement and steel charges and labour charges such as mixing mortar, finishing, curing, etc., complete for finished item of work. (APSS 901,906)
A29: =A28+1 -> 16 | B29: Supply and fixing of teak wood Door double shutter fully panelled door of size with frame made of well seasoned Sal Wood scantlings of size respective size shown below and shutter made of Flush Door as per approved design with fixtures of 6 nos of 9" ' z" holdfasts, 300 mm long MS Iron coted aldrop-1 no, 125mm long MS iron butt hinges 6 No's, Door stoppers-2 no, 150mm long MS coated Tower bolts 3- no's MS iron coated fancy handles 150 mm -2nos with necessary screws complete including cost and conveyance of all materials and labour charges etc. complete as per specifications (APSS NO.1001 & 1002)
A30: =A29+1 -> 17 | B30: Door MD (1.80 x 2.40) of section 5"x 7' | C30: Door D1 (1.50 x 2.40) of section 4"x 6" | D30: Door D2 (0.90 x2.10) of section 3"x5"
A31: =A30+1 -> 18 | B31: Supplying and fixing of Unplasticised Poly Vinyl Chloride (UPVC) sliding doors three track - three glass shutters sliding - 112 -Series duly manufactured using UPVC reinforced profiles of 112.0 mm x 60 mm x 2.25 mm for outer frames, 66 mm x 42 mm x 2.25 mm for sliding door shutter frames capable of mounting single glazing system, structurally reinforced with hot dip galvanized up to 50 microns of minimum thickness of 1.2 mm prefabricated & welded through fusion welding the window sash shall be fitted with 5 mm thick clear float glass ofreputed make and fixed with EPDM weathering seal resistant accessories likeclippinglocking system made of aluminium 1 No., per set of sashes and the system is to be installed at the site using anchor fasteners, silicon rubber sealant, easy glazing/ deglazing at site etc., including cost and conveyance of all materials, accessories, labour charges for transportation, erection at site with templates for casement sizingcompleteforfinisheditemofwork
A32: =A31+1 -> 19 | B32: Window (1.50 x 1.20)
A33: =A32+1 -> 20 | B33: Skirting with 15 to 18mm thick polished shahbad stone 100mm height in CM (1:5) with
A34: =A33+1 -> 21 | B34: Roofing with Supply of Pre-painted Galvalume Trapezoidal Profile Roofing sheets with 0.50mm thickness, Coating: Alu-Zinc coating AZ150 GSM Tensile Strength: 550 MPA.Paint coating: Regular Modified Polyester painting.Painting hickness (Top): 18 to 20 Microns,(Bottom): 5 to 7 Microns. Sheet Width: 1.020, Length:Maximum 12 Meters with Regular Range Coloursfixed with G.I ‘J’ bolts & nuts 8 mm dia with bitumen & G.I limpet washers filled with white lead & including a coat of approved steel primer and two coats of approved paint on over lapping of sheets complete (up to a pitch of 600) and eigniorage charges, etc., complete, excluding the cost of purlins, rafters, trusses & cost of conveyance of all materials
A35: =A34+1 -> 22 | B35: Painting to new walls with 2 coats of ready mixed oil bound wahsable distemper of approved brand and shade over a base coat of appropriate primer of approved brand, making 3 coats in all to give an even shade after thourughly brushing the surface to remove all dirt and remains of loose powdered materials, including,GST charges of Cement and steel cost and conveyance of all materials to work site and all operational, incidental, labour charges etc. complete for finished item of work as per SS 911 for internal walls
A36: =A35+1 -> 23 | B36: Painting to New walls with two coats of snowcem paints of approved brand and shade over base coat of appropriate distemper primer of approved brand making three coats in all to give an even shade after thoroughly brushing the surface to remove all loose powdered materials, including c/c of all materials, cost of brushes, water to site, etc., & other taxes, all operational, incidental and labour charges such as scaffolding charges, lift charges, curing etc.,complete for finished item of work in all floors for external Walls.(APSS No. 911)
A37: =A36+1 -> 24 | B37: Painting with Synthetic Enamel paints - Two Coats - for New Wood Works including cost and conveyance of all materials to site, Countryes & other taxes, all operational, incidental and labour charges etc., complete for finished item of work.
A38: =A37+1 -> 25 | B38: Provision for Electrical work
A39: =A38+1 -> 26 | B39: Provision for Sanitory and Water supply
B41: The estimate is prepared with SSR 2019-20 ,RSSR and submitted for kind consideration for according adminidtrative sanction
B45: ='Lead- Input sheet '!B44 -> Assistant Exc.Engineer | D45: ='Lead- Input sheet '!H44 -> Deputy Executive Engineer
B46: ='Lead- Input sheet '!B45 -> PR MPP Kalwakurthy | D46: ='Lead- Input sheet '!H45 -> PR SD Kalwakurthy

Sheet input sheet
B3: Name of the Anganwadi | C3: Anganwadi
B6: Name of the Village | C6: Jeedipally Thanda
B7: Name of the Mandal | C7: Kalwakurthy
B8: name of the sub division | C8: Kalwakurthy
B9: Name of the district | C9: Nagarkurnool
B11: proceeding
B12: Lead | C12: location | D12: distance
B13: Sand | C13: Dindi Vagu | D13: 19
B14: Sand for filling | C14: local | D14: 19
B15: Metal | C15: Veldanda | D15: 18
B16: Robosand | C16: jadcherla | D16: 36
B17: RR Masonary | C17: Urkonda | D17: 11
B18: Red Brick | C18: Jp Nagar | D18: 8
B19: Flyash Brick | C19: jadcherla | D19: 36
B20: selected earth | C20: local | D20: 5
B21: Flooring Tiles/slabs | C21: Tandur | D21: 150

Sheet Cover2
A5: Government of Telangana
A7: Panchayat Raj Engineering Department
A10: DETAILED ESTIMATE
A16: =Datas!A2 -> Construction of Anganwadi Building at Jeedipally Thanda (V) of Kalwakurthy (M) of Nagarkurnool District
E18: Name of Grant | I18: MGNREGS/2024-25
E20: Estimate Cost | H20: :: | I20: 8 | K20: Lakhs
G25: Mandal | H25: :: | I25: Kalwakurthy
G27: Sub-Division | H27: :: | I27: PRSD Kalwakurthy
G29: Division | H29: :: | I29: Nagar kurnool
M36: .

Sheet MGNREGS input sheet
A2: Proposal Date: | E2: work start date
A3: present status | B3: new | E3: proposed status :
A5: tech sanction details | E5: Technical sanction date
A6: estimated cost
A8: unskilled | B8: semi skilled
A11: si.no | B11: Activity | F11: quantity | G11: unit price | H11: total
A12: 1 | B12: CW01 amount for wage | F12: ='Building-Estimate'!J17 -> 33.46 | G12: ='Building-Estimate'!K17 -> 385.385 | H12: =ROUND(PRODUCT(F12:G12),0) -> 12895
A13: 2 | B13: Activity to match total esimated cost | F13: 1 | G13: =H60 -> 704211 | H13: =ROUND(PRODUCT(F13:G13),0) -> 704211
H14: =SUM(H12:H13) -> 717106
A16: SI.no | B16: Material | E16: qty | F16: bal qty | G16: unit price | H16: Total
A17: 1 | B17: PCC (1:5:10) | E17: ='Building-Estimate'!J57 -> 7.25 | G17: ='Building-Estimate'!K57 -> 4155.81 | H17: =ROUND(G17*E17,0) -> 30130
A18: 2 | B18: PCC (1:4:8) | E18: ='Building-Estimate'!J72 -> 2.46 | G18: ='Building-Estimate'!K72 -> 4371.4636 | H18: =ROUND(G18*E18,0) -> 10754
A19: =A18+1 -> 3 | B19: RR Masonary | E19: ='Building-Estimate'!J93 -> 17.05 | G19: ='Building-Estimate'!K93 -> 3626.63 | H19: =ROUND(G19*E19,0) -> 61834
A20: =A19+1 -> 4 | B20: RCC M20 footings | E20: ='Building-Estimate'!J109 -> 3.89 | G20: ='Building-Estimate'!K109 -> 8788.51 | H20: =ROUND(G20*E20,0) -> 34187
A21: =A20+1 -> 5 | B21: RCC M20 Pedestals | E21: ='Building-Estimate'!J115 -> 1.09 | G21: ='Building-Estimate'!K115 -> 9360.51 | H21: =ROUND(G21*E21,0) -> 10203
A22: =A21+1 -> 6 | B22: RCC M20 columns | E22: ='Building-Estimate'!J126 -> 2.68 | G22: ='Building-Estimate'!K126 -> 11842.03 | H22: =ROUND(G22*E22,0) -> 31737
A23: =A22+1 -> 7 | B23: RCC M20 plinth beams | E23: ='Building-Estimate'!J138 -> 3.49 | G23: ='Building-Estimate'!K138 -> 11378.51 | H23: =ROUND(G23*E23,0) -> 39711
A24: =A23+1 -> 8 | B24: RCC M20 roof beams | E24: ='Building-Estimate'!J147 -> 2.98 | G24: ='Building-Estimate'!K147 -> 11257.84 | H24: =ROUND(G24*E24,0) -> 33548
A25: =A24+1 -> 9 | B25: RCC M20 slab 125mm(per 10 sqm) | E25: ='Building-Estimate'!J153 -> 68.41 | G25: ='Building-Estimate'!K153 -> 1346.355 | H25: =ROUND(G25*E25/10,0) -> 9210
A26: =A25+1 -> 10 | B26: RCC M20 slab 175mm | H26: =ROUND(G26*E26,0) -> 0
A27: =A26+1 -> 11 | B27: RCC M20 lintels | E27: ='Building-Estimate'!J164 -> 0.45 | G27: ='Building-Estimate'!K164 -> 11905.03 | H27: =ROUND(G27*E27,0) -> 5357
A28: =A27+1 -> 12 | B28: RCC M20 sunshades | E28: ='Building-Estimate'!J174 -> 13.9 | G28: ='Building-Estimate'!K174 -> 606.11 | H28: =ROUND(G28*E28,0) -> 8425
A29: =A28+1 -> 13 | B29: PCC (1:3:6) Bed blocks | E29: ='Building-Estimate'!J183 -> 0.33 | G29: ='Building-Estimate'!K183 -> 5340.56 | H29: =ROUND(G29*E29,0) -> 1762
A30: =A29+1 -> 14 | B30: Providing impervious coat | E30: ='Building-Estimate'!J253 -> 68.41 | G30: ='Building-Estimate'!K253 -> 489.398 | H30: =ROUND(G30*E30,0) -> 33480
A31: =A30+1 -> 15 | B31: Filling useful excavated earth | H31: =ROUND(G31*E31,0) -> 0
A32: =A31+1 -> 16 | B32: Filling with gravel | E32: ='Building-Estimate'!J245 -> 27.25 | G32: ='Building-Estimate'!K245 -> 338.61 | H32: =ROUND(G32*E32,0) -> 9227
A33: =A32+1 -> 17 | B33: Brick Masonary | E33: ='Building-Estimate'!J209 -> 25.39 | G33: ='Building-Estimate'!K209 -> 7013.85 | H33: =ROUND(G33*E33,0) -> 178082
A34: =A33+1 -> 18 | B34: Reinforced Brick masonary | E34: ='Building-Estimate'!J226 -> 16.15 | G34: ='Building-Estimate'!K226 -> 800.34 | H34: =ROUND(G34*E34,0) -> 12925
A35: =A34+1 -> 19 | B35: HYSD | E35: ='Building-Estimate'!J259 -> 1.83 | G35: ='Building-Estimate'!K259 -> 77799 | H35: =ROUND(G35*E35,0) -> 142372
A36: =A35+1 -> 20 | B36: Door frames 1.05 X2.1 | E36: ='Building-Estimate'!J297 -> 2 | G36: ='Building-Estimate'!K297 -> 3358.45 | H36: =ROUND(G36*E36,0) -> 6717
A37: =A36+1 -> 21 | B37: Door frames 0.9 X2.1 | E37: ='Building-Estimate'!J303 -> 2 | G37: ='Building-Estimate'!K303 -> 3343.0335 | H37: =ROUND(G37*E37,0) -> 6686
A38: =A37+1 -> 22 | B38: Window frames 1.2 X1.2(w1) | E38: ='Building-Estimate'!J307 -> 4 | G38: ='Building-Estimate'!K307 -> 4457.1272 | H38: =ROUND(G38*E38,0) -> 17829
A39: =A38+1 -> 23 | B39: Window frames 1.2 X.75(w2) | E39: ='Building-Estimate'!J312 -> 1 | G39: ='Building-Estimate'!K312 -> 4242.9236 | H39: =ROUND(G39*E39,0) -> 4243
A40: =A39+1 -> 24 | B40: PVC pipe consealed in slab | E40: ='Building-Estimate'!J316 -> 25 | G40: ='Building-Estimate'!K316 -> 111.43 | H40: =ROUND(G40*E40,0) -> 2786
A41: =A40+1 -> 25 | B41: plastering 12mm thick | H41: =ROUND(G41*E41,0) -> 0
A42: =A41+1 -> 26 | B42: plastering 20mm thick | E42: ='Est 02.03.23'!I288 -> 141.17 | G42: ='Est 02.03.23'!J288 -> 439.762 | H42: =ROUND(G42*E42,0) -> 62081
A43: =A42+1 -> 27 | B43: Flooring vitrified | E43: ='Est 02.03.23'!I296 -> 47.17 | G43: ='Est 02.03.23'!J296 -> 1079.226 | H43: =ROUND(G43*E43,0) -> 50907
A44: =A43+1 -> 28 | B44: Skirting with vitrified | E44: ='Est 02.03.23'!I306 -> 4.26 | G44: ='Est 02.03.23'!J306 -> 814.08 | H44: =ROUND(G44*E44,0) -> 3468
A45: =A44+1 -> 29 | B45: Flooring with ceramic | E45: ='Est 02.03.23'!I311 -> 5.8 | G45: ='Est 02.03.23'!J311 -> 807.69498 | H45: =ROUND(G45*E45,0) -> 4685
A46: =A45+1 -> 30 | B46: Dadooing with wall tiles | E46: ='Est 02.03.23'!I318 -> 0 | G46: ='Est 02.03.23'!J318 -> 638.54 | H46: =ROUND(G46*E46,0) -> 0
...

Sheet General Abs
A1: ='Lead- Input sheet '!A2 -> Construction of Anganwadi Building at Jeedipally Thanda (V) of Kalwakurthy (M) of Nagarkurnool District
B2: GENERAL ABSTRACT
A3: Sno. | B3: Description of Item | C3: Units | E3: Amount in.Rs
A4: 1 | B4: Civil Items(Ground floor) | E4: ='Est 02.03.23'!K415 -> 787826
A5: 2 | B5: Electrical items (Ground Floor)
A6: 3 | B6: Sanitaion (Ground floor)
B7: Name Board | E7: 4000
B8: Ground floor Cost | E8: =SUM(E4:E7) -> 791826
A9: 4 | B9: Provision towards QC @ 0.5%. | E9: =ROUND(E8*0.5/100,0) -> 3959
A10: 5 | B10: Unforseen items | E10: =+E11-E8-E9 -> 4215
B11: Total Cost Estimation in lakhs | E11: 800000
A15: Administrative sanction Accorded by the Dist Collector,Mahabubnagar vide Procg No.
B17: Technically Sanctioned for Rs.20.00 Lakhs (Rupees Twenty Lakhs only) vide DR No. | M17: =2000000*3% -> 60000
B26: //Authenticated//

Sheet Specification
A1: SPECIFICATION REPORT
B2: ='Lead- Input sheet '!A2 -> Construction of Anganwadi Building at Jeedipally Thanda (V) of Kalwakurthy (M) of Nagarkurnool District
B3: PRSD | C3: ='input sheet'!C8 -> Kalwakurthy | E3: Estimate Cost Rs(Lakhs).: | F3: 8
B4: MPP: | C4: ='input sheet'!C7 -> Kalwakurthy | D4: G.P | E4: Jeediapally Thanda
B6: The above said work has been Administratively sanctioned by the Collector and District Magistrate , Nagarkurnool District vide proc No. D15/IT/MGNREGS/Gp and Anganwadi buildings/2025-26, Dated:28.05.2025
B8: The proposed work is covering Anganwadi Building Centre with Class room(4.27 mx6.06m) ,Nutrition room(3.66mx2.13m), Kitchen room(2.33mx2.13m), store room (1.22mx2.13m)and varandah(3.66x1.52m). The sanctioned amount of 8.00 lakhs (MGNREGS) is covering up to roof slab and brick work and door frames. The balance work of items like wood work, plastering, painting,flooring,electricty, and sanitory items will be completed in further available grants.
B10: The Estimate has been made with the Following Provisions
A12: 1 | B12: ='Est 02.03.23'!B8:I8 -> Earthwork in excavation for structures as per drawing and technical specifications Clause 305.1 including setting out, construction of shoring and bracing, removal of stumps and other deleterious material and disposal upto a lead of 50 m, dressing of sides and bottom and backfilling in trenches with excavated suitable material as per Technical Specification 305 MORD / 304 MORTH
A13: 2 | B13: ='Est 02.03.23'!B20:I20 -> Plain Cement concrete (1:4:8) using 40 mm metal with concrete mixture.All work upto plinth level. nominal mix (cement: fine aggregate: Coarse aggregate) using 40mm size HBG (SS5) metal from approved quarry including cost and conveyance of all materials like cement, sand, coarse aggregate, water etc. to site, including seigniorage charges, Countryes & other taxes on all materials, all operational, incidental, and labor charges such as mixing, laying and ramming concrete in layers in position not exceeding 15cm, finishing top surface, curing concrete, etc., complete for finished item of work for Foundations and Flooring Bed (APSS No. 402)
A14: 3 | B14: ='Est 02.03.23'!B41:I41 -> RR Masonry in CM (1:6) Cement: Sand) using hard granite stones from approved quarry including cost and conveyance of all materials like Granite stones, cement, sand, water, etc., to site including seigniorage charges, Countryes & other taxes on all materials, all operational, incidental, and labor charges such as cutting stones to required size and shape, mixing of cement mortar, constructing masonry, curing etc., complete for finished item of work for foundation and basement (APSS No. 601 & 615)
A15: 4 | B15: ='Est 02.03.23'!B58:I58 -> RCC M- 20 Nominal mix (Cement:fine aggregate: coarse aggregate) corresponding to Table 9 of IS 456 using 20mm size graded machine crushed hard granite metal (coarse aggregate) from approved quarry including cost and conveyance of all materials like cement, Sand of Concrete coarse aggregate, water etc., to site and including sales & other taxes on all materials including all operational, incidental and labour charges such as machine mixing, laying concrete, curing etc.,complete but excluding cost of steel and its fabrication charges for finished item of work, but excluding centering, shuttering.
A16: 5 | B16: ='Est 02.03.23'!B121:I121 -> PCC M- 20 Nominal mix (Cement:fine aggregate: coarse aggregate) corresponding to Table 9 of IS 456 using 20mm size graded machine crushed hard granite metal (coarse aggregate) from approved quarry including cost and conveyance of all materials like cement, fine aggregate (sand) coarse aggregate, water etc., to site and including Seigniorage charges, sales & other taxes on all materials including all operational, incidental and labour charges such as machine mixing, laying concrete, curing etc.,complete but excluding cost of steel and its fabrication charges for finished item of work, but excluding centering, shuttering.
A17: 6 | B17: ='Est 02.03.23'!B127:I127 -> Plain Cement concrete - Nominal Mix (1:3:6) for Bed Blocks
A18: 7 | B18: ='Est 02.03.23'!B132:I132 -> Providing impervious coat to exposed RCC roof slab surface with CM(1:3), 20mm thick with 1kg of water proof compound per bag of cement laid over roof when it is green including cost of all materials, seigniorage charges, excluding conveyance charges of materials and including all operational, incidental and labour charges for mixing mortar, laying, rendering smooth and thread lining, curing, rounding off junctions of wall and slab etc,, complete for finished item of work
A19: 8 | B19: ='Est 02.03.23'!B138:I138 -> BLD-CSTN-2-9 (17) : Filling with useful available excavated earth (excluding rock) in trenches, sides of foundations and basement with initial lead in layers not exceeding 15 cm thick, consolidating each deposited layer by watering and ramming including cost and conveyance of water to work site and all operational, incidental, labour charges, hire charges of T & P etc., complete for finished item of work. (APSS NO. 309 & 310) (Rate as per RSSR 2021-22 S.No. 18)
A20: 9 | B20: ='Est 02.03.23'!B147:I147 -> Filling with selected earth(excluding rock) in trenches, sides of foundations and basement with initial lead in layers not exceeding 15 cm thick, consolidating each deposited layer by watering and ramming including cost and conveyance of water to work site and all operational, incidental, labour charges, hire charges of T & P etc., complete for finished item of work. (APSS NO. 309 & 310)
A21: 10 | B21: ='Est 02.03.23'!B157:I157 -> Brick masonry 230 mm thick for panel walls in superstructure with CM (1:6) proportion using II nd class country bricks of size 23x11x7 cm from approved source having crushing strength not less than 35kg/sqcm including cost and conveyance of all materials like cement ,sand ,bricks, water etc., to site , including seignorage charges ,sales and other taxes on all materials and all operational ,incidental and labour charges such as mixing cement mortar, curing scafolding charges, constructing masonary,lift charges,curing etc., complete for finished item of work
A22: 11 | B22: ='Est 02.03.23'!B196:I196 -> Reinforced Brick Masonary walls of 11.5cm in CM(1:4) using second class traditional size bricks and using two mild steel bars of 6m dia in every third layer of brick masory, with free joints of the main block work including cost and seignorage charges and conveyance of all materials and water from approved sources to work site and all operational, incidental, labour charges such as scaffolding mixing mortor constructing masonary lift charges, curing etc. complete but excluding the cost of steel and its fabrication charges for finished item of work as per SS 509
A23: 12 | B23: ='Est 02.03.23'!B208:I208 -> Providing High Yield Strength Deformed (HYSD)/ Thermo Mechanically Treated (TMT) / Mild steel (MS) steel bars (Fe 415/ Fe 500 grade as per IS 1786-1979) of different diameters for RCC works , including labour charges for straightening, cutting, bending to required sizes and shapes, placing in position with cover blocks of approved materials and size and tying and lap-splicing with binding wire of 18 SWG, forming grills for reinforcement work as per approved designs and drawings, including cost and conveyance of steel bars, including all wastages such as overlaps, couplings, chairs, spacer bars including cost and conveyance of binding wire, cover blocks and all incidental, operational, labour charges such as cutting, bending, placing in position, tying including sales and other taxes on all materials etc., complete for finished item of work in all floors.( APSS No.126)
A24: 13 | B24: ='Est 02.03.23'!B215:I215 -> Ornamental Plastering 12mm thick in two coats with base coat of 8mm thick in CM (1:5) and top coat of 4mm thick in CM (1:3) dubara sponge finish including cost and conveyance of all materials like cement, sand, water etc., to site, seigniorage charges, sales & other taxes on all materials,all operational, incidental and labour charges such as mixing mortar, scaffolding charges, lift charges, including cutting of Grooves wherever necessary as directed by Engineer - in - charge, finishing, curing, etc., complete for Even Surfaces of Wall for finished item of work. (APSS 901,903 & 904)
A25: 14 | B25: ='Est 02.03.23'!B232:I232 -> Plastering 12mm thick double coat in CM (1:5) 8 mm thick base coat and CM (1:3) of 4mm thick top coat with dubara sponge finish including c/c of all materials like cement, sand,water etc., to site, other taxes on all materials, all operational, incidental such as scaffolding charges, lift charges, including cutting of Grooves,finishing, curing, etc., complete for for finished item of work. (APSS 1001,1003 & 1004) (CSSR) Internal Walls
A26: 15 | B26: ='Est 02.03.23'!B290:I290 -> Flooring with vitrified tiles of 1st quality, set over base coat of cement mortar (1:8), 12 mm thick over CC bed already laid or RCC roof slab, including neat cement slurry of honey like consistency spread @ 3.3.kgs per sqm & jointed neatly with white cement paste to full depth mixed with pigment of matching shade, including cost of all materials like cement, sand water and tiles etc., complete, including seigniorage charges, etc., complete for finished item of work, but excluding the cost of conveyance of all materials.Makes:Kajaria,RAK,Jhanaran,Bell
A27: 16 | B27: ='Est 02.03.23'!B298:I298 -> Providing skirting to internal walls to 15 cmheight/risers of steps with vitrified tiles length equal to flooring stones, set over base coat of CM (1:5) 12 mm thick with cement slurry of honey like consistency spread at the rate of 3.30 kgs per sqm and jointed with white cement paste mixed with pigment of matching shade to full depth, including cost of all materials like tiles, cement, sand and water etc., complete including seigniorage charges, etc., complete for finished item of work like Kajaria,RAK,Jhanran
A28: 17 | B28: ='Est 02.03.23'!B308:I308 -> Flooring with ceramic tiles, set over base coat of cement mortar (1:8), 12 mm thick over CC bed already laid or RCC roof slab, including neat cement slurry of honey like consistency spread @ 3.3.kgs per sqm & jointed neatly with white cement paste to full depth mixed with pigment of matching shade, including cost of all materials like cement, sand water and tiles etc., complete, including seigniorage charges, etc., complete for finished item of work, but excluding the cost of conveyance of all materials.
A29: 18 | B29: ='Est 02.03.23'!B313:I313 -> Providing dadooing to walls with glazed full body ceramic tiles of any size and thickness between 5 to 7mm 1st quality conforming to IS: 13711, IS: 13712, IS: 13630(Parts 1 to 15) of any colour and finish in all shades and designs with borders as approved by Engineer-in-Charge set over base coat of CM(1:5) 12 mm thick using screened sand with cement slurry of honey like consistency spread at the rate of 3.30 kgs per sqm and jointing with white cement paste mixed with pigment of matching shade to full depth, including cost of all materials like tiles, cement, sand and water etc., and overheads & contractors profit complete for finished item of work.
A30: 19 | B30: ='Est 02.03.23'!B320:I320 -> Supply and fixing of Medium Teak Wood Door frame double shutter fully panelled door of size 1.20 x 2.10 M with frame made of well seasoned MediumTeak Wood scantlings of size 100 x 75 mm and shutter made of side rails 100mm X 32mm, top rail 100 mm X32 mm, bottom rail 100mmX 32 mm and intermediate rails of 100mm x 32 mm and planks s - 5 no's of 25mm thick as per approved design with fixtures of 6 nos of 9" ' z" holdfasts, 300 mm long MS Iron coted aldrop-1 no, 125mm long MS iron butt hinges 6 No's, Door stoppers-2 no, 150mm long MS coated Tower bolts 3- no's MS iron coated fancy handles 150 mm -2nos with necessary screws complete including cost and conveyance of all materials and labour charges etc. complete as per specifications (APSS NO.1001 & 1002) including side windows of 0.45m wide with full height on both sides
A31: 20 | B31: ='Est 02.03.23'!B324:I324 -> Supply and fixing of Sal wood Door double shutter fully panelled door of size 1.20 x 2.1mt with frame made of well seasoned Sal Wood scantlings of size 100 x 75mm and shutter made ofmedium teak wood side rails 100mm X 32mm, top rail 100 mmX32 mm, bottom rail 100mmX 32 mm and intermediate rails of 100mm x 32 mm and planks s - 5 no's of 25mm thick as per approved design with fixtures of 6 nos of 9" ' z" holdfasts, 300 mm long MS Iron coted aldrop-1 no, 125mm long MS iron butt hinges 6 No's, Door stoppers-2 no, 150mm long MS coated Tower bolts 3- no's MS iron coated fancy handles 150 mm -2nos with necessary screws complete including cost and conveyance of all materials and labour charges etc. complete as per specifications (APSS NO.1001 & 1002)
A32: 21 | B32: ='Est 02.03.23'!B327:I327 -> Supply and fixing of Salwood Door double shutter fully panelled door of size 0.90 x 2.1mt with frame made of well seasoned Sal Wood scantlings of size 75 x 100 mm and shutter made of side rails 100mm X 32mm, top rail 100 mmX32 mm, bottom rail 100mmX 32 mm and intermediate rails of 100mm x 32 mm and planks s - 5 no's of 25mm thick as per approved design with fixtures of 6 nos of 9" ' z" holdfasts, 300 mm long MS Iron coted aldrop-1 no, 125mm long MS iron butt hinges 6 No's, Door stoppers-2 no, 150mm long MS coated Tower bolts 3- no's MS iron coated fancy handles 150 mm -2nos with necessary screws complete including cost and conveyance of all materials and labour charges etc. complete as per specifications (APSS NO.1001 & 1002)
A33: 22 | B33: ='Est 02.03.23'!B331:I331 -> Providing and fixing factory made solid Wood Polymer Composite (WPC) single extruded Door Frame section of 100*65 MM with encapsulation of 6 MM rigid layer on all external surfaces. The door frame will have a rebate of 32MM/ 37 MM. The two Vertical members are to be joined together with the horizontal member using 8x75 MM long MS Star full thread screws to be used with reverse forward speed control hand drilling machine.
