Workbook
Name ___________________________________________________________________________________can430: 40.73
Name ___________________________________________________________________________________can435: 43.3
Name __________________________________________________________________________________can430: 40.73
Name __________________________________________________________________________________can435: 43.3
Name _________________________________________________________________________________can430: 40.73
Name _________________________________________________________________________________can435: 43.3
Name ________________________________________________________________________________can430: 40.73
Name ________________________________________________________________________________can435: 43.3
Name _______________________________________________________________________________can430: 40.73
Name _______________________________________________________________________________can435: 43.3
Name ______________________________________________________________________________can430: 40.73
Name ______________________________________________________________________________can435: 43.3

Sheet Inputsheet
A1: Habitation | B1: Bijwar | D1: Name of the work | E1: Construction of Kitchen shed at ZPHS Bijwar(V) of Utkoor(M)
A2: G.P | B2: =B1 -> Bijwar
A3: Mandal | B3: Utkoor | D3: LS | E3: ='kitchen shed'!K146 -> 18645
A4: Admn. Sanction Number | B4: 1
A5: Admn. Sanction Date | B5: 44672
A6: TS Number | B6: 76
A7: TS Date | B7: 44672
A8: Priority | B8: =B6 -> 76
A9: Estd. Cost | B9: 3.4
A10: Average no. of labours | B10: 4
A11: Total Area under taken for construction(sq feet)
A13: Sand | B13: Sangambanda | C13: 29
A14: Metal | B14: Gudeballur | C14: 38
A15: Bricks | B15: Makthal | C15: 23
A16: Shabadstone | B16: MBNR | C16: 80

Sheet Cover
B4: Government of Telangana Panchayat Raj Engineering Department
B7: DETAILED ESTIMATE
B9: =LEAD!A2 -> Construction of Kitchen shed at ZPHS Bijwar(V) of Utkoor(M)
B16: ESTIMATE COST : | E16: Rs | F16: 3.4 | G16: Lakhs

Sheet ABS
A1: COMPONENT - IX
A2: ='kitchen shed'!B2 -> Construction of Kitchen shed at ZPHS Bijwar(V) of Utkoor(M)
A3: Sl. No | B3: Name of Component | D3: Amount in Rs.
A5: 1 | B5: Kitechen Shed in Govt. School | D5: ='kitchen shed'!K144 -> 319756
B6: Sub Total >>> | D6: =SUM(D5:D5) -> 319756
A7: 2 | B7: ELECTICAL PLUMBING and cleaning arrangements | D7: 20000
A8: 3 | B8: Add L.S for unforeseen item of work and Provision for fluctuation of rates | D8: 6352
B9: Grand Total of Civil Works >>> (in Rs.) | D9: =SUM(D6:D8) -> 346108 | E9: =360000-D9 -> 13892 | F9: =+E9+D8 -> 20244
B10: Or say (Rupees in Lakhs) | D10: =ROUND(D9/100000,2) -> 3.46

Sheet kitchen shed
A1: Detailed Estimate
B2: =LEAD!A2 -> Construction of Kitchen shed at ZPHS Bijwar(V) of Utkoor(M)
C3: No's
A4: S.no | B4: Description | E4: L | F4: B | G4: H | H4: Qty | I4: Units | J4: Rate | K4: Amt
A5: 1 | B5: Earth work excavation and depositing on bank (manual means) with initial lead of 10m and initial lift of 3m in Loamy & Clayey Soils like BC Soils, Red Earth & Ordinary Gravelly Soils ( SS 20-B) including all operational incidental labour charges such as shoring, strutting, sheeting, planking and dewatering including cost of hire charges of T & P, labour charges etc., complete for finished item of work excluding seignerage charges and dewatering charges etc., complete for Foundation of Building.(APSS No. 308)
B6: store room l/w | C6: 1 | D6: 2 | E6: 4.1 | F6: 0.6 | G6: 0.6 | H6: =PRODUCT(C6:G6) -> 2.952 | O6: =4.35-0.6*2 -> 3.15
B7: store room c/w | C7: 1 | D7: 2 | E7: 2.38 | F7: 0.6 | G7: 0.6 | H7: =PRODUCT(C7:G7) -> 1.7136
B8: kitchen l/w | C8: 1 | D8: 1 | E8: 4.1 | F8: 0.6 | G8: 0.6 | H8: =PRODUCT(C8:G8) -> 1.476
B9: kitchen c/w | C9: 1 | D9: 2 | E9: 2 | F9: 0.6 | G9: 0.6 | H9: =PRODUCT(C9:G9) -> 1.44
B10: As per Rural SSR Rates as GO Rt.No119 dt 29.04.2022 | H10: =SUM(H6:H9) -> 7.5816 | I10: Cum | J10: 257 | K10: =ROUND(J10*H10,0) -> 1948
A11: 2 | B11: Plain Cement Concrete corresponding to M5 grade as per IS 456 equivalent to (1:5:10) proportion nominal mix (cement: fine aggregate: Coarse aggregate) using,40mm size Hard Blasted Granite (IS383, 1970) metal from approved quarry including cost and conveyance of all materials like cement, sand, coarse aggregate, water etc. to site, including sales & other taxes on all materials, all operational, incidental, and labour charges such as mixing, laying and ramming concrete in layers in position not exceeding 15cm, finishing top surface, curing concrete, etc., complete but excluding seigniorage chargesfor finished item of work for Foundations and Flooring Bed (APSS No. 402)
B12: store room | C12: 1 | D12: 2 | E12: 4.1 | F12: 0.6 | G12: 0.15 | H12: =PRODUCT((C12:G12)) -> 0.738
B13: store room c/w | C13: 1 | D13: 2 | E13: 2.38 | F13: 0.6 | G13: 0.15 | H13: =PRODUCT((C13:G13)) -> 0.4284
B14: kitchen l/w | C14: 1 | D14: 2 | E14: 4.1 | F14: 0.6 | G14: 0.15 | H14: =PRODUCT((C14:G14)) -> 0.738
B15: kitchen c/w | C15: 1 | D15: 2 | E15: 2 | F15: 0.6 | G15: 0.15 | H15: =PRODUCT((C15:G15)) -> 0.36
H16: =SUM(H12:H15) -> 2.2644
B17: store room | C17: 1 | D17: 1 | E17: 3.65 | F17: 1.8 | G17: 0.15 | H17: =PRODUCT((C17:G17)) -> 0.9855
B18: kitchen | C18: 1 | D18: 1 | E18: 3.65 | F18: 1.8 | G18: 0.15 | H18: =PRODUCT((C18:G18)) -> 0.9855
H19: =SUM(H17:H18) -> 1.971
H20: =H19+H16 -> 4.2354 | I20: Cum | J20: ='C-data'!I276 -> 3537.3 | K20: =ROUND(J20*H20,0) -> 14982
A21: 3 | B21: Random Rubble stone masonry, in CM (1:8) prop: (Cement: Sand) using Hard blasted Granite stones from approved quarry including cost and conveyance of all materials like Granite stones, cement, sand, water, etc., to site sales & other taxes on all materials, all operational, incidental, and labour charges such as cutting stones to required size and shape, mixing of cement mortar, constructing masonry, curing etc., complete but excluding seigniorage charges for finished item of work for foundation and basement (APSS No. 601 & 615)
B22: store room l/w | C22: 1 | D22: 2 | E22: 4.1 | F22: 0.45 | G22: 1.2 | H22: =PRODUCT((C22:G22)) -> 4.428
B23: store room c/w | C23: 1 | D23: 2 | E23: 1.8 | F23: 0.45 | G23: 1.2 | H23: =PRODUCT((C23:G23)) -> 1.944
B24: kitchen l/w | C24: 1 | D24: 2 | E24: 4.1 | F24: 0.45 | G24: 1.2 | H24: =PRODUCT((C24:G24)) -> 4.428
B25: kitchen c/w | C25: 1 | D25: 2 | E25: 1.8 | F25: 0.45 | G25: 1.2 | H25: =PRODUCT((C25:G25)) -> 1.944
H26: =SUM(H22:H25) -> 12.744 | I26: Cum | J26: ='C-data'!I395 -> 3227.5 | K26: =ROUND(J26*H26,0) -> 41131
A27: 4 | B27: Filling with Gravel in trenches, sides of foundations and basement with initial lead in layers not exceeding 15cm thick, consolidating each deposited layer by watering and ramming including cost and conveyence of water to the work site and all operational, incidental, labour charges, hire charges of T & P etc., completebut but excluding seignorage charges, for finished item of work. (APSS NO. 309 & 310)
B28: store room | C28: 1 | D28: 1 | E28: 3.65 | F28: 1.8 | G28: 0.6 | H28: =PRODUCT((C28:G28)) -> 3.942
B29: kitchen | C29: 1 | D29: 1 | E29: 3.65 | F29: 1.8 | G29: 0.6 | H29: =PRODUCT((C29:G29)) -> 3.942
H30: =SUM(H28:H29) -> 7.884 | I30: Cum | J30: ='C-data'!I255 -> 227.15 | K30: =ROUND(J30*H30,0) -> 1791
A31: 5 | B31: Brick Masonry in superstructure with CM (1:8) prop: using second class bricks from approved source having minimum crushing strength of 40 Kg/Sqcm. including cost and conveyance of all materials like cement, sand, bricks, water etc., to site, including sales & other taxes on all materials, all operational, incidental and labour charges such as mixing cement mortar, constructing masonry, scaffolding charges, lift charges, curing, etc., complete but excluding seigniorage charges for finished item of work. (APSS No. 501 & 504).
B32: store room l/w | C32: 1 | D32: 2 | E32: 4.1 | F32: 0.23 | G32: 2.8 | H32: =PRODUCT((C32:G32)) -> 5.2808
B33: store room c/w | C33: 1 | D33: 2 | E33: 2 | F33: 0.23 | G33: 2.8 | H33: =PRODUCT((C33:G33)) -> 2.576
B34: kitchen l/w | C34: 1 | D34: 1 | E34: 4.1 | F34: 0.23 | G34: 1 | H34: =PRODUCT((C34:G34)) -> 0.943
B35: kitchen C/w | C35: 1 | D35: 2 | E35: 2 | F35: 0.23 | G35: 2.8 | H35: =PRODUCT((C35:G35)) -> 2.576
B36: kitchen C/w | C36: 1 | D36: 1 | E36: 2 | F36: 0.23 | G36: 1 | H36: =PRODUCT((C36:G36)) -> 0.46
B37: steps | C37: 1 | D37: 1 | E37: 1.7 | F37: 0.9 | G37: 0.23 | H37: =PRODUCT((C37:G37)) -> 0.3519
B38: steps | C38: 1 | D38: 1 | E38: 1.7 | F38: 0.6 | G38: 0.15 | H38: =PRODUCT((C38:G38)) -> 0.153
B39: steps | C39: 1 | D39: 1 | E39: 1.7 | F39: 0.3 | G39: 0.15 | H39: =PRODUCT((C39:G39)) -> 0.0765
B40: dedutions
...

Sheet LEAD
A1: LEAD CHART
A2: =Inputsheet!E1 -> Construction of Kitchen shed at ZPHS Bijwar(V) of Utkoor(M)
A3: RATES AS PER COMMON SSR OF 2021-22 with cement and steel rates of March 2022
A4: . | B4: Description | C4: SSR Sl.No. | D4: Avg. Thickness in mm | E4: Source of Material | F4: Lead in KM | I4: Convence Charges | J4: Initial Cost including Stacking Charges wherever necesssary | K4: Add Differenc in Seignio- rage Charges | L4: 1% towards storage | M4: Loading charges | N4: unloading charges | O4: =CONCATENATE("Area allowence on loading & unloading charges @ ",'C-data'!E5*100," %") -> Area allowence on loading & unloading charges @ 0 % | P4: Total | Q4: Unit per
F5: MR | G5: CT | H5: Total
A6: 1 | B6: =A6+1 -> 2 | C6: =B6+1 -> 3 | D6: =C6+1 -> 4 | E6: =D6+1 -> 5 | F6: =E6+1 -> 6 | G6: =F6+1 -> 7 | H6: =G6+1 -> 8 | I6: =H6+1 -> 9 | ... Q6: =P6+1 -> 17
A7: 1 | B7: Sand for Concrete items | C7: M- 27 a | E7: =Inputsheet!B13 -> Sangambanda | F7: =Inputsheet!C13 -> 29 | G7: 0 | H7: =CEILING((F7+G7*1.1),1) -> 29 | I7: =VLOOKUP(H7,Conv!$C$3:$P$852,2) -> 437.12 | J7: 0 | K7: 0 | L7: 0 | M7: 0 | N7: 0 | O7: 0 | P7: =I7+J7+K7+L7+M7+N7+O7 -> 437.12 | Q7: Cum.
A8: 2 | B8: Sand for filling& blindage | C8: M-27 b | E8: Local | F8: 5 | G8: 0 | H8: =CEILING((F8+G8*1.1),1) -> 5 | I8: =VLOOKUP(H8,Conv!$C$3:$P$852,2) -> 94.88 | J8: 0 | K8: 0 | L8: 0 | M8: 0 | N8: 0 | O8: 0 | P8: =I8+J8+K8+L8+M8+N8+O8 -> 94.88 | Q8: Cum.
A9: =A8+1 -> 3 | B9: Sand for plastering works | C9: M-28 | E9: =E7 -> Sangambanda | F9: =F7 -> 29 | G9: 0 | H9: =CEILING((F9+G9*1.1),1) -> 29 | I9: =VLOOKUP(H9,Conv!$C$3:$P$852,2) -> 437.12 | J9: 0 | K9: 0 | L9: 0 | M9: 0 | N9: 0 | O9: 0 | P9: =I9+J9+K9+L9+M9+N9+O9 -> 437.12 | Q9: Cum.
A10: =A9+1 -> 4 | B10: Gravel | C10: M-89 | E10: Local | F10: 5 | G10: 0 | H10: =CEILING((F10+G10*1.1),1) -> 5 | I10: =VLOOKUP(H10,Conv!$C$3:$P$852,2) -> 94.88 | J10: 98 | K10: 0 | L10: 0 | M10: 0 | N10: 0 | O10: 0 | P10: =I10+J10+K10+L10+M10+N10+O10 -> 192.88 | Q10: Cum.
A11: =A10+1 -> 5 | B11: R.R. Stone(Granite, Dolamite & Trap variety) | C11: M- 22 g | E11: =Inputsheet!B14 -> Gudeballur | F11: =Inputsheet!C14 -> 38 | G11: 0 | H11: =CEILING((F11+G11*1.1),1) -> 38 | I11: =VLOOKUP(H11,Conv!$C$3:$P$852,3) -> 546.42 | J11: 239 | K11: 0 | L11: 0 | M11: 0 | N11: 0 | O11: 0 | P11: =I11+J11+K11+L11+M11+N11+O11 -> 785.42 | Q11: Cum.
A12: =A11+1 -> 6 | B12: C.R. Stone(Granite, Dolamite &Trap variety) | C12: M- 23 a | E12: =E11 -> Gudeballur | F12: =F11 -> 38 | G12: 0 | H12: =CEILING((F12+G12*1.1),1) -> 38 | I12: =VLOOKUP(H12,Conv!$C$3:$P$852,3) -> 546.42 | J12: 249 | K12: 0 | L12: 0 | M12: 0 | N12: 0 | O12: 0 | P12: =I12+J12+K12+L12+M12+N12+O12 -> 795.42 | Q12: Cum.
A13: =A12+1 -> 7 | B13: trough stones25 x25x45 to 60 cms | C13: M - 75 | E13: =E12 -> Gudeballur | F13: =F12 -> 38 | G13: 0 | H13: =CEILING((F13+G13*1.1),1) -> 38 | I13: =VLOOKUP(H13,Conv!$C$3:$P$852,3) -> 546.42 | J13: =V13 -> 1523.8095 | K13: 0 | L13: 0 | M13: 0 | N13: 0 | O13: 0 | P13: =I13+J13+K13+L13+M13+N13+O13 -> 2070.2295 | Q13: Cum. | R13: BASIC INPUT DATA FOR IRRIGATION WORK ITEMS s.no.76 | S13: =0.25*0.25*0.45 -> 0.028125 | T13: =0.25*0.25*0.6 -> 0.0375 | U13: =(S13+T13)/2 -> 0.0328125 | V13: =50/U13 -> 1523.8095
A14: =A13+1 -> 8 | B14: Bond stones20 x20x60 cms | C14: M - 75 | E14: =E13 -> Gudeballur | F14: =F13 -> 38 | G14: 0 | H14: =CEILING((F14+G14*1.1),1) -> 38 | I14: =VLOOKUP(H14,Conv!$C$3:$P$852,3) -> 546.42 | J14: =V14 -> 1208.3333 | K14: 0 | L14: 0 | M14: 0 | N14: 0 | O14: 0 | P14: =I14+J14+K14+L14+M14+N14+O14 -> 1754.7533 | Q14: Cum. | R14: BASIC INPUT DATA FOR IRRIGATION WORK ITEMS s.no.76 | S14: =0.2*0.2*0.6 -> 0.024 | T14: 0 | U14: =(S14+T14) -> 0.024 | V14: =29/U14 -> 1208.3333
A15: =+A14+1 -> 9 | B15: 40mm HBG Metal (IS383-1970) | C15: M- 33 f | E15: =E13 -> Gudeballur | F15: =F13 -> 38 | G15: 0 | H15: =CEILING((F15+G15*1.1),1) -> 38 | I15: =VLOOKUP(H15,Conv!$C$3:$P$852,3) -> 546.42 | J15: =(505*1.25)+70 -> 701.25 | K15: 0 | L15: 0 | M15: 0 | N15: 0 | O15: 0 | P15: =I15+J15+K15+L15+M15+N15+O15 -> 1247.67 | Q15: Cum.
A16: =A15+1 -> 10 | B16: 20mm M/c chips/Trap metal (IS383-1970) | C16: M- 33 d | E16: =E15 -> Gudeballur | F16: =F15 -> 38 | G16: 0 | H16: =CEILING((F16+G16*1.1),1) -> 38 | I16: =VLOOKUP(H16,Conv!$C$3:$P$852,3) -> 546.42 | J16: =(870*1.25)+70 -> 1157.5 | K16: 0 | L16: 0 | M16: 0 | N16: 0 | O16: 0 | P16: =I16+J16+K16+L16+M16+N16+O16 -> 1703.92 | Q16: Cum.
A17: =A16+1 -> 11 | B17: 12 mm M/c chips /Trap metal (IS383-1970) | C17: M- 33 c | E17: =E16 -> Gudeballur | F17: =F16 -> 38 | G17: 0 | H17: =CEILING((F17+G17*1.1),1) -> 38 | I17: =VLOOKUP(H17,Conv!$C$3:$P$852,3) -> 546.42 | J17: =(781*1.25)+70 -> 1046.25 | K17: 0 | L17: 0 | M17: 0 | N17: 0 | O17: 0 | P17: =I17+J17+K17+L17+M17+N17+O17 -> 1592.67 | Q17: Cum.
A18: =A17+1 -> 12 | B18: 10mm M/c chips /Trap metal (IS383-1970) | C18: M- 33 b | E18: =E17 -> Gudeballur | F18: =F17 -> 38 | G18: 0 | H18: =CEILING((F18+G18*1.1),1) -> 38 | I18: =VLOOKUP(H18,Conv!$C$3:$P$852,3) -> 546.42 | J18: =(657*1.25)+70 -> 891.25 | K18: 0 | L18: 0 | M18: 0 | N18: 0 | O18: 0 | P18: =I18+J18+K18+L18+M18+N18+O18 -> 1437.67 | Q18: Cum.
A19: =A18+1 -> 13 | B19: 6mm M/c chips/Trap metal (IS383-1970) | C19: M- 33 a | E19: =E18 -> Gudeballur | F19: =F18 -> 38 | G19: 0 | H19: =CEILING((F19+G19*1.1),1) -> 38 | I19: =VLOOKUP(H19,Conv!$C$3:$P$852,3) -> 546.42 | J19: =(505*1.25)+70 -> 701.25 | K19: 0 | L19: 0 | M19: 0 | N19: 0 | O19: 0 | P19: =I19+J19+K19+L19+M19+N19+O19 -> 1247.67 | Q19: Cum.
A20: =A19+1 -> 14 | B20: 2nd Class Bricks of size 23x11x7cm | C20: TBSC-A.I-01 | E20: =Inputsheet!B15 -> Makthal | F20: 5 | G20: 0 | H20: =Inputsheet!C15 -> 23 | I20: =VLOOKUP(H20,Conv!$C$3:$P$852,7) -> 564.2 | J20: 7000 | K20: 0 | L20: 0 | M20: 0 | N20: ='Basic Data'!AG31 -> 63.81 | O20: =N20*'C-data'!E5 -> 0 | P20: =I20+J20+K20+L20+M20+N20+O20 -> 7628.01 | Q20: 1000 Nos
A21: =A20+1 -> 15 | B21: Fly Ash Bricks of size 290 x100 x140 mm with compressive strength of 50 Kg /sq.cm | C21: TBSC-A.II-11 | E21: =Inputsheet!B15 -> Makthal | F21: =Inputsheet!C15 -> 23 | G21: 0 | H21: =CEILING((F21+G21*1.1),1) -> 23 | I21: =VLOOKUP(H21,Conv!$C$3:$P$852,7)*D21 -> 0 | J21: 12000 | K21: 0 | L21: 0 | M21: 0 | N21: ='Basic Data'!AG32*D21 -> 0 | O21: =N21*'C-data'!E5 -> 0 | P21: =I21+J21+K21+L21+M21+N21+O21 -> 12000 | Q21: 1000 Nos
A22: =A21+1 -> 16 | B22: Fly Ash Bricks of size 290 x225 x 140 mm with compressive strength of 50 Kg/sq .cm | C22: TBSC-A.II-08 | E22: =E21 -> Makthal | F22: 20 | G22: 0 | H22: =H20 -> 23 | I22: =VLOOKUP(H22,Conv!$C$3:$P$852,7)*D22 -> 0 | J22: 27000 | K22: 0 | L22: 0 | M22: 0 | N22: ='Basic Data'!AG31*D22 -> 0 | O22: =N22*'C-data'!E5 -> 0 | P22: =I22+J22+K22+L22+M22+N22+O22 -> 27000 | Q22: 1000 Nos
A23: =A22+1 -> 17 | B23: Polished Shabad/Tandur blue Slabas 15 to 18 mm thick (0.457M x 0.457M) | C23: TBSC-B.I-03 | D23: =VLOOKUP($B23,$B$59:$P$60,3,0) -> 16.5 | E23: =Inputsheet!B16 -> MBNR | F23: 80 | G23: 0 | H23: =Inputsheet!C16 -> 80 | I23: =VLOOKUP(H23,Conv!$C$3:$P$852,5)*D23/1000 -> 25.32354 | J23: 173 | K23: =VLOOKUP($B23,$B$59:$P$60,10,0) -> 0 | L23: 0 | M23: 0 | N23: ='Basic Data'!AD32*LEAD!D23/1000 -> 0.382635 | O23: =N23*'C-data'!E5 -> 0 | P23: =I23+J23+K23+L23+M23+N23+O23 -> 198.70618 | Q23: 1Sqm.
A24: =A23+1 -> 18 | B24: Rough shabad / Tandur Stone slabs of minimum25 to 40 mm thick (0.457 x 457M) | C24: TBSC-B.I-02 | D24: =VLOOKUP($B24,$B$64:$P$65,3,0) -> 32.5 | E24: =E23 -> MBNR | F24: 80 | G24: 0 | H24: =H23 -> 80 | I24: =VLOOKUP(H24,Conv!$C$3:$P$852,5)*D24/1000 -> 49.8797 | J24: 130 | K24: =VLOOKUP($B24,$B$64:$P$65,10,0) -> 0 | L24: 0 | M24: 0 | N24: ='Basic Data'!AD32*LEAD!D24/1000 -> 0.753675 | O24: =N24*'C-data'!E5 -> 0 | P24: =I24+J24+K24+L24+M24+N24+O24 -> 180.63338 | Q24: 1Sqm.
A25: =A24+1 -> 19 | B25: ='C-data'!C142 -> Polished Marble Slabs of any variety 16 to 20 mm thick (size 0.457 x 0.457 M / 0.6 x 0.6 M) | C25: TBSC-B.II-03 | D25: 18 | E25: =E24 -> MBNR | F25: =F24 -> 80 | G25: 0 | H25: =H23 -> 80 | I25: 0 | J25: 953 | K25: 0 | L25: 0 | M25: 0 | N25: ='Basic Data'!AD32*LEAD!D25/1000 -> 0.41742 | O25: =N25*'C-data'!E5 -> 0 | P25: =I25+J25+K25+L25+M25+N25+O25 -> 953.41742 | Q25: 1Sqm.
A26: =A25+1 -> 20 | B26: ='C-data'!C144 -> High polished Granite 16 to 18 mm thick up to 8' 00" (2.43M) black | C26: TBSC-B.III-03 | D26: 17 | E26: =E25 -> MBNR | F26: =F25 -> 80 | G26: 0 | H26: =H24 -> 80 | I26: =VLOOKUP(H26,Conv!$C$3:$P$852,5)*D26/1000 -> 26.09092 | J26: 2419 | K26: 0 | M26: 0 | N26: ='Basic Data'!AD32*LEAD!D26/1000 -> 0.39423 | O26: =N26*'C-data'!E5 -> 0 | P26: =I26+J26+K26+L26+M26+N26+O26 -> 2445.4851 | Q26: 1Sqm.
A27: =A26+1 -> 21 | B27: water | C27: M- 276 | E27: Local | F27: 0.5 | G27: 0 | H27: 0.5 | I27: 0 | J27: 73 | P27: =I27+J27+K27+L27+M27+N27+O27 -> 73 | Q27: KL
A28: =A27+1 -> 22 | B28: Cement | C28: CSSR-A.05 | E28: Local | F28: 0 | G28: 0 | H28: =CEILING((F28+G28*1.1),1) -> 0 | I28: 0 | J28: 5600 | K28: 0 | L28: =J28*0% -> 0 | M28: 0 | N28: 0 | O28: 0 | P28: =(I28+J28+K28+L28+M28+N28+O28)*1.28 -> 7168 | Q28: M.T | R28: AS ON 29.04.2022
A29: =A28+1 -> 23 | B29: Mild Steel Bars (Fe 250) for 6mm | E29: At Site | F29: 0 | G29: 0 | H29: =CEILING((F29+G29*1.1),1) -> 0 | I29: 0 | J29: 65000 | K29: 0 | L29: 0 | M29: 0 | N29: 0 | O29: 0 | P29: =(I29+J29+K29+L29+M29+N29+O29)*1.18 -> 76700 | Q29: M.T
A30: =A29+1 -> 24 | B30: High Yield Strength Deformed Bars (Fe 500) for 8mm to 40mm dia (TATA, SAIL, VSP,JSW & Shyam Steel) | E30: At Site | F30: 0 | G30: 0 | H30: =CEILING((F30+G30*1.1),1) -> 0 | I30: 0 | J30: 71000 | K30: 0 | L30: 0 | M30: 0 | N30: 0 | O30: 0 | P30: =(I30+J30+K30+L30+M30+N30+O30)*1.18 -> 83780 | Q30: M.T
A31: =A30+1 -> 25 | B31: Mild Steel, Structural steel, I,e, Angles, Channels & I-Sections | E31: At Site | F31: 0 | G31: 0 | H31: =CEILING((F31+G31*1.1),1) -> 0 | I31: 0 | J31: 63000 | K31: 0 | L31: 0 | M31: 0 | N31: 0 | O31: 0 | P31: =(I31+J31+K31+L31+M31+N31+O31)*1.18 -> 74340 | Q31: M.T
A32: =A31+1 -> 26 | B32: M.S. Plates | E32: At Site | F32: 0 | G32: 0 | H32: =CEILING((F32+G32*1.1),1) -> 0 | I32: 0 | J32: 77000 | K32: 0 | L32: 0 | M32: 0 | N32: 0 | O32: 0 | P32: =(I32+J32+K32+L32+M32+N32+O32)*1.18 -> 90860 | Q32: M.T
B33: CERTIFICATES:-
A34: 1 | B34: Certified that the above leads are true and correct to the best of my knowledge
A35: 2 | B35: Certified that the quarry requries blasting for RR, CRS, 6mm, 10mm, 12mm, 20mm & 40mm Metal
A36: 3 | B36: Certified that the 20mm, 12mm, 10mm, 6mm Metal requires Machine Crushing
B41: Asst Engineer | D41: Dy. Executive Engineer
B42: PR MP Utkoor | D42: PR SD Makthal
G44: Edit only Entries in RED Font
G45: Village : | H45: ZAHEERABAD | O45: phase :1 | P45: Ground floor | Q45: First floor
...

Sheet c-data 2
A1: DATA
A2: =+LEAD!A2:Q2 -> Construction of Kitchen shed at ZPHS Bijwar(V) of Utkoor(M)
C3: Overheads | D3: 0
A4: COMMON STANDARD SCHEDULE OF RATES FOR THE YEAR 2020-21
E5: 0.2 | F5: AGENCY / MUNICIPAL / LALI ALLOWANCE
A7: LABOUR CHARGES
A8: Sl.No | C8: Description | D8: SSR Sl.No. | E8: Initial Rate | F8: Final Rate | G8: Unit
A9: 1 | C9: 1st class mason | D9: I-11 | E9: 520 | F9: =E9+(E9*$E$5) -> 624 | G9: per | H9: day
A10: =A9+1 -> 2 | C10: 2nd class mason | D10: II-35 | E10: 490 | F10: =E10+(E10*$E$5) -> 588 | G10: per | H10: day
A11: 3 | C11: 1st class Brick Layer | D11: I-11 | E11: 520 | F11: =E11+(E11*$E$5) -> 624 | G11: per | H11: day
A12: 4 | C12: 2nd class Brick layer | D12: II-35 | E12: 490 | F12: =E12+(E12*$E$5) -> 588 | G12: per | H12: day
A13: 5 | C13: Blacksmith | D13: I-2 | E13: 515 | F13: =E13+(E13*$E$5) -> 618 | G13: per | H13: day
A14: 6 | C14: Plumber 1st Class-I.36 | D14: I-45 | E14: 605 | F14: =E14+(E14*$E$5) -> 726 | G14: per | H14: Each
A15: 7 | C15: Plumber 2nd class-II.9 | D15: II-42 | E15: 490 | F15: =E15+(E15*$E$5) -> 588 | G15: per | H15: Each
A16: 8 | C16: 1st class carpenter | D16: I-4 | E16: 615 | F16: =E16+(E16*$E$5) -> 738 | G16: per | H16: day
A17: 9 | C17: mate | D17: I-10 | E17: 465 | F17: =E17+(E17*$E$5) -> 558 | G17: per | H17: day
A18: 10 | C18: 2nd class carpenter | D18: II-04 | E18: 490 | F18: =E18+(E18*$E$5) -> 588 | G18: per | H18: day
A19: 11 | C19: 1st class Painter | D19: I-35 | E19: 595 | F19: =E19+(E19*$E$5) -> 714 | G19: per | H19: day
A20: 12 | C20: 2nd class Painter | D20: II-37 | E20: 490 | F20: =E20+(E20*$E$5) -> 588 | G20: per | H20: day
A21: 13 | C21: Head mazdoor | D21: II-10 | E21: 490 | F21: =E21+(E21*$E$5) -> 588 | G21: per | H21: day
A22: 14 | C22: Man mazdoor | D22: III-3 | E22: 465 | F22: =E22+(E22*$E$5) -> 558 | G22: per | H22: day
A23: 15 | C23: Woman mazdoor | D23: III-4 | E23: 465 | F23: =E23+(E23*$E$5) -> 558 | G23: per | H23: day
A24: 16 | C24: Cost of binding wire | D24: CSSR-A.03 | E24: 60 | F24: =E24 -> 60 | G24: per | H24: Kg
A25: CENTERING CHARGES (Providing Centring, shuttering and scaffolding with props and steel plate as per the approved shuttering plan and other accessories as per the norms and stability calculations including cost and conveyance of all accessories Using Cashewrina Ballies and Wooden runners & staging including all bracings, cross members etc complete for finished item of work)
B26: Sl | C26: NAME OF THE STRUCTURAL MEMBER | D26: Unit of Measurement | E26: Material Hire charges | G26: Labour charges | I26: Centring Charges for 2020-21
B27: 1 | C27: 2 | D27: 6 | E27: 3 | G27: 4 | I27: 5
B28: HIRE CHARGES FOR CENTERING & SCAFFOLDING - Unsupported height up to 3.66 M using Casurina Bellies, Bamboos, Wooden Reapers, Runners, Wood Posts, Steel Centering Plates etc., | K28: 1st floor | M28: 2nd floor | O28: 3rd floor | Q28: 4th floor
K29: labour | L29: total | M29: labour | N29: total | O29: labour | P29: total | Q29: labour | R29: total | S29: labour | T29: total
B30: A | C30: FOOTINGS | D30: per 1 cum | E30: Rs. | F30: 288 | G30: Rs. | H30: 693 | I30: Rs. | J30: =F30+H30 -> 981 | K30: =ROUND(H30*1.1,2) -> 762.3 | L30: =F30+K30 -> 1050.3 | M30: =ROUND(H30*1.2,2) -> 831.6 | N30: =F30+M30 -> 1119.6 | O30: =ROUND(#REF!*1.3,2) -> #REF! | P30: =F30+O30 -> #REF! | Q30: =ROUND(H30*1.4,2) -> 970.2 | R30: =F30+Q30 -> 1258.2 | S30: =ROUND(H30*1.5,2) -> 1039.5 | T30: =H30+S30 -> 1732.5
C31: bed blocks and bands | D31: per 1 cum | E31: Rs. | F31: 64 | G31: Rs. | H31: 356 | I31: Rs. | J31: =F31+H31 -> 420 | K31: =ROUND(H31*1.1,2) -> 391.6 | L31: =F31+K31 -> 455.6 | M31: =ROUND(H31*1.2,2) -> 427.2 | N31: =F31+M31 -> 491.2 | O31: =ROUND(H31*1.3,2) -> 462.8 | P31: =F31+O31 -> 526.8 | Q31: =ROUND(H31*1.4,2) -> 498.4 | R31: =F31+Q31 -> 562.4 | S31: =ROUND(H31*1.5,2) -> 534 | T31: =H31+S31 -> 890
B32: B | C32: PEDESTALS | D32: per 1 cum | E32: Rs. | F32: 328 | G32: Rs. | H32: 1101 | I32: Rs. | J32: =F32+H32 -> 1429 | K32: =ROUND(H32*1.1,2) -> 1211.1 | L32: =F32+K32 -> 1539.1 | M32: =ROUND(H32*1.2,2) -> 1321.2 | N32: =F32+M32 -> 1649.2 | O32: =ROUND(H32*1.3,2) -> 1431.3 | P32: =F32+O32 -> 1759.3 | Q32: =ROUND(H32*1.4,2) -> 1541.4 | R32: =F32+Q32 -> 1869.4 | S32: =ROUND(H32*1.5,2) -> 1651.5 | T32: =H32+S32 -> 2752.5
B33: C | C33: PLINTH BEAMS | D33: per 1 cum | E33: Rs. | F33: 1390 | G33: Rs. | H33: 1669 | I33: Rs. | J33: =F33+H33 -> 3059 | K33: =ROUND(H33*1.1,2) -> 1835.9 | L33: =F33+K33 -> 3225.9 | M33: =ROUND(H33*1.2,2) -> 2002.8 | N33: =F33+M33 -> 3392.8 | O33: =ROUND(H33*1.3,2) -> 2169.7 | P33: =F33+O33 -> 3559.7 | Q33: =ROUND(H33*1.4,2) -> 2336.6 | R33: =F33+Q33 -> 3726.6 | S33: =ROUND(H33*1.5,2) -> 2503.5 | T33: =H33+S33 -> 4172.5
B34: D | C34: LINTELS | D34: per 1 cum | E34: Rs. | F34: 790 | G34: Rs. | H34: 1373 | I34: Rs. | J34: =F34+H34 -> 2163 | K34: =ROUND(H34*1.1,2) -> 1510.3 | L34: =F34+K34 -> 2300.3 | M34: =ROUND(H34*1.2,2) -> 1647.6 | N34: =F34+M34 -> 2437.6 | O34: =ROUND(H34*1.3,2) -> 1784.9 | P34: =F34+O34 -> 2574.9 | Q34: =ROUND(H34*1.4,2) -> 1922.2 | R34: =F34+Q34 -> 2712.2 | S34: =ROUND(H34*1.5,2) -> 2059.5 | T34: =H34+S34 -> 3432.5
B35: E | C35: CHAJJAS - SUNSHADES | D35: per 1 sqm | E35: Rs. | F35: 156 | G35: Rs. | H35: 211 | I35: Rs. | J35: =F35+H35 -> 367 | K35: =ROUND(H35*1.1,2) -> 232.1 | L35: =F35+K35 -> 388.1 | M35: =ROUND(H35*1.2,2) -> 253.2 | N35: =F35+M35 -> 409.2 | O35: =ROUND(H35*1.3,2) -> 274.3 | P35: =F35+O35 -> 430.3 | Q35: =ROUND(H35*1.4,2) -> 295.4 | R35: =F35+Q35 -> 451.4 | S35: =ROUND(H35*1.5,2) -> 316.5 | T35: =H35+S35 -> 527.5
B36: F | C36: COLUMNS | D36: per 1 cum | E36: Rs. | F36: 238 | G36: Rs. | H36: 1928 | I36: Rs. | J36: =F36+H36 -> 2166 | K36: =ROUND(H36*1.1,2) -> 2120.8 | L36: =F36+K36 -> 2358.8 | M36: =ROUND(H36*1.2,2) -> 2313.6 | N36: =F36+M36 -> 2551.6 | O36: =ROUND(H36*1.3,2) -> 2506.4 | P36: =F36+O36 -> 2744.4 | Q36: =ROUND(H36*1.4,2) -> 2699.2 | R36: =F36+Q36 -> 2937.2 | S36: =ROUND(H36*1.5,2) -> 2892 | T36: =H36+S36 -> 4820
B37: G | C37: BEAMS | D37: per 1 cum | E37: Rs. | F37: 1395 | G37: Rs. | H37: 1617 | I37: Rs. | J37: =F37+H37 -> 3012 | K37: =ROUND(H37*1.1,2) -> 1778.7 | L37: =F37+K37 -> 3173.7 | M37: =ROUND(H37*1.2,2) -> 1940.4 | N37: =F37+M37 -> 3335.4 | O37: =ROUND(H37*1.3,2) -> 2102.1 | P37: =F37+O37 -> 3497.1 | Q37: =ROUND(H37*1.4,2) -> 2263.8 | R37: =F37+Q37 -> 3658.8 | S37: =ROUND(H37*1.5,2) -> 2425.5 | T37: =H37+S37 -> 4042.5
B38: H | C38: SLABS - Up to 150 mm thick | D38: per 1 sqm | E38: Rs. | F38: 158 | G38: Rs. | H38: 183 | I38: Rs. | J38: =F38+H38 -> 341 | K38: =ROUND(H38*1.1,2) -> 201.3 | L38: =F38+K38 -> 359.3 | M38: =ROUND(H38*1.2,2) -> 219.6 | N38: =F38+M38 -> 377.6 | O38: =ROUND(H38*1.3,2) -> 237.9 | P38: =F38+O38 -> 395.9 | Q38: =ROUND(H38*1.4,2) -> 256.2 | R38: =F38+Q38 -> 414.2 | S38: =ROUND(H38*1.5,2) -> 274.5 | T38: =H38+S38 -> 457.5
B39: I | C39: SLABS - above 150 mm - Up to 300 mm thick | D39: per 1 sqm | E39: Rs. | F39: 163 | G39: Rs. | H39: 189 | I39: Rs. | J39: =F39+H39 -> 352 | K39: =ROUND(H39*1.1,2) -> 207.9 | L39: =F39+K39 -> 370.9 | M39: =ROUND(H39*1.2,2) -> 226.8 | N39: =F39+M39 -> 389.8 | O39: =ROUND(H39*1.3,2) -> 245.7 | P39: =F39+O39 -> 408.7 | Q39: =ROUND(H39*1.4,2) -> 264.6 | R39: =F39+Q39 -> 427.6 | S39: =ROUND(H39*1.5,2) -> 283.5 | T39: =H39+S39 -> 472.5
B40: J | C40: SLABS - above 300 mm thick | D40: per 1 sqm | E40: Rs. | F40: 170 | G40: Rs. | H40: 198 | I40: Rs. | J40: =F40+H40 -> 368 | K40: =ROUND(H40*1.1,2) -> 217.8 | L40: =F40+K40 -> 387.8 | M40: =ROUND(H40*1.2,2) -> 237.6 | N40: =F40+M40 -> 407.6 | O40: =ROUND(H40*1.3,2) -> 257.4 | P40: =F40+O40 -> 427.4 | Q40: =ROUND(H40*1.4,2) -> 277.2 | R40: =F40+Q40 -> 447.2 | S40: =ROUND(H40*1.5,2) -> 297 | T40: =H40+S40 -> 495
B41: K | C41: WAFFLE - (GRID) SLABS (Rib Beams with Slabs) | D41: per 1 sqm | E41: Rs. | F41: 575 | G41: Rs. | H41: 666 | I41: Rs. | J41: =F41+H41 -> 1241 | K41: =ROUND(H41*1.1,2) -> 732.6 | L41: =F41+K41 -> 1307.6 | M41: =ROUND(H41*1.2,2) -> 799.2 | N41: =F41+M41 -> 1374.2 | O41: =ROUND(H41*1.3,2) -> 865.8 | P41: =F41+O41 -> 1440.8 | Q41: =ROUND(H41*1.4,2) -> 932.4 | R41: =F41+Q41 -> 1507.4 | S41: =ROUND(H41*1.5,2) -> 999 | T41: =H41+S41 -> 1665
...

Sheet C-data
A1: DATA
A2: =+LEAD!A2:Q2 -> Construction of Kitchen shed at ZPHS Bijwar(V) of Utkoor(M)
C3: Overheads | D3: 0
A4: COMMON STANDARD SCHEDULE OF RATES FOR THE YEAR 2021-22
E5: 0 | F5: AGENCY / MUNICIPAL / LALI ALLOWANCE
A7: LABOUR CHARGES
A8: Sl.No | C8: Description | D8: SSR Sl.No. | E8: Initial Rate | F8: Final Rate | G8: Unit
A9: 1 | C9: 1st class mason | D9: I-11 | E9: 545 | F9: =E9+(E9*$E$5) -> 545 | G9: per | H9: day
A10: =A9+1 -> 2 | C10: 2nd class mason | D10: II-35 | E10: 515 | F10: =E10+(E10*$E$5) -> 515 | G10: per | H10: day
A11: 3 | C11: 1st class Brick Layer | D11: I-11 | E11: 545 | F11: =E11+(E11*$E$5) -> 545 | G11: per | H11: day
A12: 4 | C12: 2nd class Brick layer | D12: II-35 | E12: 515 | F12: =E12+(E12*$E$5) -> 515 | G12: per | H12: day
A13: 5 | C13: Blacksmith | D13: I-2 | E13: 540 | F13: =E13+(E13*$E$5) -> 540 | G13: per | H13: day
A14: 6 | C14: Plumber 1st Class-I.36 | D14: I-45 | E14: 635 | F14: =E14+(E14*$E$5) -> 635 | G14: per | H14: Each
A15: 7 | C15: Plumber 2nd class-II.9 | D15: II-42 | E15: 515 | F15: =E15+(E15*$E$5) -> 515 | G15: per | H15: Each
A16: 8 | C16: 1st class carpenter | D16: I-4 | E16: 645 | F16: =E16+(E16*$E$5) -> 645 | G16: per | H16: day
A17: 9 | C17: mate | D17: I-10 | E17: 515 | F17: =E17+(E17*$E$5) -> 515 | G17: per | H17: day
A18: 10 | C18: 2nd class carpenter | D18: II-04 | E18: 515 | F18: =E18+(E18*$E$5) -> 515 | G18: per | H18: day
A19: 11 | C19: 1st class Painter | D19: I-35 | E19: 625 | F19: =E19+(E19*$E$5) -> 625 | G19: per | H19: day
A20: 12 | C20: 2nd class Painter | D20: II-37 | E20: 515 | F20: =E20+(E20*$E$5) -> 515 | G20: per | H20: day
A21: 13 | C21: Head mazdoor | D21: II-10 | E21: 515 | F21: =E21+(E21*$E$5) -> 515 | G21: per | H21: day
A22: 14 | C22: Man mazdoor | D22: III-3 | E22: 490 | F22: =E22+(E22*$E$5) -> 490 | G22: per | H22: day
A23: 15 | C23: Woman mazdoor | D23: III-4 | E23: 490 | F23: =E23+(E23*$E$5) -> 490 | G23: per | H23: day
A24: 16 | C24: Cost of binding wire | D24: CSSR-A.03 | E24: 66 | F24: =E24 -> 66 | G24: per | H24: Kg
A25: CENTERING CHARGES (Providing Centring, shuttering and scaffolding with props and steel plate as per the approved shuttering plan and other accessories as per the norms and stability calculations including cost and conveyance of all accessories Using Cashewrina Ballies and Wooden runners & staging including all bracings, cross members etc complete for finished item of work)
B26: Sl | C26: NAME OF THE STRUCTURAL MEMBER | D26: Unit of Measurement | E26: Material Hire charges | G26: Labour charges | I26: Centring Charges for 2021-22
B27: 1 | C27: 2 | D27: 6 | E27: 3 | G27: 4 | I27: 5
B28: HIRE CHARGES FOR CENTERING & SCAFFOLDING - Unsupported height up to 3.66 M using Casurina Bellies, Bamboos, Wooden Reapers, Runners, Wood Posts, Steel Centering Plates etc., | K28: 1st floor | M28: 2nd floor | O28: 3rd floor | Q28: 4th floor
K29: labour | L29: total | M29: labour | N29: total | O29: labour | P29: total | Q29: labour | R29: total | S29: labour | T29: total
B30: A | C30: FOOTINGS | D30: per 1 cum | E30: Rs. | F30: 304 | G30: Rs. | H30: 718 | I30: Rs. | J30: =F30+H30 -> 1022 | K30: =ROUND(H30*1.1,2) -> 789.8 | L30: =F30+K30 -> 1093.8 | M30: =ROUND(H30*1.2,2) -> 861.6 | N30: =F30+M30 -> 1165.6 | O30: =ROUND(#REF!*1.3,2) -> #REF! | P30: =F30+O30 -> #REF! | Q30: =ROUND(H30*1.4,2) -> 1005.2 | R30: =F30+Q30 -> 1309.2 | S30: =ROUND(H30*1.5,2) -> 1077 | T30: =H30+S30 -> 1795
C31: bed blocks and bands | D31: per 1 cum | E31: Rs. | F31: 67 | G31: Rs. | H31: 370 | I31: Rs. | J31: =F31+H31 -> 437 | K31: =ROUND(H31*1.1,2) -> 407 | L31: =F31+K31 -> 474 | M31: =ROUND(H31*1.2,2) -> 444 | N31: =F31+M31 -> 511 | O31: =ROUND(H31*1.3,2) -> 481 | P31: =F31+O31 -> 548 | Q31: =ROUND(H31*1.4,2) -> 518 | R31: =F31+Q31 -> 585 | S31: =ROUND(H31*1.5,2) -> 555 | T31: =H31+S31 -> 925
B32: B | C32: PEDESTALS | D32: per 1 cum | E32: Rs. | F32: 346 | G32: Rs. | H32: 1141 | I32: Rs. | J32: =F32+H32 -> 1487 | K32: =ROUND(H32*1.1,2) -> 1255.1 | L32: =F32+K32 -> 1601.1 | M32: =ROUND(H32*1.2,2) -> 1369.2 | N32: =F32+M32 -> 1715.2 | O32: =ROUND(H32*1.3,2) -> 1483.3 | P32: =F32+O32 -> 1829.3 | Q32: =ROUND(H32*1.4,2) -> 1597.4 | R32: =F32+Q32 -> 1943.4 | S32: =ROUND(H32*1.5,2) -> 1711.5 | T32: =H32+S32 -> 2852.5
B33: C | C33: PLINTH BEAMS | D33: per 1 cum | E33: Rs. | F33: 1467 | G33: Rs. | H33: 1730 | I33: Rs. | J33: =F33+H33 -> 3197 | K33: =ROUND(H33*1.1,2) -> 1903 | L33: =F33+K33 -> 3370 | M33: =ROUND(H33*1.2,2) -> 2076 | N33: =F33+M33 -> 3543 | O33: =ROUND(H33*1.3,2) -> 2249 | P33: =F33+O33 -> 3716 | Q33: =ROUND(H33*1.4,2) -> 2422 | R33: =F33+Q33 -> 3889 | S33: =ROUND(H33*1.5,2) -> 2595 | T33: =H33+S33 -> 4325
B34: D | C34: LINTELS | D34: per 1 cum | E34: Rs. | F34: 831 | G34: Rs. | H34: 1399 | I34: Rs. | J34: =F34+H34 -> 2230 | K34: =ROUND(H34*1.1,2) -> 1538.9 | L34: =F34+K34 -> 2369.9 | M34: =ROUND(H34*1.2,2) -> 1678.8 | N34: =F34+M34 -> 2509.8 | O34: =ROUND(H34*1.3,2) -> 1818.7 | P34: =F34+O34 -> 2649.7 | Q34: =ROUND(H34*1.4,2) -> 1958.6 | R34: =F34+Q34 -> 2789.6 | S34: =ROUND(H34*1.5,2) -> 2098.5 | T34: =H34+S34 -> 3497.5
B35: E | C35: CHAJJAS - SUNSHADES | D35: per 1 sqm | E35: Rs. | F35: 164 | G35: Rs. | H35: 215 | I35: Rs. | J35: =F35+H35 -> 379 | K35: =ROUND(H35*1.1,2) -> 236.5 | L35: =F35+K35 -> 400.5 | M35: =ROUND(H35*1.2,2) -> 258 | N35: =F35+M35 -> 422 | O35: =ROUND(H35*1.3,2) -> 279.5 | P35: =F35+O35 -> 443.5 | Q35: =ROUND(H35*1.4,2) -> 301 | R35: =F35+Q35 -> 465 | S35: =ROUND(H35*1.5,2) -> 322.5 | T35: =H35+S35 -> 537.5
B36: F | C36: COLUMNS | D36: per 1 cum | E36: Rs. | F36: 250 | G36: Rs. | H36: 1965 | I36: Rs. | J36: =F36+H36 -> 2215 | K36: =ROUND(H36*1.1,2) -> 2161.5 | L36: =F36+K36 -> 2411.5 | M36: =ROUND(H36*1.2,2) -> 2358 | N36: =F36+M36 -> 2608 | O36: =ROUND(H36*1.3,2) -> 2554.5 | P36: =F36+O36 -> 2804.5 | Q36: =ROUND(H36*1.4,2) -> 2751 | R36: =F36+Q36 -> 3001 | S36: =ROUND(H36*1.5,2) -> 2947.5 | T36: =H36+S36 -> 4912.5
B37: G | C37: BEAMS | D37: per 1 cum | E37: Rs. | F37: 1467 | G37: Rs. | H37: 1648 | I37: Rs. | J37: =F37+H37 -> 3115 | K37: =ROUND(H37*1.1,2) -> 1812.8 | L37: =F37+K37 -> 3279.8 | M37: =ROUND(H37*1.2,2) -> 1977.6 | N37: =F37+M37 -> 3444.6 | O37: =ROUND(H37*1.3,2) -> 2142.4 | P37: =F37+O37 -> 3609.4 | Q37: =ROUND(H37*1.4,2) -> 2307.2 | R37: =F37+Q37 -> 3774.2 | S37: =ROUND(H37*1.5,2) -> 2472 | T37: =H37+S37 -> 4120
B38: H | C38: SLABS - Up to 150 mm thick | D38: per 1 sqm | E38: Rs. | F38: 166 | G38: Rs. | H38: 187 | I38: Rs. | J38: =F38+H38 -> 353 | K38: =ROUND(H38*1.1,2) -> 205.7 | L38: =F38+K38 -> 371.7 | M38: =ROUND(H38*1.2,2) -> 224.4 | N38: =F38+M38 -> 390.4 | O38: =ROUND(H38*1.3,2) -> 243.1 | P38: =F38+O38 -> 409.1 | Q38: =ROUND(H38*1.4,2) -> 261.8 | R38: =F38+Q38 -> 427.8 | S38: =ROUND(H38*1.5,2) -> 280.5 | T38: =H38+S38 -> 467.5
B39: I | C39: SLABS - above 150 mm - Up to 300 mm thick | D39: per 1 sqm | E39: Rs. | F39: 171 | G39: Rs. | H39: 192 | I39: Rs. | J39: =F39+H39 -> 363 | K39: =ROUND(H39*1.1,2) -> 211.2 | L39: =F39+K39 -> 382.2 | M39: =ROUND(H39*1.2,2) -> 230.4 | N39: =F39+M39 -> 401.4 | O39: =ROUND(H39*1.3,2) -> 249.6 | P39: =F39+O39 -> 420.6 | Q39: =ROUND(H39*1.4,2) -> 268.8 | R39: =F39+Q39 -> 439.8 | S39: =ROUND(H39*1.5,2) -> 288 | T39: =H39+S39 -> 480
B40: J | C40: SLABS - above 300 mm thick | D40: per 1 sqm | E40: Rs. | F40: 179 | G40: Rs. | H40: 201 | I40: Rs. | J40: =F40+H40 -> 380 | K40: =ROUND(H40*1.1,2) -> 221.1 | L40: =F40+K40 -> 400.1 | M40: =ROUND(H40*1.2,2) -> 241.2 | N40: =F40+M40 -> 420.2 | O40: =ROUND(H40*1.3,2) -> 261.3 | P40: =F40+O40 -> 440.3 | Q40: =ROUND(H40*1.4,2) -> 281.4 | R40: =F40+Q40 -> 460.4 | S40: =ROUND(H40*1.5,2) -> 301.5 | T40: =H40+S40 -> 502.5
B41: K | C41: WAFFLE - (GRID) SLABS (Rib Beams with Slabs) | D41: per 1 sqm | E41: Rs. | F41: 604 | G41: Rs. | H41: 679 | I41: Rs. | J41: =F41+H41 -> 1283 | K41: =ROUND(H41*1.1,2) -> 746.9 | L41: =F41+K41 -> 1350.9 | M41: =ROUND(H41*1.2,2) -> 814.8 | N41: =F41+M41 -> 1418.8 | O41: =ROUND(H41*1.3,2) -> 882.7 | P41: =F41+O41 -> 1486.7 | Q41: =ROUND(H41*1.4,2) -> 950.6 | R41: =F41+Q41 -> 1554.6 | S41: =ROUND(H41*1.5,2) -> 1018.5 | T41: =H41+S41 -> 1697.5
...

Sheet D&W DATA 1
B1: DATAS FOR DOORS AND WINDOWS
B2: =+LEAD!A2 -> Construction of Kitchen shed at ZPHS Bijwar(V) of Utkoor(M)
B3: Sno | C3: Qty | D3: Description of Item | E3: Rate | F3: Unit | G3: Per | H3: Amount
B4: 1 | D4: Supply and Fixing of Door with Double leaf shutter, Door Size 2.4 x2.13mtrs with Medium teak wood Frame of sections size 75mm x 100mm with Flush Door Shutter Solid Bond Wood black board type with commercial ply on both faces of 35mm thick including cost of fixtures such as MS Powder coated Tower Bolts 250mm long 2 Nos, MS Powder coated Handles 150mm long 2 Nos, 300mm long MS Powder coated Aldrops 1No, 125mm long MS Powder coated butt hinges 6Nos, 300 mm long MS Powder coated Flat latch 1No, Door stoppers 2 Nos, MS Hold fasts 6Nos, Sales and Other Taxes cost and convenyance of all materials to site all Labour charges such as Fixing of Door Frame and shutter Fixing in position , with Hardware fixtures etc., complete for finsihed item of work.
D5: DOOR SIZE 2.4 x 2.13 mtrs : Area =5.11 Sqm | E5: 2.4 | F5: X | G5: 2.13 | H5: =ROUND(E5*G5,2) -> 5.11
D6: Medium Teak Wood for Frame
D7: Verticals 2 x 2.13 x 0.075 x 0.10 = 0.03225 | E7: =2*2.13*0.075*0.1 -> 0.03195 | F7: cum
D8: Horizental 1 x 2.4 x 0.075 x 0.10 = 0.0180 | E8: =2.4*0.075*0.1 -> 0.018 | F8: cum
D9: Total = 0.05025 | E9: =SUM(E7:E8) -> 0.04995 | F9: cum
D10: 35mm thick flush door shutter of soild wood block board type with commercial play on both faces
D11: 1x2.30x2.03 = 4.67Sqm | E11: =ROUND(2.3*2.03,2) -> 4.67 | F11: sqm
D12: ABSTRACT
D13: a)MATERIAL
B14: 1 | C14: =E7 -> 0.03195 | D14: Cost of Medium teak wood scantling of size 2.0 to 3.0 m TBSC-D.I-02 | E14: 84724 | F14: 1 | G14: Cum | H14: =ROUND(C14*E14/F14,2) -> 2706.93
B15: 2 | C15: =E8 -> 0.018 | D15: Cost of Medium teak wood scantling of size 2.0 to 3.0 m TBSC-D.I-02 | E15: 76251 | F15: 1 | G15: Cum | H15: =ROUND(C15*E15/F15,2) -> 1372.52
B16: 3 | C16: =E11 -> 4.67 | D16: Flush door shutters, solid bond wood block board type with commercial ply on both faces.: 35 mm thick conforming to IS:2202 of ANAND/ RAAVILA/ KUTTY/ STANDARD/ SHUBHDWAR/ ITP (TBSC-L.II-06) | E16: 1417 | F16: 1 | G16: Sqm | H16: =ROUND(C16*E16/F16,2) -> 6617.39
B17: 4 | C17: 6 | D17: MS Hold FastsTBSC-P.IX-08 | E17: 34 | F17: 1 | G17: Each | H17: =ROUND(C17*E17/F17,2) -> 204
B18: 5 | C18: 1 | D18: Cost of 300mm Long MS Powder coated Aldrops(TBSC-P.IV-09) | E18: 173 | F18: 1 | G18: Each | H18: =ROUND(C18*E18/F18,2) -> 173
B19: 6 | C19: 2 | D19: Cost of 250 long MS Powder coated Towerbolts (TBSC-P.I-17) | E19: 72 | F19: 1 | G19: Each | H19: =ROUND(C19*E19/F19,2) -> 144
B20: 7 | C20: 2 | D20: Cost of 150mm Long MS Powder coated Handles (TBSC-P.III-06) | E20: 48 | F20: 1 | G20: Each | H20: =ROUND(C20*E20/F20,2) -> 96
B21: 8 | C21: 6 | D21: Cost of 125mm long MS Powder coated but hinges (TBSC-P.II-11) | E21: 33 | F21: 1 | G21: Each | H21: =ROUND(C21*E21/F21,2) -> 198
B22: 9 | C22: 1 | D22: Cost of 300lon MS Powder coated Flat latch (TBSC-P.V-08) | E22: 70 | F22: 1 | G22: Each | H22: =ROUND(C22*E22/F22,2) -> 70
B23: 10 | C23: 2 | D23: Cost of Heavy duty MS Powder coated Door Stoper (TBSC-P.IX-02) | E23: 48 | F23: 1 | G23: Each | H23: =ROUND(C23*E23/F23,2) -> 96
D24: a) LABOUR
C26: =H5 -> 5.11 | D26: Labour charges for wrought and put up including fixing in position frames of any size , shutters for doors, windows, ventilators including fixing all necesssary fixtures etc complete for teak wood flush type door shutter including frame.(TBSC-T.I-31) | E26: 1057 | F26: 1 | G26: Sqm | H26: =ROUND(C26*E26/F26,2) -> 5401.27
C27: ='C-data'!$E$5 -> 0 | D27: Add munipal area allowance @20% | E27: =+H26 -> 5401.27 | F27: 1 | H27: =ROUND(C27*E27/F27,2) -> 0
H28: =SUM(H14:H27) -> 17079.11
D29: Add overheads @ | E29: 0.13615 | H29: 0
D30: Rate per / Each | H30: =SUM(H28:H29) -> 17079.11
G31: oesay | H31: =CEILING(H30,1) -> 17080
B32: =+B4+1 -> 2 | D32: Supply and Fixing of Door with Double leaf shutter, Door Size 2.0 x2.13mtrs with Medium teak wood Frame of sections size 75mm x 100mm with Flush Door Shutter Solid Bond Wood black board type with commercial ply on both faces of 35mm thick including cost of fixtures such as MS Powder coated Tower Bolts 250mm long 2 Nos, MS Powder coated Handles 150mm long 2 Nos, 300mm long MS Powder coated Aldrops 1No, 125mm long MS Powder coated butt hinges 6Nos, 300 mm long MS Powder coated Flat latch 1No, Door stoppers 2 Nos, MS Hold fasts 6Nos, Sales and Other Taxes cost and convenyance of all materials to site all Labour charges such as Fixing of Door Frame and shutter Fixing in position , with Hardware fixtures etc., complete for finsihed item of work.
D33: DOOR SIZE 2.0 x 2.13 mtrs : Area =4.26 Sqm | E33: 2 | F33: X | G33: 2.13 | H33: =ROUND(E33*G33,2) -> 4.26
D34: Medium Teak Wood for Frame
D35: Verticals 2 x 2.13 x 0.075 x 0.10 = 0.03225 | E35: =2*2.13*0.075*0.1 -> 0.03195 | F35: cum
D36: Horizental 1 x 2.0 x 0.075 x 0.10 = 0.0150 | E36: =2*0.075*0.1 -> 0.015 | F36: cum
D37: Total = 0.04725 | E37: =SUM(E35:E36) -> 0.04695 | F37: cum
D38: 35mm thick flush door shutter of soild wood block board type with commercial play on both faces
D39: 1x1.90x2.03 = 3.86Sqm | E39: =ROUND(1.9*2.03,2) -> 3.86 | F39: sqm
D40: ABSTRACT
D41: a)MATERIAL
...

Sheet CC road data
C2: DATAS
C4: Name of Work ::- | E4: =+LEAD!A2 -> Construction of Kitchen shed at ZPHS Bijwar(V) of Utkoor(M)
C7: Quantity | E7: Description of Item | I7: Rate | J7: per | K7: Amount
B8: 1 | C8: Forming embankment with Side earth by mechanical means upto SDR including pre-watering of soil , removal of top soil, excavation of soils , depositing the soils on the embankment, spreading soil, breaking clods, sectioning , grading and consolidation with 8 to 10 Tonnes Vibratory Road Roller @ OMC to meet requirement of table 300-2 of MoRT&H, including all hire and operational charges of T&P and , complete for finished item of work as per MoRT&H specification 305 (4th revision) (Payment will be made based on level for finished item of work).
C14: Unit : Cum
C15: Taking out put = 100 Cum | G15: Page 70 of MoRT&H SDB
C16: (A) | D16: Labour
C17: 0.02 | D17: day | E17: Mate | I17: ='C-data'!F17 -> 515 | J17: day | K17: =ROUND(C17*I17,2) -> 10.3
C18: 0.5 | D18: day | E18: Mazdoor unskilled | I18: =I17 -> 515 | J18: day | K18: =ROUND(C18*I18,2) -> 257.5
K19: =SUM(K17:K18) -> 267.8
C20: (B) | D20: Machinery
C21: 100 | D21: cum | E21: Rate as per G.O. Ms No 10, Dt 26/7/2005 | I21: 82.22 | J21: cum | K21: =ROUND(C21*I21,2) -> 8222
C22: 1 | D22: hr | E22: Motor Grador for Grading @ 100 cum per hour | I22: 3601.92 | J22: hr | K22: =ROUND(C22*I22,2) -> 3601.92
C23: 4 | D23: hr | E23: Water tanker 6 KL | I23: 698.88 | J23: hr | K23: =ROUND(C23*I23,2) -> 2795.52
C24: 1 | D24: hr | E24: Vibratory roller 8T | I24: 2861.8 | J24: hr | K24: =ROUND(C24*I24,2) -> 2861.8
K25: =SUM(K21:K24) -> 17481.24
C26: (C)
C27: 100 | D27: Cum | I27: 0 | J27: cum | K27: =ROUND(C27*I27,2) -> 0
C29: (E) | D29: Total of (A) + (B) | K29: =K19+K25 -> 17749.04
C30: (F) | D30: Add Contractors Profit at 13.615% on (E) | K30: =K29*13.615/100 -> 2416.5318
D31: Cost per 100 cum (E) + (F) | K31: =SUM(K29:K30) -> 20165.572
D32: Rate per Cum | K32: =K31/100 -> 201.65572
E33: Rate per 1 cum | K33: =ROUND(K32,0) -> 202
K34: 1 Cum
B35: 2 | C35: Forming embankment with borrowed useful earth from outside road boundary by mechanical means upto SDR with all leads and lifts including pre-watering of soil at borrow area, removal of top soil, excavation of soils at borrowed area, conveyance of soil, depositing the soil on the embankment, spreading soil, breaking clods, sectioning, grading and consolidation with 8 to 10 Tonnes Vibratory Road Roller @ OMC to meet requirement of table 300-2 of MoRT&H, including all hire and operational charges of T&P and , complete for finished item of work as per MoRT&H specification 305 (4th revision) (Payment will be made based on level for finished item of work).
C41: Unit : Cum
C42: Taking out put = 100 Cum | G42: Page 68,69 of MoRT&H SDB
C43: (A) | D43: Labour
C44: 0.04 | D44: day | E44: Mate | I44: =I17 -> 515 | J44: day | K44: =ROUND(C44*I44,2) -> 20.6
C45: 1 | D45: day | E45: Mazdoor unskilled | I45: =I18 -> 515 | J45: day | K45: =ROUND(C45*I45,2) -> 515
K46: =SUM(K44:K45) -> 535.6
C47: (B) | D47: Machinery
C48: 100 | D48: cum | E48: Rate as per G.O. Ms No 10, Dt 26/7/2005 | I48: 13 | J48: cum | K48: =ROUND(C48*I48,2) -> 1300
C49: 160 | D49: t.km | E49: Tipper (for 1 Km = 160x1 = 160) | I49: 3.8 | J49: t.km | K49: =ROUND(C49*I49,2) -> 608
E50: Add 10% of cost of carriage to cover cost of loading and unloading | K50: =ROUND(K49*10/100,2) -> 60.8
C51: 0.5 | D51: hr | E51: Dozer 80 HP for spreading @ 200 cum per hour | I51: 1729.2 | J51: hr | K51: =ROUND(C51*I51,2) -> 864.6
C52: 1 | D52: hr | E52: Motor Grador for Grading @ 100 cum per hour | I52: =I22 -> 3601.92 | J52: hr | K52: =ROUND(C52*I52,2) -> 3601.92
C53: 4 | D53: hr | E53: Water tanker 6 KL | I53: =I23 -> 698.88 | J53: hr | K53: =ROUND(C53*I53,2) -> 2795.52
C54: 1 | D54: hr | E54: Vibratory roller 8T | I54: =I24 -> 2861.8 | J54: hr | K54: =ROUND(C54*I54,2) -> 2861.8
K55: =SUM(K48:K54) -> 12092.64
...

Sheet WS-DATA
A1: =+LEAD!A2:Q2 -> Construction of Kitchen shed at ZPHS Bijwar(V) of Utkoor(M)
A2: SANITARY & WATER SUPPLY DATAS (SOR 2020-21)
C3: AREA ALLOWENCE | D3: ='C-data'!E5 -> 0
C4: ADD 13.615% OVERHEADS | D4: =LEAD!L50 -> 0
A5: Sl.No | C5: DESCRIPTION | D5: ITEM CODE | E5: COEF. | F5: UNIT | G5: RATE | H5: PER | I5: UNIT | J5: Amount (Rs.)
A6: 1 | C6: Supplying and laying, filling, jointing and testing SWG SP-1 pipes of ISI make confirming to IS 1651 & 4127 1st quality with air tight Cement joints in CM (1.5:1)prop. including excavation of trenches and socket pits in any soil (except rock requiring blasting) and refilling with watering and tamping including cost and conveyance of all materials to site and all labour charges for finished item of work (APSS NO 1301 & 1318)
B7: A) | C7: 101.60 mm dia SWG pipe upto 3' depth | D7: TBSP-A.I-02 | E7: 1 | F7: Rmt | G7: 475 | H7: 1 | I7: =F7 -> Rmt | J7: =ROUND(E7*G7/H7,2) -> 475
C8: Area allowence on labour charges | D8: TBSP-A.III-01 | E8: =$D$3 -> 0 | G8: 277 | H8: 1 | I8: =F8 -> 0 | J8: =ROUND(E8*G8/H8,2) -> 0
J9: =SUM(J7:J8) -> 475
C10: add overheads @ | E10: =$D$4 -> 0 | J10: =ROUND(J9*E10,2) -> 0
C11: Total rate per 1 Rmt | J11: =CEILING(J10+J9,0.05) -> 475
B13: B) | C13: 152.40mm dia SWG pipe upto 3' depth | D13: TBSP-A.I-03 | E13: 1 | F13: Rmt | G13: 795 | H13: 1 | I13: =F13 -> Rmt | J13: =ROUND(E13*G13/H13,2) -> 795
C14: Area allowence on labour charges | D14: TBSP-A.III-02 | E14: =$D$3 -> 0 | G14: =G8 -> 277 | H14: 1 | I14: =F14 -> 0 | J14: =ROUND(E14*G14/H14,2) -> 0
J15: =SUM(J13:J14) -> 795
C16: add overheads @ | E16: =$D$4 -> 0 | J16: =ROUND(J15*E16,2) -> 0
C17: Total rate per 1 Rmt | J17: =CEILING(J16+J15,0.05) -> 795
B19: C) | C19: 101.60 mm dia SWG pipe upto 5' depth | D19: TBSP-A.I-01 | E19: 1 | F19: Rmt | G19: 500 | H19: 1 | I19: =F19 -> Rmt | J19: =ROUND(E19*G19/H19,2) -> 500
C20: Area allowence on labour charges | D20: TBSP-A.III-02 | E20: =$D$3 -> 0 | G20: 344 | H20: 1 | I20: =F20 -> 0 | J20: =ROUND(E20*G20/H20,2) -> 0
J21: =SUM(J19:J20) -> 500
C22: add overheads @ | E22: =$D$4 -> 0 | J22: =ROUND(J21*E22,2) -> 0
C23: Total rate per 1 Rmt | J23: =CEILING(J22+J21,0.05) -> 500
B25: D) | C25: 152.40mm dia SWG pipe upto 5' depth | D25: TBSP-A.I-04 | E25: 1 | F25: Rmt | G25: 722 | H25: 1 | I25: =F25 -> Rmt | J25: =ROUND(E25*G25/H25,2) -> 722
C26: Area allowence on labour charges | D26: TBSP-A.III-01 | E26: =$D$3 -> 0 | G26: 344 | H26: 1 | I26: =F26 -> 0 | J26: =ROUND(E26*G26/H26,2) -> 0
J27: =SUM(J25:J26) -> 722
C28: add overheads @ | E28: =$D$4 -> 0 | J28: =ROUND(J27*E28,2) -> 0
C29: Total rate per 1 Rmt | J29: =CEILING(J28+J27,0.05) -> 722
A31: =A6+1 -> 2 | C31: Constructing 904.0 mm (3’0”) dia brick masonry inspection chamber as per IS - 4111: Part-1:1986 with cement mortar (1:6) prop using 2nd Class Clay Bricks of 225 mm thick from approved source having a minimum crushing strength of 5 N/sq.mm including plastering with cement mortar 1:3 prop; ½” thick both inside and outside fitted with 20” dia RCC manhole covers and frames including excavating pits up to a depth of 904 mm (3'-0") in all sorts of soils (exculding rock) and laying cement conrete (1:4:8) 150 mm thick using 40 mm HBG Metal and P.C.C. 1:2:4 benching and channel 100 mm thick as per Standard specification and including cost and conveyance of all materials like cement, sand, bricks, water etc., to site, cost of seigniorage charges on all materials and all incidental and operational, labour charges like mixing cement mortar, constructing masonry, lift charges, curing etc., complete for finished item of work as per Standard specification.
C32: basic rate as per ssr item | D32: TBSP-B.I-03 | E32: 1 | F32: Nos | G32: 7835 | H32: 1 | I32: =F32 -> Nos | J32: =ROUND(E32*G32/H32,2) -> 7835
C33: Area allowence on labour charges | E33: =$D$3 -> 0 | F33: Nos | H33: 1 | I33: =F33 -> Nos | J33: =ROUND(E33*G33/H33,2) -> 0
J34: =SUM(J32:J33) -> 7835
C35: add overheads @ | E35: =$D$4 -> 0 | J35: =ROUND(J34*E35,2) -> 0
C36: Total rate per 1 Nos | J36: =CEILING(J35+J34,0.05) -> 7835
A37: =A31+1 -> 3 | C37: Constructing 904.0 mm (3’0”) dia brick masonry inspection chamber as per IS - 4111: Part-1:1986 with cement mortar (1:6) prop using 2nd Class Clay Bricks of 225 mm thick from approved source having a minimum crushing strength of 5 N/sq.mm including plastering with cement mortar 1:3 prop; ½” thick both inside and outside fitted with 20” dia RCC manhole covers and frames including excavating pits up to a depth of 1524 mm (5'-0") in all sorts of soils (exculding rock) and laying cement conrete (1:4:8) 150 mm thick using 40 mm HBG Metal and P.C.C. 1:2:4 benching and channel 100 mm thick as per Standard specification and including cost and conveyance of all materials like cement, sand, bricks, water etc., to site, cost of seigniorage charges on all materials and all incidental and operational, labour charges like mixing cement mortar, constructing masonry, lift charges, curing etc., complete for finished item of work as per Standard specification.
C38: basic rate as per ssr item | D38: TBSP-B.I-04 | E38: 1 | F38: Nos | G38: 11865 | H38: 1 | I38: =F38 -> Nos | J38: =ROUND(E38*G38/H38,2) -> 11865
C39: Area allowence on labour charges | E39: =$D$3 -> 0 | F39: Nos | H39: 1 | I39: =F39 -> Nos | J39: =ROUND(E39*G39/H39,2) -> 0
J40: =SUM(J38:J39) -> 11865
C41: add overheads @ | E41: =$D$4 -> 0 | J41: =ROUND(J40*E41,2) -> 0
C42: Total rate per 1 Nos | J42: =CEILING(J41+J40,0.05) -> 11865
A44: 4 | C44: Constructing 904.0 mm (3’0”) dia solid block masonry inspection chamber as per IS - 4111: Part-1:1986 with cement mortar (1:6) prop using fly ash blocks of 225mm thick from approved source having a minimum crushing strength of 10 N/sq.mm including plastering with cement mortar 1:3 prop; ½” thick both inside and outside fitted with 20” dia RCC manhole covers and frames including excavating pits up to a depth of 1524 mm (5'-0") in all sorts of soils (exculding rock) and laying cement conrete (1:4:8) 150 mm thick using 40 mm HBG Metal and P.C.C. 1:2:4 benching and channel 100 mm thick as per Standard specification and including cost and conveyance of all materials like cement, sand, bricks, water etc., to site, cost of seigniorage charges on all materials and all incidental and operational, labour charges like mixing cement mortar, constructing masonry, lift charges, curing etc., complete for finished item of work as per Standard specification.
C45: basic rate as per ssr item | D45: TBSP-B.I-02 | E45: 1 | F45: Nos | G45: 11912 | H45: 1 | I45: =F45 -> Nos | J45: =ROUND(E45*G45/H45,2) -> 11912
...

Sheet ELE-data
B1: Standard Data - Electrical Items SSR 2020-21
B2: =[4]Abs!A2 -> NAME OF THE WORK : CONSTRUCTION MINORITY RESIDENTIAL SCHOOL, AT MAHABUBNAGAR DIST.(SSR 2020-21)
B3: 3 | C3: Area allowence | F3: Skilled Electrician | H3: 620
C4: Overheads and contractors profit on materials | F4: Semi skilled Electrician | H4: 515
C5: Overheads and contractors profit on labour | F5: Helpers | H5: 515
A6: Index -code | B6: Specific ation No. | C6: Description | D6: Unit | E6: QTY | F6: Rate Rs. | G6: Amount Rs. | H6: ohr
B7: 1 | C7: 2 | D7: 3 | E7: 4 | F7: 5 | G7: 6 | H7: 7
A8: 1 | B8: 1.4.2 ( C ) | C8: Supply and Fixing of ISI 25mm outer dia heavygrade, FRLS with IS:9537 part 3 regid PVC pipe. concealed in Roof Slabs with all required accessories including masonary work and labour charges etc., complete. Makes : Sudhakar / Goldmedal / Modi / AKG / VIP / MillionPlast / Precision
C9: Taking Output = 100 M
C10: a) Material | J10: TBSE-1.2.4
B11: ELEC-1.2.1 | C11: 25mm dia heavygrade PVC pipe | D11: 100 M | E11: 1 | F11: 3500 | G11: =F11*E11 -> 3500 | J11: TBSE-1.2.32
B12: ELEC-1.1.5 | C12: 25mm dia 1,2,3 & 4 way deep Junction Box | D12: Each | E12: 12 | F12: 30 | G12: =F12*E12 -> 360 | J12: TBSE-1.2.37
B13: ELEC-1.2.7 | C13: 25mm PVC bends | D13: Each | E13: 12 | F13: 8 | G13: =F13*E13 -> 96
G14: =SUM(G11:G13) -> 3956
C15: Add contr profit @13.615% on material | D15: =$D$4 -> 0 | G15: =ROUND(G14*D15,2) -> 0
C16: Total material cost | G16: =SUM(G14:G15) -> 3956
C17: b) Labour charges : | J17: TBSE-8.1.73
C18: Skilled Electrician | D18: day | E18: 2 | F18: =$H$3 -> 620 | G18: =F18*E18 -> 1240 | J18: TBSE-8.1.74
C19: Semi skilled Electrician | D19: day | E19: 2 | F19: =$H$4 -> 515 | G19: =F19*E19 -> 1030 | J19: TBSE-8.1.81
C20: Helpers | D20: day | E20: 2 | F20: =$H$5 -> 515 | G20: =F20*E20 -> 1030
C21: Add area allowence on labour charges @ | D21: =$D$3 -> 0 | G21: =ROUND(D21*(G20+G19+G18),2) -> 0
C22: Add contr profit @13.615% on Labour | D22: =D$5 -> 0 | F22: =SUM(G18:G21) -> 3300 | G22: =ROUND(D22*F22,2) -> 0
C23: C) Cost for 100 RM | G23: =SUM(G16:G22) -> 7256
C24: Rate per Metre = C/100 | G24: =CEILING(G23/100,0.05) -> 72.6
C26: Note : 1. If 25mm dia PVC / MS pipes are used for light / fan point, add the cost of sheet metal / well seasoned wooden board / box.
A27: =A8+1 -> 2 | B27: 1.4.2 ( b ) | C27: Supply and Fixing of ISI 25mm outer dia mediumgrade, FRLS with IS:9537 part 3 regid PVC pipe. concealed in wall with all required accessories including masonary work for light, fan and separate plug point with 8 or 9 Module Hot dip galvanized Metal Box including all labour charges etc., complete. Makes : Sudhakar / Goldmedal / Modi / AKG / VIP / MillionPlast / Precision
C28: Taking Output = 100 M
C29: a) Material
B30: ELEC-1.2.2 | C30: 25mm dia mediumgrade PVC pipe | D30: 100 M | E30: 1 | F30: 2500 | G30: =F30*E30 -> 2500
B31: ELEC-9.1.4 | C31: U' Nails | D31: 100 Nos | E31: 2 | F31: 38 | G31: =F31*E31 -> 76
B32: ELEC-1.3.1 | C32: 8 or 9 Module Hot dip galvanized Metal Box Horizontal / Verticle | D32: Each | E32: 2 | F32: 185 | G32: =F32*E32 -> 370
B33: ELEC-1.1.5 | C33: 25mm dia 1,2,3 & 4 way junction Box Normal | D33: Each | E33: 12 | F33: 21 | G33: =F33*E33 -> 252
B34: ELEC-1.2.7 | C34: 25mm PVC bends | D34: Each | E34: 12 | F34: 8 | G34: =F34*E34 -> 96
B35: ELEC-9.4.11 | C35: Cement | D35: kg | E35: 50 | F35: 8 | G35: =F35*E35 -> 400
G36: =SUM(G30:G35) -> 3694
C37: Add contr profit @13.615% on material | D37: =$D$4 -> 0 | G37: =ROUND(G36*D37,2) -> 0
C38: Total material cost | G38: =SUM(G36:G37) -> 3694
C39: b) Labour charges :
C40: Skilled Electrician | D40: day | E40: 2 | F40: =$H$3 -> 620 | G40: =F40*E40 -> 1240
C41: Semi skilled Electrician | D41: day | E41: 2 | F41: =$H$4 -> 515 | G41: =F41*E41 -> 1030
...

Sheet GA (2)
A1: GENERAL ABSTRACT
A2: =LEAD!A2 -> Construction of Kitchen shed at ZPHS Bijwar(V) of Utkoor(M)
A3: Sl.No. | B3: Description of Item | C3: Amount Rs.
A4: 1 | B4: Civil works | C4: =#REF! -> #REF! | G4: 20539384
A5: =A4+1 -> 2 | B5: Internal Sanitary & Water Supply | C5: =#REF! -> #REF! | G5: 560596
A6: =A5+1 -> 3 | B6: Internal Electrification | C6: =#REF! -> #REF! | G6: 3251218
B7: Sub total >>> | C7: =SUM(C4:C6) -> #REF! | D7: =C7-#REF! -> #REF! | G7: 165607022
A8: =A6+1 -> 4 | B8: Add GST @ 12% | C8: =+ROUND(C7*0.12,0) -> #REF!
A9: =+A8+1 -> 5 | B9: Provision for PS charges @ 5% | C9: =+ROUND(C7*0.059,0) -> #REF!
A10: =+A9+1 -> 6 | B10: Provision for NAC Contribution @ 0.1 % | C10: =+ROUND(C7*0.001,0) -> #REF!
A11: =+A10+1 -> 7 | B11: Provision for Seginarage Charges @ 1 % | C11: =+ROUND(C7*0.01,0) -> #REF!
A12: =+A11+1 -> 8 | B12: Provision for QC Charges 0.5% | C12: =+ROUND(C7*0.005,0) -> #REF!
A13: =+A12+1 -> 9 | B13: Provision for RO plants 3 no | C13: 900000
A14: =+A13+1 -> 10 | B14: Provision for Drilling of Borewell with Pump Set | C14: 300000
A15: =+A14+1 -> 11 | B15: Provision for Consultancy Charges @ 1% Plus GST @ 18% | C15: =ROUND(C7*1.18%,0) -> #REF!
A16: =+A15+1 -> 12 | B16: LS amount towards other unforeseen items | C16: 22556
B17: Grand Total >>> | C17: =SUM(C7:C16) -> #REF! | E17: 200000000
E18: =E17-C17 -> #REF!

Sheet ABS-CVL-SEC
A1: =LEAD!A2 -> Construction of Kitchen shed at ZPHS Bijwar(V) of Utkoor(M)
A2: ABSTRACT ESTIMATE FOR SECURITY
A3: Sl. No. | C3: Description of Work | D3: Quantity | F3: Unit | G3: Unit (in words) | I3: Rate | J3: Amount (Rs.)
I4: In Figures
A6: 1 | C6: ='C-data'!C213:I213 -> Earth work excavation and depositing on bank (manual means) with initial lead of 10m and initial lift of 3m in Loamy & Clayey Soils like BC Soils, Red Earth & Ordinary Gravelly Soils ( SS 20-B) including all operational incidental labour charges such as shoring, strutting, sheeting, planking and dewatering including cost of hire charges of T & P, labour charges etc., complete for finished item of work excluding seignerage charges and dewatering charges etc., complete for Foundation of Building.(APSS No. 308) | D6: ='Security-GF '!H9 -> 28 | E6: CUM | F6: 1 | G6: =IF(F6=10,"Ten",IF(F6=1,"ONE","")) -> ONE | H6: =E6 -> CUM | I6: ='C-data'!I218 -> 312.15 | J6: =ROUND(D6*I6/F6,0) -> 8740
A8: =A6+1 -> 2 | C8: ='C-data'!C277:I277 -> Plain Cement Concrete corresponding to M7.5 grade as per IS 456 equivalent to (1:4:8) proportion nominal mix (cement: fine aggregate: Coarse aggregate) using , 40mm size Hard Blasted Granite (IS383, 1970) metal from approved quarry including cost and conveyance of all materials like cement, sand, coarse aggregate, water etc. to site, including sales & other taxes on all materials, all operational, incidental, and labour charges such as mixing, laying and ramming concrete in layers in position not exceeding 15cm, finishing top surface, curing concrete, etc., complete but excluding seigniorage charges, for finished item of work for Foundations (APSS No. 402) | D8: ='Security-GF '!H15 -> 2 | E8: CUM | F8: 1 | G8: =IF(F8=10,"Ten",IF(F8=1,"ONE","")) -> ONE | H8: =E8 -> CUM | I8: ='C-data'!I290 -> 3769.55 | J8: =ROUND(D8*I8/F8,0) -> 7539
A10: =A8+1 -> 3 | C10: ='C-data'!C263:I263 -> Plain Cement Concrete corresponding to M5 grade as per IS 456 equivalent to (1:5:10) proportion nominal mix (cement: fine aggregate: Coarse aggregate) using,40mm size Hard Blasted Granite (IS383, 1970) metal from approved quarry including cost and conveyance of all materials like cement, sand, coarse aggregate, water etc. to site, including sales & other taxes on all materials, all operational, incidental, and labour charges such as mixing, laying and ramming concrete in layers in position not exceeding 15cm, finishing top surface, curing concrete, etc., complete but excluding seigniorage chargesfor finished item of work for Foundations and Flooring Bed (APSS No. 402) | D10: ='Security-GF '!H28 -> 3 | E10: CUM | F10: 1 | G10: =IF(F10=10,"Ten",IF(F10=1,"ONE","")) -> ONE | H10: =E10 -> CUM | I10: ='C-data'!I276 -> 3537.3 | J10: =ROUND(D10*I10/F10,0) -> 10612
