Workbook
Name \: #REF!
Name \: #REF!
Name \: #REF!
Name \: #REF!
Name \: #REF!
Name \: #REF!
Name \a: #REF!
Name \a: #REF!
Name \a: #REF!
Name \a: #REF!
Name \P: #REF!
Name ____: #REF!
Name ____: #REF!
Name ____: #REF!
Name ____: #REF!
Name _____________________________________________________________________l12: #REF!
Name _____________________________________________________________________l3: #REF!
Name _____________________________________________________________________l5: #REF!
Name _____________________________________________________________________var1: #REF!
Name _____________________________________________________________________var4: #REF!
Name ____________________________________________________________________l12: #REF!
Name ____________________________________________________________________l3: #REF!
Name ____________________________________________________________________l5: #REF!
Name ____________________________________________________________________var1: #REF!
Name ____________________________________________________________________var4: #REF!
Name ___________________________________________________________________l12: #REF!
Name ___________________________________________________________________l3: #REF!
Name ___________________________________________________________________l5: #REF!
Name ___________________________________________________________________pc2: #REF!
Name ___________________________________________________________________pv2: #REF!
Name ___________________________________________________________________var1: #REF!
Name ___________________________________________________________________var4: #REF!
Name __________________________________________________________________pc2: #REF!
Name __________________________________________________________________pv2: #REF!
Name _________________________________________________________________l12: #REF!
Name _________________________________________________________________l3: #REF!
Name _________________________________________________________________l5: #REF!
Name _________________________________________________________________pc2: #REF!
Name _________________________________________________________________pv2: #REF!
Name _________________________________________________________________var1: #REF!
Name _________________________________________________________________var4: #REF!
Name ________________________________________________________________l12: #REF!
Name ________________________________________________________________l3: #REF!
Name ________________________________________________________________l5: #REF!
Name ________________________________________________________________pc2: #REF!
Name ________________________________________________________________pv2: #REF!
Name ________________________________________________________________var1: #REF!
Name ________________________________________________________________var4: #REF!
Name _______________________________________________________________l12: #REF!
Name _______________________________________________________________l3: #REF!
Name _______________________________________________________________l5: #REF!
Name _______________________________________________________________pc2: #REF!
Name _______________________________________________________________pv2: #REF!
Name _______________________________________________________________var1: #REF!
Name _______________________________________________________________var4: #REF!
Name ______________________________________________________________l12: #REF!
Name ______________________________________________________________l3: #REF!
Name ______________________________________________________________l5: #REF!
Name ______________________________________________________________pc2: #REF!
Name ______________________________________________________________pv2: #REF!

Sheet 0000000000000

Sheet 1000000000000

Sheet VUP Data
B1: DATA-CD STRUCTURES
B2: Name of Work ::- | D2: =#REF! -> #REF!
A4: S.No. | B4: Quantity | D4: Description of Item | H4: Rate | I4: per | J4: Amount (Rs.)
A6: 1 | B6: Dismantling of Structures (superstructure, substructure, foundation and other miscellaneous structures) and pavements including disposing of resulting materials and/or salvaging useful materials up to a distance of 1 km from project road complete as per Drawings and Technical Specification Clause MoRT&H 202 and as directed by the Engineer.(By Mechanical means in Cement Concrete grade M-15 & M-20)
D7: Page 23,24,25 of MoRT&H SDB
B8: Unit = cum
B9: Taking output = 1.25 cum
D10: (A) Labour
B11: 0.02 | C11: no | D11: Mate | H11: ='SSR-rates'!$H$58 -> 490 | I11: 1 | J11: =ROUND(B11*H11,2) -> 9.8
B12: 0.25 | C12: no | D12: Mazdoor skilled | H12: ='SSR-rates'!$H$59 -> 524 | I12: 1 | J12: =ROUND(B12*H12,2) -> 131
B13: 0.25 | C13: no | D13: Mazdoor unskilled | H13: ='SSR-rates'!$H$60 -> 490 | I13: 1 | J13: =ROUND(B13*H13,2) -> 122.5
B14: ='Input Data'!$D$23 -> 0 | D14: Agency area allowance | H14: =SUM(J11:J13) -> 263.3 | J14: =B14*H14 -> 0
D15: TOTAL | I15: A = | J15: =SUM(J11:J14) -> 263.3
D16: (B ) Machinery | L16: Air compressor 250 cfm with 2 leads of
D17: Air compressor 250 cfm with 2 leads of
B18: 0.67 | D18: pneumatic breaker @ 1.5 cum per hour | H18: ='SSR-rates'!$H$73 -> 619.5 | J18: =ROUND(B18*H18,2) -> 415.07 | L18: pneumatic breaker @ 1.5 cum per hour
B19: 0.27 | C19: hour | D19: Tractor Trolley | H19: ='SSR-rates'!$H$70 -> 465 | I19: 1 | J19: =ROUND(B19*H19,2) -> 125.55
D20: TOTAL | I20: B = | J20: =SUM(J18:J19) -> 540.62
D21: (A + B ) | J21: =J15+J20 -> 803.92
C22: (C) | D22: Over Head Charges on (A+B)
B23: ='Input Data'!$D$24 -> 0.13615 | D23: ="Over head charges "&'Input Data'!$D$24*100&"% on (A) + (B)" -> Over head charges 13.615% on (A) + (B) | H23: =J21 -> 803.92 | J23: =H23*B23 -> 109.45371
B25: 10 | C25: % | D25: (D) Contractors Profit on (A+B+C) | H25: =H23+J23 -> 913.37371 | J25: =ROUND(B25*H25/100,2) -> 91.34
B27: 1.25 | C27: cum | D27: =CONCATENATE("TOTAL Cost for ",B27," ",C27," = (A+B+C+D)",) -> TOTAL Cost for 1.25 cum = (A+B+C+D) | J27: =SUM(J21:J25) -> 1004.7137
D28: =CONCATENATE("Rate per 1 ",C27) -> Rate per 1 cum | J28: =J27/B27 -> 803.77097
D29: =D28 -> Rate per 1 cum | J29: =ROUND(J28,0) -> 804
B30: Earthwork excavation in soils upto SDR by mechanical means for foundations of structures as per drawing and technical specification including setting out, construction of shoring and bracing, removal of stumps and other deleterious matter, dressing sides of bottom, back filling the excavation earth to the extent required etc., complete excluding seignioarge charges for finished item of work as per MoRT&H specification 304(5th Revision) and as directed by the Engineer-in-Charge. (Payment Based on Levels)
B31: Unit : Cum | F31: Page 323 of MoRT&H SDB
B32: Taking out put = 240 Cum
B33: (A) | C33: Labour
B34: 0.32 | C34: day | D34: Mate | H34: ='SSR-rates'!$H$58 -> 490 | I34: day | J34: =ROUND(B34*H34,2) -> 156.8
B35: 8 | C35: day | D35: Mazdoor unskilled | H35: ='SSR-rates'!$H$60 -> 490 | I35: day | J35: =ROUND(B35*H35,2) -> 3920
B36: ='Input Data'!$D$23 -> 0 | D36: Agency area allowance | H36: =SUM(J34:J35) -> 4076.8 | J36: =B36*H36 -> 0
J37: =SUM(J34:J36) -> 4076.8
B38: (B) | C38: Machinery
B39: 6 | C39: hr | D39: Hydraualic Excavator 1 Cum bucket capacity @ 60 cum/hr | H39: ='SSR-rates'!$H$64 -> 3331.2 | I39: hr | J39: =ROUND(B39*H39,2) -> 19987.2
C40: cum | D40: Rate as per G.O. Ms No 10, Dt 26/7/2005 | H40: 13 | I40: cum | J40: =ROUND(B40*H40,2) -> 0
B42: (C) | C42: Over head charges
B43: ='Input Data'!$D$25 -> 0 | C43: ="Over head charges "&'Input Data'!$D$25*100&"% on (A) + (B)" -> Over head charges 0% on (A) + (B) | H43: =J39+J37 -> 24064 | J43: =H43*B43 -> 0
B44: (D) | C44: Total of (A) + (B)+( C) | J44: =J37+J40+J41+J43 -> 4076.8
B45: (E) | C45: Add Contractors Profit at 10% on (D) | J45: =J44*10/100 -> 407.68
...

Sheet temp-calculations
A1: ='Schedule-A'!D3 -> BT Renewal from Balabadraipally to Danamma Thanda of Gundumal Mandal in Narayanpet District
B2: ='Schedule-A'!H4 -> NIT.No-- | C2: Estt.Cost.Rs. | D2: ='Schedule-A'!C4 -> 96.15 | E2: Lakhs
A3: ECV | B3: ='Schedule-A'!H192 -> 7737566 | C3: =B3 -> 7737566 | D3: 1% | E3: 0.015 | F3: 0.025
A4: EMD | B4: 1% ECV | C4: =CEILING(1%*B3,100) -> 77400 | D4: =CEILING(1%*C3,100) -> 77400 | E4: =CEILING(1.5%*C3,100) -> 116100 | F4: =SUM(D4:E4) -> 193500
A5: C1- TRANSATION FEE | B5: 0.03% of ECV+12.36% service tax | C5: Plus 12.36% service tax with upper ceiling of 10000+1236=11236/- up to 50.00 Crore | D5: =1.12368*(ROUND(0.03%*C3,0)) -> 2608.0613 | E5: 11236/-
A6: Period of contract in months | B6: =IF(B3<=20000000,12,15) -> 12 | C6: up to 2.00Cr -> 12 months above 2.00 Cr -> 15 months
A7: Solvency | B7: 3 x ECV / Period of Contract in months | C7: =ROUNDUP((3*C3)/(B6),0) -> 1934392 | D7: MTC-> | E7: ='Schedule-A'!#REF! -> #REF! | F7: ='Schedule-A'!#REF! -> #REF!
A8: Prime Contractor | B8: 50% of ECV X 12 / Period of Contract | C8: =ROUNDUP(50%*C3*12/B6,0) -> 3868783
A9: Bid Capacity | B9: ECV | C9: =C3 -> 7737566
A10: Quantities | B10: 50 % of Est. Qty X 12/Period of contract | C10: Required Quantity
A11: Earth work | B11: 0 | C11: =ROUNDUP(B11*50%*12/B6,0) -> 0 | D11: cum
A12: Gravel/GSB | B12: 0 | C12: =ROUNDUP(B12*50%*12/B6,0) -> 0 | D12: cum
A13: WBM/WET MIX | B13: 0 | C13: =ROUNDUP(B13*50%*12/B6,0) -> 0 | D13: cum
A14: BT ALL TYPES Sqm | B14: 0 | C14: =ROUNDUP(B14*50%*12/B6,0) -> 0 | D14: Sqm
A15: CC or VCC or VRCC | B15: 0 | C15: =ROUNDUP(B15*50%*12/B6,0) -> 0 | D15: cum
A17: MILE STONES | B17: Mile stone -1 ( Fnancial ) | C17: =(C9/3) -> 2579188.7 | D17: =C17*0.5 -> 1289594.3 | E17: =ROUND(D17*0.1%,0) -> 1290
B18: Mile stone -2 ( Fnancial ) | C18: =2*C17 -> 5158377.3 | D18: =C18*0.5 -> 2579188.7 | E18: =ROUND(D18*0.1%,0) -> 2579
B19: Mile stone -3 ( Fnancial ) | C19: =3*C17 -> 7737566 | D19: =C19*0.5 -> 3868783 | E19: =ROUND(D19*0.1%,0) -> 3869
D20: =SUM(D17:D19) -> 7737566 | F20: Rs.100/per Lakh per day | G20: OK | H20: =C20*0.5% -> 0
A21: LIQUIDITY DAMAGES | B21: For Mile stone -1 | C21: =ROUND(((C3/3)/1000),0) -> 2579 | D21: =C21*10% -> 257.9 | E21: =C3/3 -> 2579188.7 | F21: =E21*100/100000 -> 2579.1887 | G21: =C21-F21 -> -0.18866667
B22: For Mile stone -2 | C22: =C21 -> 2579 | D22: =C22*10% -> 257.9 | E22: =E21*2 -> 5158377.3 | F22: =E22*100/100000 -> 5158.3773 | G22: =C22-F22 -> -2579.3773
B23: For Mile stone -3 | C23: =C22 -> 2579 | D23: =C23*10% -> 257.9 | E23: =E21*3 -> 7737566 | F23: =E23*100/100000 -> 7737.566 | G23: =C23-F23 -> -5158.566
B25: Total | C25: =C21*3 -> 7737 | E25: TCV | F25: 0.10% of TCV | H25: =D17*10% -> 128959.43
D26: Mile stone 1 | E26: =C3/3 -> 2579188.7 | F26: =E26*0.1% -> 2579.1887 | G26: =C21-F26 -> -0.18866667 | H26: =D18*10% -> 257918.87
D27: Mile stone 2 | E27: =E26*2 -> 5158377.3 | F27: =E27*0.1% -> 5158.3773 | G27: =C22-F27 -> -2579.3773 | H27: =D19*10% -> 386878.3
D28: Mile stone 3 | E28: =E26*3 -> 7737566 | F28: =E28*0.1% -> 7737.566 | G28: =C23-F28 -> -5158.566 | H28: =SUM(H25:H27) -> 773756.6

Sheet Input Data
B1: Name of the Work:- | E1: BT Renewal from Balabadraipally to Danamma Thanda of Gundumal Mandal in Narayanpet District
H2: Sanction Details | K2: Go.No | L2: Go. Date | M2: Sl.No.in Go
B3: 1 | C3: (P.R) Circle | D3: Vikarabad | E3: Vkb | H3: Administrative sanction Ref.
B4: 2 | C4: District | D4: Narayanpet | H4: Sanctioned Amount | I4: Rs. in Lakhs | J4: 96.15 | K4: =J4 -> 96.15 | L4: NIT.NO
B5: 3 | C5: (P.R) Division | D5: Narayanpet | H5: Sanctioned Length | I5: In Km | J5: 2.07 | K5: =J5 -> 2.07 | L5: -
B6: 4 | C6: (P.R) Sub-Division | D6: Maddur | H6: Grant | I6: SDF | J6: =H7&""&I6&"-"&I7 -> SDF-2024-25 | K6: common List Sl.No | L6: 0
B7: 5 | C7: Mandal | D7: Gundumal | I7: 2024-25
B9: Lead Distance | G9: Bitumen & Emulsion
B10: S.No | C10: Item | D10: Sourse of Meterial | E10: Km | G10: Location | I10: Chennai IOCL | J10: IOCL Intial Rate excluding GST
B11: 1 | C11: Metal Cushed | D11: MBNR(Palkonda) | E11: 59 | G11: S.No | H11: Dated | I11: Item
B12: 2 | C12: Manufactured Sand (Rock Sand) | D12: =D11 -> MBNR(Palkonda) | E12: =E11 -> 59
B13: 3 | C13: Sand concrete | D13: Warkur(Maganur) | E13: =72+12+1 -> 85
B14: 4 | C14: Sand for filling | D14: Local | E14: 5 | G14: 1 | H14: 45642 | I14: Bulk VG 30 Grade 60/70 | J14: 45682
B15: 5 | C15: Gravel | D15: Local | E15: 8 | G15: 2 | H15: =H14 -> 45642 | I15: Emulsion SS-1 (Bulk) | J15: 75983
B16: 6 | C16: Pipes | D16: Kothakota | E16: =91+1 -> 92 | G16: 3 | H16: =H15 -> 45642 | I16: Rapid Setting -I Bulk | J16: 43017
B17: 7 | C17: concrete mix | E17: 1
B18: 8 | C18: Borrowed earth | D18: Local | E18: 8
B19: 9 | C19: Selected earth for shoulder | D19: Local | E19: 5 | H19: Rates as on | I19: NOV' 2024 | J19: Till Nov same rates as sep phmed
B20: 10 | C20: BT Lead in Kms (Round Trip) | D20: chennai | E20: 650
B21: 11 | C21: Metal Hand Broken | D21: =D11 -> MBNR(Palkonda) | E21: =E11 -> 59
B22: Allowance | G22: Cement & Steel Rates
B23: 1 | C23: MAA/AA | D23: 0 | G23: S.No | H23: Item | I23: Amount in Rs.
B24: 2 | C24: OHC- Road Work | D24: 0.13615 | E24: 0 | G24: 1 | H24: ="Cement, "&I19&"" -> Cement, NOV' 2024 | I24: 5000
B25: 3 | C25: OHC- Bridge Work | D25: 0 | G25: 2 | H25: ="Steel HYSD-Fe-500 Bars, "&I19&"" -> Steel HYSD-Fe-500 Bars, NOV' 2024 | I25: 49000
B26: 4 | C26: Water cost Allowed Y/N | D26: N | G26: 3 | H26: ="Mild Steel Bars, "&I19&"" -> Mild Steel Bars, NOV' 2024 | I26: 60000
G27: 4 | H27: ="6mm M.S. Rods, "&I19&"" -> 6mm M.S. Rods, NOV' 2024 | I27: 55000

Sheet Cover Page
C3: GOVERNMENT OF TELANGANA
C7: PANCHAYATRAJ ENGINEERING DEPARTMENT
F11: DETAILED ESTIMATE
C14: Name of Grant | I14: : | J14: ='Input Data'!J6 -> SDF-2024-25
C16: Name of Work:-
C17: ='Input Data'!E1 -> BT Renewal from Balabadraipally to Danamma Thanda of Gundumal Mandal in Narayanpet District
D22: Amount Sanctioned | K22: : | L22: Rs. | M22: ='Input Data'!K4 -> 96.15 | O22: Lakhs
D23: Proposed Length | K23: : | L23: ='Input Data'!K5 -> 2.07 | N23: Km
C25: (P.R) Region | G25: :: | H25: ='Input Data'!D3 -> Vikarabad
C26: District | G26: :: | H26: ='Input Data'!D4 -> Narayanpet
C27: (P.R) Division | G27: :: | H27: ='Input Data'!D5 -> Narayanpet
C28: (P.R) Sub-Division | G28: :: | H28: ='Input Data'!D6 -> Maddur
C29: Mandal | G29: :: | H29: ='Input Data'!D7 -> Gundumal

Sheet Inspection Report
A2: Inspection report of the Superintending Engineer, PR, Region, Vikarabad
A3: Present: Sri P.Srinivas Reddy, B.Tech.
A6: 1 | B6: Date of Inspection | D6: :
A7: 2 | B7: Name of the Officers present | D7: : | E7: 1 | F7: M.Heerya,Executive Engineer, PR, Division, Narayanpet
D8: : | E8: 2 | F8: B.Vilok, Dy. Executive Engineer, PR, SD,Maddur'
D9: : | E9: 3 | F9: A.Anjireddy, Asst.Exe Engineer, PRSD Maddur
A10: 3 | B10: Name of the Work | D10: : | E10: ='Input Data'!E1 -> BT Renewal from Balabadraipally to Danamma Thanda of Gundumal Mandal in Narayanpet District
A11: 4 | B11: Estimated Cost | D11: : | E11: Rs. | G11: ='Input Data'!J4 -> 96.15 | H11: Lakhs
A12: 5 | B12: Administrative Sanction | D12: : | E12: ='Input Data'!I3 -> 0
A13: 6 | B13: Grant | D13: : | E13: ='Input Data'!J6 -> SDF-2024-25
C16: =CONCATENATE("The total length of the Road is ",'Input Data'!J5," Km. ",'Road Estimate'!B45," Km is BT Surface with many pot holes along with damaged WMM with existing GSB 125mm and WMM 75mm thick.") -> The total length of the Road is 2.07 Km. 0/000 to 2/070 km Km is BT Surface with many pot holes along with damaged WMM with existing GSB 125mm and WMM 75mm thick.
C17: =CONCATENATE(" As the reaches ",'Road Estimate'!B25," Km is badly damaged along with WMM, Scarify existing BT from",'Road Estimate'!B25," Km & Provide BT with DGBM 50mm ,BC 30mm over WMM 150mm as per traffic conditions.") -> As the reaches 0/000 to 2/070 km Km is badly damaged along with WMM, Scarify existing BT from0/000 to 2/070 km Km & Provide BT with DGBM 50mm ,BC 30mm over WMM 150mm as per traffic conditions.
C18: The entire road stretch is passing through Fertile lands. Therefore Iron Cage Wheel tractors are regularly being passed on the road for cultivation purpose. Therefore, Provide BT with DGBM 50mm ,BC 30mm over WMM 150mm as a special case to over the above problem and to provide better riding surface.
B19: S.No | C19: Existing Type of surface | D19: Reaches | F19: Total Length in mts | H19: Remarks
B20: 1 | C20: Existing damaged BT Surface along with WMM | D20: ='Road Estimate'!B6 -> 0/000 to 2/070 km | F20: ='Road Estimate'!F6 -> 2070 | H20: Provide BM 50mm over BC 30mm over WMM 150mm as the existing BT Surface is badly damaged along with WMM
C21: Total | F21: =SUM(F20:G20) -> 2070
B25: The Executive Engineer, PR, Division, Tandur is requested to prepare the Detailed Estimate with above provisions
H28: Superintending Engineer
H29: PR, Region, Vikarabad

Sheet Note File
B1: ESTIMATE NOTE FILE | K1: CIRCLE | L1: ='Input Data'!D3 -> Vikarabad | P1: TS Date
B2: ="Note file.No. "&$L$2 -> Note file.No. AE-DEE-Gundumal-Vkb-SDF-2024-25 | L2: ="AE-DEE-"&'Input Data'!D7&"-"&N4 -> AE-DEE-Gundumal-Vkb-SDF-2024-25 | P2: Dt: -12-2024
B3: Subject :- | C3: ="PR Circle: "&L1&" - "&$L$7&" Dist"&'Input Data'!J6&" - "&$L$3&"- Estt.Cost.Rs."&$L$4&".00 Lakhs Detailed estimates Submitted for Technical Sanction - regarding" -> PR Circle: Vikarabad - Narayanpet DistSDF-2024-25 - BT Renewal from Balabadraipally to Danamma Thanda of Gundumal Mandal in Narayanpet District - Estt.Cost.Rs.96.15.00 Lakhs Detailed estimates Submitted for Technical Sanction - regarding | K3: Name of the work | L3: ='Input Data'!E1 -> BT Renewal from Balabadraipally to Danamma Thanda of Gundumal Mandal in Narayanpet District
B4: Reference:- | C4: ="1)."&'Input Data'!I3&"." -> 1).. | K4: Estt.Cost | L4: ='Input Data'!J4 -> 96.15 | M4: CAT | N4: ='Input Data'!E3&"-"&'Input Data'!J6&"" -> Vkb-SDF-2024-25 | Q4: ='Input Data'!L6 -> 0
C5: ="2). SE,PR,"&$L$1&$O$7 -> 2). SE,PR,Vikarabad vide Lr.No.T4/CRR/Wanaparthy/22 Dt: 06.09.2022 | K5: Mandal | L5: ='Input Data'!D7 -> Gundumal | M5: Length Sanctioned | N5: ='Input Data'!J5 -> 2.07
C6: 3)SE,PR,Warangal vide Lr.No.T4/Tenders/2021-22 Dt 03.08.2022
E7: ***** | K7: Dist | L7: ='Input Data'!D4 -> Narayanpet | M7: Length Proposed | N7: ='Input Data'!K5 -> 2.07 | O7: vide Lr.No.T4/CRR/Wanaparthy/22 Dt: 06.09.2022
B8: Submitted, Sir, | K8: Division | L8: ="P.R."&'Input Data'!D5 -> P.R.Narayanpet
B9: Kindly peruse the ref. 2nd cited where in the SE (PR) Vikarabad has submitted detailed estimates of above subject work Sanctioned vide reference 1st cited under -CRR-2024-25 grant and requested for according technical sanction the details are as follows. | K9: TS amount | L9: =ROUND(GA!E21/100000,2) -> 96.15
A10: 1 | B10: Name of the District | E10: : | F10: ='Input Data'!D4 -> Narayanpet | K10: Schedule-A Road | L10: ='Schedule-A'!H191 -> 7737566
A11: 2 | B11: Name of the Division | E11: : | F11: =L8 -> P.R.Narayanpet | K11: Schedule-A MTc. | L11: ='Schedule-A'!#REF! -> #REF!
A12: 3 | B12: Name of the Mandal | E12: : | F12: =L5 -> Gundumal | K12: ECV | L12: =CEILING(SUM(L10:L11),1) -> #REF! | M12: =L13-L12 -> #REF!
A13: 4 | B13: Name of the work | E13: : | F13: =L3 -> BT Renewal from Balabadraipally to Danamma Thanda of Gundumal Mandal in Narayanpet District | L13: ='Schedule-A'!H192 -> 7737566 | M13: Diff
A14: 5 | B14: Administrative sanction Ref. No. & date | E14: : | F14: ='Input Data'!I3 -> 0 | N14: =7.5*3 -> 22.5 | O14: =2*7.5*3 -> 45
A15: 6 | B15: Category of Sanction | E15: : | F15: ='Input Data'!J6 -> SDF-2024-25 | N15: =(0.91+0.76)/2 -> 0.835 | O15: =2.7/2 -> 1.35
A16: 7 | B16: Estimate Cost | E16: : | F16: =L4 -> 96.15 | N16: =N14*N15 -> 18.7875 | O16: =O14*O15 -> 60.75
A17: 8 | B17: Length Proposed | E17: : | F17: ='Input Data'!J5 -> 2.07 | K17: =F17*3 -> 6.21
A18: 9 | B18: Habitations connected
A19: Sl.No | C19: Name of the Mandal | F19: Name of the village | H19: Popupation as per 2011 cencus | T19: 1505 | V19: Directly benefited
H20: SC | I20: ST | J20: Plain
A21: 1 | C21: =SPR!C10 -> Gundumal | F21: =SPR!F10 -> Balabadraiaplly | H21: =SPR!J10 -> 602 | I21: =SPR!L10 -> 0 | J21: =SPR!O10 -> 1085
A22: 2 | C22: =SPR!C11 -> Gundumal | F22: =SPR!F11 -> Danamma Thanda | H22: =SPR!J11 -> 0 | I22: =SPR!L11 -> 145 | J22: =SPR!O11 -> 0
A23: Total | I23: 2825
A24: ="The true extract of the Inspection report of the SE, PR, "&L1&""&'Inspection Report'!E6&"" -> The true extract of the Inspection report of the SE, PR, Vikarabad
A25: ='Inspection Report'!C16 -> The total length of the Road is 2.07 Km. 0/000 to 2/070 km Km is BT Surface with many pot holes along with damaged WMM with existing GSB 125mm and WMM 75mm thick.
A26: ='Inspection Report'!C17 -> As the reaches 0/000 to 2/070 km Km is badly damaged along with WMM, Scarify existing BT from0/000 to 2/070 km Km & Provide BT with DGBM 50mm ,BC 30mm over WMM 150mm as per traffic conditions.
A27: ='Inspection Report'!C18 -> The entire road stretch is passing through Fertile lands. Therefore Iron Cage Wheel tractors are regularly being passed on the road for cultivation purpose. Therefore, Provide BT with DGBM 50mm ,BC 30mm over WMM 150mm as a special case to over the above problem and to provide better riding surface.
A28: ='Inspection Report'!#REF! -> #REF!
A29: ='Inspection Report'!C22 -> 0
A30: ='Inspection Report'!C23 -> 0
A31: ='Inspection Report'!C24 -> 0 | L31: CVPD | M31: Curve | N31: CBR
A32: ='Inspection Report'!C25 -> 0 | L32: ='TRAFF-Count-ESAL-Cal'!N11 -> 176 | M32: ='ESAL-result'!K16 -> 9 | N32: ='ESAL-result'!E29/100 -> 0.1
A33: 10 | B33: Existing Surface Details | E33: Reaches | H33: Length in mtrs | I33: Status | J33: Proposed | L33: Existing Surface Details
A34: 1 | B34: =SPR!C18 -> Damaged BT | E34: =SPR!F18 -> 0/000 to 2/070 km | H34: =SPR!K18 -> 2700 | I34: =B34 -> Damaged BT | J34: CC
A35: 2 | B35: =SPR!C19 -> Earthen | E35: =SPR!F19 -> 0 | H35: =SPR!K19 -> 0 | I35: =B35 -> Earthen | J35: CC | L35: =45+10+40+55+8+20 -> 178
H36: =SUBTOTAL(9,H34:H35) -> 2700 | M36: Total | P36: 0/0 - 2/810 | U36: =SUM(#REF!) -> #REF!
A38: 11 | B38: Traffic Count: 242 CVPD | E38: ESAL = | F38: 1592344 | G38: Adopting T9 curve with CBR 5% as per SPR72-2015
B49: The crust proposed by SE | F49: As per (IRC -SP-72-2015) the crust is to be provided
B50: Cumulative No. Of std. Axles | D50: N= msa | E50: CBR 3% | H50: May be provided as per existing crust | J50: Remarks
B51: The pavement layer proposed by SE is as follows | F51: As per (IRC -SP-72-2015)
...

Sheet GA
A1: GENERAL ABSTRACT
A2: Name of Work: | B2: ='Input Data'!E1 -> BT Renewal from Balabadraipally to Danamma Thanda of Gundumal Mandal in Narayanpet District
B3: Estt.Cost Rs. | C3: ='Input Data'!J4 -> 96.15 | E3: Lakhs
A4: Sl. No. | B4: Particular | E4: Amount (Rs.)
A5: PART-(A)
B6: Road Works
A7: 1 | B7: Road work | C7: ='Input Data'!J5 -> 2.07 | E7: ='Road Estimate'!L64 -> 7359540
A8: 2 | B8: CD Works | C8: Nos | E8: ='CD Abs'!E14 -> 0 | G8: =F8-E8 -> 0 | I8: =279184*2 -> 558368
A9: =A7+1 -> 2 | B9: Road Furniture | E9: ='Road-furniture '!G18 -> 58374 | I9: =613168 -> 613168
A10: =A9+1 -> 3 | B10: Road Safety Interventions | E10: ='RSI-Estt'!L28 -> 319652
B11: Sub-Total | E11: =SUM(E7:E10) -> 7737566
A12: =A10+1 -> 4 | B12: Q.C. Charges @ 0.50% | E12: =ROUND(E11*0.5%,0) -> 38688
A13: =A12+1 -> 5 | B13: NAC @ 0.10% | E13: =ROUND(E11*0.1%,0) -> 7738
A14: =+A13+1 -> 6 | B14: Seignarage Charges | E14: =Seigneorage!G107 -> 170348
A15: =+A14+1 -> 7 | B15: Add DMF @ 30% on Seignarage amount | E15: =ROUND(E14*30%,0) -> 51104
A16: =+A15+1 -> 8 | B16: Add SMET @2% on Seignarage amount | E16: =ROUND(E14*2%,0) -> 3407
A17: =+A16+1 -> 9 | B17: Add 0.8 times permit fee on Seign Charges | E17: =ROUND(E14*80%,0) -> 136278 | H17: =E14*0.008 -> 1362.784
B18: Sub-Total | E18: =SUM(E11:E17) -> 8145129 | K18: =168.5/2.5 -> 67.4
A19: =A17+1 -> 10 | B19: Add GST @ 18% | E19: =ROUND(E18*18%,0) -> 1466123
A20: =A19+1 -> 11 | B20: Unforeseen, price escalation, Seinarage, as per Govt. orders and rounding off | E20: =G20 -> 3748 | G20: =(C3*100000)-E18-E19 -> 3748 | H20: =E20-G20 -> 0 | I20: =E20/E21 -> 0.00038980759
B21: Total Amount (Part- A) | E21: =SUM(E18:E20) -> 9615000 | G21: =+'Input Data'!J4*100000-SUM(E11:E20) -> -8145129
A22: PART- (B)
B23: Maintenance Estimate
A24: 1 | B24: Routine Maintanance for 5 YEARS | E24: ='Mtc-Abs'!D15 -> 661485
A25: 2 | B25: Add GST on Maintanence @ 12.00% | E25: ='Mtc-Abs'!D16 -> 79378
A26: 3 | B26: Add LS For U/F items | E26: ='Mtc-Abs'!D17 -> 9137
B27: Total Part-B | E27: =SUM(E24:E26) -> 750000
B28: Total (Part- A+B) | E28: =E21+E27 -> 10365000
A30: =" The work is Administratively Sanctioned for Rs."&'Input Data'!J4&".00 lakhs, Vide "&'Input Data'!I3&" under "&'Input Data'!J6 -> The work is Administratively Sanctioned for Rs.96.15.00 lakhs, Vide under SDF-2024-25
A32: =" The Estimate of work '' "&'Input Data'!E1&" '' is Technically sanctioned for Rs."&'Note File'!L9&" lakhs, and Technically Approved for Rs."&ROUND(E28/100000,2)&" lakhs Vide TSR No. /2021-22 dated -11-2021." -> The Estimate of work '' BT Renewal from Balabadraipally to Danamma Thanda of Gundumal Mandal in Narayanpet District '' is Technically sanctioned for Rs.96.15 lakhs, and Technically Approved for Rs.103.65 lakhs Vide TSR No. /2021-22 dated -11-2021.
B34: Asst Exe Engineer, | C34: Dy. Exe. Engineer | G34: LS below 10%
B35: PRSD Maddur | C35: ="PRSD, "&'Input Data'!D6&"" -> PRSD, Maddur
B37: District Panchayat Raj Engineer, | C37: Superintending Engineer
B38: ="PR Division, "&'Input Data'!D5&"" -> PR Division, Narayanpet | C38: ="PR, Circle, "&'Input Data'!D3&"" -> PR, Circle, Vikarabad
C40: Engineer-In-chief
C41: P.R, Hyderabad

Sheet ESAL-result
B1: State- | C1: TELANGANA | D1: Name of the Road | F1: ='Input Data'!E1 -> BT Renewal from Balabadraipally to Danamma Thanda of Gundumal Mandal in Narayanpet District
B2: District- | C2: ='Input Data'!D4 -> Narayanpet
B3: Block- | C3: ='Input Data'!D7 -> Gundumal
B5: INPUT | H5: RESULT
K6: ADT | L6: AADT
D7: Traffic count | E7: VDF Values
H8: Total motorised Vehicle per Day | K8: ='TRAFF-Count-ESAL-Cal'!G12 -> 512 | L8: ='TRAFF-Count-ESAL-Cal'!G16 -> 638
B9: (cars/vans/jeeps/ three wheelers) | D9: ='TRAFF-Count-ESAL-Cal'!B11 -> 139
B10: LCV | D10: 0 | H10: Commercial vehicles per Day | K10: =SUM('TRAFF-Count-ESAL-Cal'!D11:I11) -> 176 | L10: =SUM('TRAFF-Count-ESAL-Cal'!G20:G25) -> 247
B11: HCV (Truck/Buses) | C11: Laden | D11: ='TRAFF-Count-ESAL-Cal'!G11 -> 75 | E11: 2.58
C12: Unladen | D12: ='TRAFF-Count-ESAL-Cal'!H11 -> 17 | E12: 0.31 | H12: Before opening to traffic , AADT | K12: ='TRAFF-Count-ESAL-Cal'!G18 -> 717
C13: Over loaded | D13: ='TRAFF-Count-ESAL-Cal'!I11 -> 0 | E13: 2.86
B14: MCV (Tractor/Trollies/ Mini-Buses) | C14: Laden | D14: ='TRAFF-Count-ESAL-Cal'!D11 -> 47 | E14: 0.31 | H14: Final cumulative ESAL | K14: ='TRAFF-Count-ESAL-Cal'!G30 -> 1501032
C15: Unladen | D15: ='TRAFF-Count-ESAL-Cal'!E11 -> 10 | E15: 0.02
C16: Over loaded | D16: ='TRAFF-Count-ESAL-Cal'!F11 -> 27 | E16: 0.34 | H16: Traffic Category | J16: T | K16: 9
B17: Two wheelers | D17: ='TRAFF-Count-ESAL-Cal'!C11 -> 168
B18: Bicycles | D18: ='TRAFF-Count-ESAL-Cal'!J11 -> 29
B19: Bullock cart | C19: solid wheel | D19: ='TRAFF-Count-ESAL-Cal'!K11 -> 0
C20: Pnu. Tyres | D20: ='TRAFF-Count-ESAL-Cal'!L11 -> 0 | K20: THICKNESS
H21: BC | K21: 30 | M21: PLEASE ENTER MANUALLY ALL THE VALUES AS PER DESIGN CURVES SHEET
H22: DGBM | K22: 50 | M22: PLEASE ENTER MANUALLY ALL THE VALUES AS PER DESIGN CURVES SHEET
B23: Time after which road will be opened to Traffic (year) | E23: 2 | H23: WBM/CRMB/ BASE OF GRAVEL | K23: 225 | M23: PLEASE ENTER MANUALLY ALL THE VALUES AS PER DESIGN CURVES SHEET
B24: Traffic count during harvesting (yes/no) | E24: NO | H24: GRANULAR SUBASE | K24: 125 | M24: PLEASE ENTER MANUALLY ALL THE VALUES AS PER DESIGN CURVES SHEET
B25: No of Harvesting season | E25: 2 | H25: IMPROVED SUBGRADE | K25: ='ESAL-calculation '!H45 -> 0 | L25: mm | M25: PLEASE ENTER MANUALLY ALL THE VALUES AS PER DESIGN CURVES SHEET
B26: No of days in each Harvesting season | E26: 75
B27: Value of n assumed | E27: 1
B29: CBR VALUE | E29: 10 | H29: TOTAL THICKNESS | K29: =K24+K23+K22+K21 -> 430 | M29: =K24+K23 -> 350 | N29: Add total thickness
M32: Enter manually CBR VALUE
B35: Asst. Exe Engineer, | D35: Dy.Executive Engineer | H35: District Panchayat Raj Engineer, | K35: Superintending Engineer
B36: ='TRAFF-Count-ESAL-Cal'!B34 -> PRSD Maddur | D36: ='TRAFF-Count-ESAL-Cal'!E34 -> PRSD, Maddur | H36: ='TRAFF-Count-ESAL-Cal'!H34 -> PR Division, Narayanpet | K36: ='TRAFF-Count-ESAL-Cal'!K34 -> PR, Circle, Vikarabad

Sheet TRAFF-Count-ESAL-Cal
A1: FIELD DATA SHEET FOR TRAFFIC CENSUS (BOTH DIRECTIONS) FOR 3 DAYS ( Lean Seasion )
A2: & CUMALATIVE ESAL APPLICATION CALCULATIONS
A3: ='Input Data'!E1 -> BT Renewal from Balabadraipally to Danamma Thanda of Gundumal Mandal in Narayanpet District
A4: Day | B4: Vehicle Class | M4: Total
B5: Cars, Jeeps, Vans, Three-wheelers | C5: Motorised two- wheelers | D5: Agricultural Tractors/ Trailers (MCV) | G5: Trucks / Buses (HCV) | J5: Cycles | K5: Cycle Rickshaws | L5: Animal Drawn Vehicles
D6: Laden | E6: Unladen | F6: Over Laden | G6: Laden | H6: Unladen | I6: Over Laden
A7: Day 1 From 0.00 Hrs To 24.00 Hrs | B7: 135 | C7: 165 | D7: 42 | E7: 10 | F7: 25 | G7: 75 | H7: 15 | I7: 0 | J7: 24 | K7: 0 | L7: 0 | M7: =SUM(B7:L7) -> 491 | O7: =G30 -> 1501032
A8: Day 2 From 0.00 Hrs To 24.00 Hrs | B8: 142 | C8: 169 | D8: 49 | E8: 10 | F8: 29 | G8: 74 | H8: 18 | I8: 0 | J8: 29 | K8: 0 | L8: 0 | M8: =SUM(B8:L8) -> 520
A9: Day 3 From 0.00 Hrs To 24.00 Hrs | B9: 139 | C9: 171 | D9: 51 | E9: 11 | F9: 28 | G9: 76 | H9: 18 | I9: 0 | J9: 35 | K9: 0 | L9: 0 | M9: =SUM(B9:L9) -> 529
A10: Total | B10: =B9+B8+B7 -> 416 | C10: =C9+C8+C7 -> 505 | D10: =D9+D8+D7 -> 142 | E10: =E9+E8+E7 -> 31 | F10: =F9+F8+F7 -> 82 | G10: =G9+G8+G7 -> 225 | H10: =H9+H8+H7 -> 51 | I10: =I9+I8+I7 -> 0 | ... L10: =L9+L8+L7 -> 0 | M10: =SUM(B10:L10) -> 1540 | N10: CVPD
A11: Average Daily Traffic | B11: =ROUND(B10/3,0) -> 139 | C11: =ROUND(C10/3,0) -> 168 | D11: =ROUND(D10/3,0) -> 47 | E11: =ROUND(E10/3,0) -> 10 | F11: =ROUND(F10/3,0) -> 27 | G11: =ROUND(G10/3,0) -> 75 | H11: =ROUND(H10/3,0) -> 17 | I11: =ROUND(I10/3,0) -> 0 | J11: =ROUND(J10/3,0) -> 29 | K11: =K10/3 -> 0 | L11: =ROUND(L10/3,0) -> 0 | M11: =SUM(B11:L11) -> 512 | N11: =D11+E11+F11+G11+H11+I11 -> 176
A12: ADT in the year of Traffic Count | E12: ADT = | G12: =M11 -> 512 | H12: Nos | I12: 0 | J12: 1 for if Peak season traffic count
A13: ADT in Lean | E13: T = | G13: =IF(I12=0,G12,ROUNDUP(G12/2,0)) -> 512 | H13: Nos | J13: 0 for Lean season traffic count
A14: ADT in Peak | G14: =IF(I12=1,G12,ROUNDUP(G12*2,0)) -> 1024 | H14: Nos
A15: No of Harvesting Seasons | E15: n = | G15: 2 | J15: 75 | K15: Peak Seasons Days
A16: Base Year Traffic | E16: AADT (T)= | G16: =ROUND(G13+(1.2*G13*J15)/365,0) -> 638 | H16: Nos | I16: (Avarage annual daily trafic i.e AADT = T + n x T x t)
D17: Let us assuming an intial growth rate of 6% for 2years | K17: T= Lean Traffic
A18: Opening of the road after complition | E18: AADT = | G18: =ROUND(G16*1.06^2,0) -> 717 | H18: Nos | J18: (AADT * (1.06)2)
A19: From the given traffic count data, proportions of
A20: As per IRC SO 72-2015: | E20: MCV = | G20: =ROUND(((D11)/M11)*G18,0) -> 66 | H20: Nos | J20: (Laden Medium Commercial Vehicle)
A21: CBR Value: | B21: Curve | E21: MCV = | G21: =ROUND(((E11)/M11)*G18,0) -> 14 | H21: Nos | J21: (Un Laden Medium Commercial Vehicle)
A22: 10 | B22: ='ESAL-result'!J16 -> T | C22: ='ESAL-result'!K16 -> 9 | E22: MCV = | G22: =ROUND(((F11)/M11)*G18,0) -> 38 | H22: Nos | J22: (Over Laden Medium Commercial Vehicle)
E23: HCV = | G23: =ROUND(((G11)/M11)*G18,0) -> 105 | H23: Nos | J23: (LadenHeavy Commercial Vehicle)
E24: HCV = | G24: =ROUND(((H11)/M11)*G18,0) -> 24 | H24: Nos | J24: (Unladen Heavy Commercial Vehicle)
E25: HCV = | G25: =ROUND(((I11)/M11)*G18,0) -> 0 | H25: Nos | J25: (Over Laden Heavy Commercial Vehicle)
A26: Cumulative ESAL applications for 10year with uniform growth rate @ 6% | J26: (VDF = Vehicle Damage Factor)
A27: Equivalent Standard Axle Load = | E27: ESAL = HCV x VDF+MCV x VDF | J27: Vehicle | K27: Laden | L27: Unladen | M27: Ov.Laden
E28: ESAL = | F28: ="("&K28&"x"&G23&") + ("&L28&"x"&G24&") + ("&M28&"x"&G25&") + ("&K29&"x"&G20&") + ("&L29&"x"&G21&") + ("&M29&"x"&G22&")" -> (2.58x105) + (0.31x24) + (2.86x0) + (0.31x66) + (0.02x14) + (0.34x38) | J28: HCV | K28: 2.58 | L28: 0.31 | M28: 2.86
E29: ESAL = | G29: =ROUND(G20*K29+G21*L29+G22*M29+G23*K28+G24*L28+G25*M28,2) -> 312 | H29: Nos/day | J29: MCV | K29: 0.31 | L29: 0.02 | M29: 0.34
A30: Cumulative ESAL Applications = | E30: N = | G30: =G29*4811*1 -> 1501032 | I30: ( N = ESAL x 4811 x L) | Q30: =1.075^15 -> 2.9588774 | R30: =Q30-1 -> 1.9588774
H31: Where L= Lane distribution Factor = 1 for single lane) | R31: =365*R30 -> 714.99023
B33: Asst.Exe Engineer | E33: Dy.Executive Engineer | H33: Executive Engineer | J33: Superintending Engineer
B34: ='Slab-Culverts Data'!C678 -> PRSD Maddur | E34: ='Slab-Culverts Data'!G678 -> PRSD, Maddur | H34: ='Slab-Culverts Data'!C682 -> PR Division, Narayanpet | K34: ='Slab-Culverts Data'!G682 -> PR, Circle, Vikarabad
R35: =R31/0.075 -> 9533.2031
R36: =R35*382*0.75*2.5 -> 6828156.7
R37: 6.82 msa

Sheet SPR
A1: SPECIFICATION REPORT FOR WORKING ESTIMATE
A2: Name of the Work : | E2: ='Input Data'!E1:J1 -> BT Renewal from Balabadraipally to Danamma Thanda of Gundumal Mandal in Narayanpet District
B3: Grant | C3: ='Input Data'!I6 -> SDF | D3: ='Input Data'!I7 -> 2024-25 | L3: Est. Cost . Rs. | O3: ='Input Data'!J4 -> 96.15 | Q3: Lakhs
A5: 1) | B5: Habitations Benifitted
B6: The following villages will be benifitted by providing this road.
B8: Sl.No. | C8: Name of the Mandal | F8: Name of the Village | J8: Popupation asper 2011cencus
J9: SC | L9: ST | O9: Plain
B10: 1 | C10: ='Input Data'!D7 -> Gundumal | F10: Balabadraiaplly | J10: 602 | L10: 0 | O10: 1085
B11: 2 | C11: =C10 -> Gundumal | F11: Danamma Thanda | J11: 0 | L11: 145 | O11: 0
F12: Total | J12: =SUM(J10:K11) -> 602 | L12: 260 | O12: =SUM(O10:Q11) -> 1085 | R12: =J12+L12+O12 -> 1947
A14: 2) | B14: Existing Surface Details
B15: The existing surface details of the road for proposed length as follows.
B17: S.No | C17: Existing Type of surface | F17: Reaches | K17: Total Length in mts | M17: Remarks
B18: 1 | C18: Damaged BT | F18: ='Inspection Report'!D20 -> 0/000 to 2/070 km | K18: 2700 | M18: BM 50mm over BC 30mm over WMM 150mm as the existing BT Surface is badly damaged along with WMM | W18: =M18 -> BM 50mm over BC 30mm over WMM 150mm as the existing BT Surface is badly damaged along with WMM
B19: 3 | C19: Earthen
C20: Total | K20: =SUM(K18:L19) -> 2700
A22: 3) | B22: Traffic intensity
B23: Base year traffic volume Count is as follows
B25: Dates of Traffic count (3 days) | C25: Vehicle Class | Q25: Total
C26: Cars, Jeeps, Vans, Three-wheelers | D26: Motorised two- wheelers | E26: Agricultural Tractors/ Trailers (MCV) | H26: Trucks / Buses (HCV) | K26: Cycles | L26: Cycle Rickshaws | M26: Animal Drawn Vehicles | O26: CVPD
E27: Laden | F27: Unladen | G27: Over Laden | H27: Laden | I27: Unladen | J27: Over Laden
C28: ='TRAFF-Count-ESAL-Cal'!B11 -> 139 | D28: ='TRAFF-Count-ESAL-Cal'!C11 -> 168 | E28: ='TRAFF-Count-ESAL-Cal'!D11 -> 47 | F28: ='TRAFF-Count-ESAL-Cal'!E11 -> 10 | G28: ='TRAFF-Count-ESAL-Cal'!F11 -> 27 | H28: ='TRAFF-Count-ESAL-Cal'!G11 -> 75 | I28: ='TRAFF-Count-ESAL-Cal'!H11 -> 17 | J28: ='TRAFF-Count-ESAL-Cal'!I11 -> 0 | ... L28: ='TRAFF-Count-ESAL-Cal'!K11 -> 0 | M28: 0 | O28: =E28+F28+G28+H28+I28+J28 -> 176 | Q28: =C28+D28+E28+F28+G28+H28+I28+J28+K28+L28+L28+M28 -> 512
A30: 4) | B30: Reach wise CBR and proposed road Crust thickness w.r.t existing surface details are as follows
A31: Slno | B31: Reach | E31: CBR in % | F31: Crust required asper design of IRC-SP-72-2015 | I31: Existing & Proposed Crust provision | T31: Crust thick ness Check +/- | U31: DBM 50 and BC30
I32: Gravel | K32: GR-VI | M32: WMM | O32: CC | Q32: Total Pavement thickness
I33: Existing | J33: Proposed | K33: Ext | L33: Pr | M33: Ext | N33: Pr | O33: Ext | P33: Pr | Q33: Ext | R33: Pr | S33: Total | U33: Ext | V33: Pr
A34: 1 | B34: =F18 -> 0/000 to 2/070 km | E34: 0.1 | F34: =S34 -> 430 | I34: 0 | J34: 0 | K34: 125 | M34: 75 | N34: 150 | O34: 0 | P34: 0 | Q34: =I34+K34+M34+O34 -> 200 | R34: =J34+L34+N34+P34 -> 150 | S34: =Q34+R34+V34 -> 430 | T34: 0 | U34: 0 | V34: 80
A37: 5) | B37: CD works Existing Proposed Details are as follows.
B38: Existing CD works with type | F38: Nos | G38: Existing Reaches | K38: Proposed CD works with type | O38: Nos | R38: Proposed Reaches
A39: 1 | B39: Construction of HP Culvert 1V of 1000mm Dia. NP4 Pipes
A40: 2 | B40: Construction of HP Culvert 2V of 1000mm Dia. NP4 Pipes
A41: 3 | B41: Construction of 1vent 6.00 x 1.50m span slab culvert at 0/340 KM (1 No)
A42: 4 | B42: 2vent 6.00 x 2.00m span slab culvert at 1/600 Km
A43: 5 | B43: Protection walls at 1/800, 2/400 & 3/500 KM
A44: 6 | B44: Construction of Village Side Drains
B45: Total Nos | F45: =SUM(F38:F38) -> 0 | K45: Total Nos | O45: =SUM(O38:O43) -> 0
B48: The following provisions are made in the working estimate up to BT standards
A49: 1 | B49: Clearing and grubbing road land including uprooting rank vegetation, grass, bushes, shrubs, saplings and trees girth up to 300 mm, removal of stumps of trees as per the Techinical Specification Clause 201 MoRTH 5th Revision
A50: 2 | B50: Forming Embankment with material obtained from borrowed useful earth from outside road boundary by mechanical means upto SDR with all leads and lifts as per MoRT&H specification 305 (5th revision). (The soil CBR>10%, PI<18% & MDD>1.8 g/cc) from
A51: 3 | B51: Construction of granular sub-base by providing close graded material (Table 400.1) with Grading VI Material CBR Value not less than 100 and PI Value less than 6 spreading in uniform layers with Vibratory Roller to achieve the desired density, complete as directed by the Engineer-in-charge and as per Technical Specification Clause 401 MoRT&H (5th Revision)
...

Sheet Key Map
B1: KEY MAP
B4: Name of the Work: | D4: ='Input Data'!E1 -> BT Renewal from Balabadraipally to Danamma Thanda of Gundumal Mandal in Narayanpet District
K7: Mirjapur
A14: Danamma Thanda | C14: Proposed BT Renewal road
L15: Balabadraipally
C17: 2/070 Km | J17: 0/00 Km
K27: Bhaktimalla
B34: =GA!B34 -> Asst Exe Engineer, | E34: =GA!B34 -> Asst Exe Engineer, | H34: =GA!B37 -> District Panchayat Raj Engineer,
B35: =GA!B35 -> PRSD Maddur | E35: =GA!B35 -> PRSD Maddur | H35: =GA!B38 -> PR Division, Narayanpet
H39: Superintending Engineer
H40: PR, Circle, Vikarabad

Sheet Road Estimate
A1: ROAD PART ESTIMATE WITH SSR 2024-25
A2: Name of the Work : | C2: ='Input Data'!E1 -> BT Renewal from Balabadraipally to Danamma Thanda of Gundumal Mandal in Narayanpet District
A3: Sl. No. | B3: Description of work | C3: No. | F3: L | G3: B | H3: D | I3: Quantity | J3: Rate | K3: Per | L3: Amount (Rs.)
A4: 1 | B4: 2 | C4: 3 | F4: 4 | G4: 5 | H4: 6 | I4: 7 | J4: 8 | K4: 9 | L4: 10
A5: 1 | B5: ='Road data'!B5:G5 -> Clearing and grubbing road land including uprooting rank vegetation, grass, bushes, shrubs, saplings and trees girth up to 300 mm, removal of stumps of trees cut earlier and disposal of unserviceable materials and stacking of serviceable material to be used or auctioned, up to a lead of 1000 metres including removal and disposal of top organic soil not exceeding 150 mm in thickness by Mechanical means as per the Techinical Specification Clause 201 MoRTH 5th Revision
B6: 0/000 to 2/070 km | C6: 1 | D6: x | E6: 2 | F6: ='Input Data'!J5*1000 -> 2070 | G6: 2.5 | I6: =C6*E6*F6*G6 -> 10350
B7: Deduct Village Portions | C7: 1 | D7: x | E7: 2 | F7: -430 | G7: 2.5 | I7: =C7*E7*F7*G7 -> -2150
F8: =SUM(F6:F7) -> 1640 | I8: =SUM(I6:I7) -> 8200
B9: Deduct voids @40% | I9: =-(I8)*40% -> -3280
I10: =SUM(I8:I9) -> 4920 | J10: ='Road data'!G22 -> 3.93 | K10: 1 | L10: =ROUND(I10*J10,0) -> 19336
I11: Sqm | K11: Sqm
A12: 2 | B12: ='Road data'!B255:G255 -> Scarifying the granular surface to a depth of 50 mm by Mechanical means and re-using the scarified material with all leads and lifts as per MoRT&H (5th Revision) Specn. No.305.4.3
B13: =B6 -> 0/000 to 2/070 km | C13: 0 | D13: x | E13: 1 | F13: 1000 | G13: 3.75 | I13: =C13*E13*F13*G13 -> 0
I14: =SUM(I13) -> 0 | J14: ='Road data'!G270 -> 43.84 | K14: 1 | L14: =ROUND(I14*J14,0) -> 0
I15: Sqm | K15: Sqm
A16: 2 | B16: ='Road data'!B117:G117 -> Excavation for roadwork in soil by mechanical means including cutting and pushing the earth to the site of Embankment upto a lead of 100m,including trimming bottom and side slopes, in accordance with requirements of lines, grades and cross sections as per Technical sanction Clause 302.3MORD/301 MORTH including overhead charges& Contractor's profit but excluding seignioarge charges for finished item of work .
B17: =B13 -> 0/000 to 2/070 km | C17: 0 | D17: x | E17: 2 | F17: 2100 | G17: 1.03 | H17: 0.2 | I17: =C17*E17*F17*G17 -> 0
I18: =SUM(I17) -> 0 | J18: ='Road data'!G134 -> 127.41 | K18: 1 | L18: =ROUND(I18*J18,0) -> 0
I19: Cum | K19: cum
A20: =A5+1 -> 2 | B20: ='Road data'!B272:G272 -> Scarifying the existing bitumen surface to a depth of 50 mm by Mechanical means and disposal of scarified material with all leads and lifts upto 1000 Mtrs as per MoRT&H (5th Revision) Specn. No.305.4.3
B21: =B6 -> 0/000 to 2/070 km | C21: 1 | D21: x | E21: 1 | F21: =F8 -> 1640 | G21: 3.75 | I21: =PRODUCT(C21:H21) -> 6150 | Q21: =I21*5% -> 307.5
I22: =I21 -> 6150 | J22: ='Road data'!G290 -> 10.22 | L22: =ROUND(I22*J22,0) -> 62853
I23: Cum | K23: Cum
A24: =A20+1 -> 3 | B24: ='Road data'!B400:G400 -> Providing, laying, spreading and compacting graded stone aggregate to Wet mix macadam specification including premixing the material with water at OMC in mechanical mixer (Pug Mill), carriage of mixed material by tipper to site, laying in uniform layers in sub-base/base course on a well prepared sub-base and compacting with Vibratory roller of 80 to 100kN to achieve the desired density including lighting, barricading and maintenance of diversion, etc as directed by the Engineer-in-Charge and as per Technical Specification Clause 406 MoRT&H ( 5th revision ), including overhead charges & Contractor profit excluding Seignarage charges etc complete.
B25: =B13 -> 0/000 to 2/070 km | C25: 1 | D25: x | E25: 1 | F25: =F21 -> 1640 | G25: 3.75 | H25: 0.1 | I25: =ROUND(C25*E25*F25*G25*H25,2) -> 615
I26: =SUM(I25:I25) -> 615 | J26: ='Road data'!G431 -> 3101.04 | K26: 1 | L26: =ROUND(I26*J26,0) -> 1907140
I27: Cum | K27: cum
A28: =A24+1 -> 4 | B28: ='Road data'!B481:G481 -> Providing and applying primer coat with bitumen emulsion (SS-1) on prepared surface of granular base including cleaning of road surface and spraying primer at the rate of 0.60 kg/sqm using mechanical means, as directed by the Engineer-in-Charge and as per Technical Specification Clause 502 MoRT&H (5th Revision) (for use on Wet mix macadam & WBM) ,including overhead charges & Contractors profit excluding Seignarage charges etc complete.
B29: =B21 -> 0/000 to 2/070 km | C29: 1 | D29: x | E29: 1 | F29: =F25 -> 1640 | G29: =G25 -> 3.75 | I29: =F29*G29 -> 6150
I30: =SUM(I29:I29) -> 6150 | J30: ='Road data'!G505 -> 57.03 | K30: 1 | L30: =ROUND(I30*J30,0) -> 350735
I31: Sqm | K31: sqm
A32: =A28+1 -> 5 | B32: ='Road data'!B433:G433 -> Providing and applying tack coat with Bitumen emulsion (RS-1) using emulsion distributor at the rate of 0.275 kg per sqm on the prepared granular surfaces treated with primer & cleaned with Hydraulic broom,as directed by the Engineer-in-Charge and as per Technical Specification Clause 503 MoRT&H (5th Revision), including overhead charges & Contractors profit excluding Seignarage charges etc complete.
B33: =B6 -> 0/000 to 2/070 km | C33: 1 | D33: x | E33: 1 | F33: =F6 -> 2070 | G33: 3.75 | I33: =F33*G33 -> 7762.5
B34: Tack Coat-1 | I34: =SUM(I33:I33) -> 7762.5 | J34: ='Road data'!G455 -> 16.65 | K34: 1 | L34: =ROUND(I34*J34,0) -> 129246
I35: Sqm | K35: sqm
A36: 8 | B36: ='Road data'!B508:G508 -> Providing, laying and rolling of open-graded premix carpet of 20 mm thickness composed of 13.2 mm to 5.6 mm aggregates either using penetration grade bitumen 60/70 grade at the rate of 14.6 kg/10 sqm to required line, grade and level to serve as wearing course on a previously prepared base, including mixing in a Hot Mix plant of 60TPH, laying and rolling with a three wheel 80-100 kN static roller capacity, finished to required level and grades to be followed by seal coat of Type B including cost and conveyance of all materials from approved sources, , labour charges and hire and operational charges of power road roller and all other machinery, tools and plants, providing barricading for diversion of traffic, erecting red flags other incidental and operational charges etc., complete for finished item of work, as directed by the Engineer-in-Charge and as per clause 511 MoRT&H (5th Revision), including overhead charges & Contractors profit excluding Seignarage charges etc complete.
B37: =#REF! -> #REF! | C37: 1 | D37: x | E37: 1 | F37: =#REF! -> #REF! | G37: =#REF! -> #REF!
I38: =SUM(I37:I37) -> 0 | J38: ='Road data'!G536 -> 156.64 | K38: 1 | L38: =ROUND(I38*J38,0) -> 0
I39: Sqm | K39: sqm
A40: 9 | B40: ='Road data'!B567:G567 -> Providing and laying bituminous premixed Seal coat (Type B) with HMP of appropriate capacity not less than 60TPH comprising of a thin application of fine aggregate premixed by mechanical means with bituminous binder of grading as defined in table 500.16 of MOST Crushed sand defined as passing through 2.36 mm sieve and retained on 180 micron seive applied @ 0.06 cum per 10 sqm.to be laid simultaneously along with the bitumunous course using 6.80 kgs of bitumen 60/70 grade for 10 sqm and rolling with power roller including of required line, level, grade to serve as wearing course on previously prepared surface and finishing to rquired level and grades including cost and conveyance of all materials from approved sources and stacking at site to departmental gauge for premeasurements, seigniorage, labour charges and hire and operational charges of power road roller 8 to 10 tonnes capacity and all other machinery, tools and plants, providing barricading for diversion of traffic, erecting red flags other incidental and operational charges etc., complete for finished item of work as directed by the Engineer-in-Charge and as per technical specification clause 513 of MoRT&H (5th Revision) Using Hot mix plant including contractors profit & Over head charges excluding Seignarage charges etc complete using Mechanical means
...

Sheet ESAL-calculation 
A2: (cars/vans/jeeps/ three wheelers | B2: LCV | C2: HCV (Truck/Buses) | F2: MCV ( Tractor/Trollies/Mini-Buses) | I2: Two wheelers | J2: Bicycles | K2: Bullock cart (solid wheeled) | M2: ADT
C3: Laden | D3: Unladen | E3: Over loaded | F3: Laden | G3: Unladen | H3: Overloaded | K3: solid wheel | L3: Pnu. Tyres
A4: ='ESAL-result'!D9 -> 139 | B4: ='ESAL-result'!D10:D10 -> 0 | C4: ='ESAL-result'!D11 -> 75 | D4: ='ESAL-result'!D12 -> 17 | E4: ='ESAL-result'!D13 -> 0 | F4: ='ESAL-result'!D14 -> 47 | G4: ='ESAL-result'!D15 -> 10 | H4: ='ESAL-result'!D16 -> 27 | I4: ='ESAL-result'!D17:D17 -> 168 | J4: ='ESAL-result'!D18 -> 29 | K4: ='ESAL-result'!D19 -> 0 | L4: ='ESAL-result'!D20 -> 0 | M4: =SUM(A4:L4) -> 512
D6: Number of harvesting season= | G6: ='ESAL-result'!E25 -> 2 | I6: Traffic count during harvesting | M6: ='ESAL-result'!E24 -> NO
D7: value of n | G7: ='ESAL-result'!E27 -> 1 | I7: Duration of harvesting season | M7: ='ESAL-result'!E26 -> 75
I8: Average Daily Traffic ( non- haresting/harvesting) | M8: =IF(M6="yes",M4/2,M4) -> 512
I9: AADT= | M9: =ROUND(M8+((0.6*G7*M7*G6*M8)/365),0) -> 638
I10: Before opening to traffic , AADT= | M10: =ROUND(M9*((1.06)^'ESAL-result'!E23),0) -> 717
I11: Proportion factor (AADT/ADT) = | M11: =M10/M4 -> 1.4003906
A12: =M11 -> 1.4003906 | B12: =M11 -> 1.4003906 | C12: =M11 -> 1.4003906 | D12: =M11 -> 1.4003906 | E12: =M11 -> 1.4003906 | F12: =M11 -> 1.4003906 | G12: =M11 -> 1.4003906 | H12: =M11 -> 1.4003906 | I12: =M11 -> 1.4003906 | J12: =M11 -> 1.4003906 | K12: =M11 -> 1.4003906 | L12: =M11 -> 1.4003906
A14: (cars/vans/jeeps/ three wheelers | B14: LCV | C14: HCV (Truck/Buses) | F14: MCV ( Tractor/Trollies) | I14: Two wheelers | J14: Bicycles | K14: Bullock cart (solid wheeled)
C15: Laden | D15: Unladen | E15: Over loaded | F15: Laden | G15: Unladen | H15: Overloaded | K15: solid wheel | L15: Pnu. Tyres
A16: =ROUND(A4*A12,0) -> 195 | B16: =ROUND(B4*B12,0) -> 0 | C16: =ROUND(C4*C12,0) -> 105 | D16: =ROUND(D4*D12,0) -> 24 | E16: =ROUND(E4*E12,0) -> 0 | F16: =ROUND(F4*F12,0) -> 66 | G16: =ROUND(G4*G12,0) -> 14 | H16: =ROUND(H4*H12,0) -> 38 | ... L16: =ROUND(L4*L12,0) -> 0
A18: VDF | B18: VDF values | C18: HCV (Truck/Buses)
C19: Laden | D19: Unladen | E19: Over loaded | F19: Laden | G19: Unladen | H19: Overloaded
C20: ='ESAL-result'!E11 -> 2.58 | D20: ='ESAL-result'!E12 -> 0.31 | E20: ='ESAL-result'!E13 -> 2.86 | F20: ='ESAL-result'!E14 -> 0.31 | G20: ='ESAL-result'!E15 -> 0.02 | H20: ='ESAL-result'!E16 -> 0.34
B22: Calculated | C22: HCV (Truck/Buses) | F22: MCV ( Tractor/Trollies) | I22: ESAL/per day
C23: Laden | D23: Unladen | E23: Over loaded | F23: Laden | G23: Unladen | H23: Overloaded
C24: =C16*C20 -> 270.9 | D24: =D16*D20 -> 7.44 | E24: =E16*E20 -> 0 | F24: =F16*F20 -> 20.46 | G24: =G16*G20 -> 0.28 | H24: =H16*H20 -> 12.92 | I24: =ROUNDUP(SUM(C24:H24),2) -> 312 | K24: ESAL/per day | M24: =I24 -> 312
K26: Cumulative ESAL over 10 years | M26: =M24*4811*1 -> 1501032
K28: Correction factor | M28: =IF(K4=0,1,(IF(AND(M10>100,M10<150),((((L43-L42)/(K43-K42))*(M10-K42))+L42),0)+IF(AND(M10>150,M10<200),((((L44-L43)/(K44-K43))*(M10-K43))+L43),0)+IF(AND(M10>200,M10<300),((((L45-L44)/(K45-K44))*(M10-K44))+L44),0)+IF(AND(M10>300,M10<400),((((L46-L45)/(K46-K45))*(M10-K45))+L45),0)+IF(AND(M10>400,M10<500),((((L47-L46)/(K47-K46))*(M10-K46))+L46),0))) -> 1
K30: Final cumulative ESAL | M30: =M26*M28 -> 1501032
K32: Traffic Category | L32: T | M32: =IF(AND(M30>10000,M30<30000),1,0)+IF(AND(M30>30000,M30<60000),2,0)+IF(AND(M30>60000,M30<100000),3,0)+IF(AND(M30>100000,M30<200000),4,0)+IF(AND(M30>200000,M30<300000),5,0)+IF(AND(M30>300000,M30<600000),6,0)+IF(AND(M30>600000,M30<1000000),7,0) -> 0
G35: CASENO.
D36: CBR | E36: ='ESAL-result'!$E$29 -> 10 | G36: =IF(E36=2,1,0)+IF(AND(E36>=3,E36<=4),2,0)+IF(AND(E36>=5,E36<=6),3,0)+IF(AND(E36>=7,E36<=9),4,0)+IF(AND(E36>=10,E36<=15),5,0) -> 5 | I36: Traffic Category | J36: T | K36: =M32 -> 0
B39: PAVEMENT LAYERS
H40: THICKNESS | J40: correction factor interpolation
E41: BITUMINOUS SURFACE TREATED WBM/CRMB | H41: =INDEX('ESAL-Data'!B30:H34,'ESAL-calculation '!G36,'ESAL-calculation '!M32) -> 75
E42: WBM/CRMB/ BASE OF GRAVEL | H42: =INDEX('ESAL-Data'!B23:H27,'ESAL-calculation '!G36,'ESAL-calculation '!M32) -> 150 | K42: 100 | L42: 1.7
E43: GRAVEL BASE | H43: =INDEX('ESAL-Data'!B16:H20,'ESAL-calculation '!G36,'ESAL-calculation '!M32) -> 0 | K43: 150 | L43: 1.25
E44: GRANULAR SUBASE | H44: =INDEX('ESAL-Data'!B9:H13,'ESAL-calculation '!G36,'ESAL-calculation '!M32) -> 125 | K44: 200 | L44: 1.2
E45: IMPROVED SUBGRADE | H45: =INDEX('ESAL-Data'!B2:H6,'ESAL-calculation '!G36,'ESAL-calculation '!M32) -> 0 | K45: 300 | L45: 1.15
K46: 400 | L46: 1.1
F47: TOTAL THICKNESS | H47: =SUM(H41:H45) -> 350 | K47: 500 | L47: 1.07

Sheet ESAL-Data
A1: CBR | B1: 1 | C1: 2 | D1: 3 | E1: 4 | F1: 5 | G1: 6 | H1: 7
A2: 1 | B2: 100 | C2: 100 | D2: 100 | E2: 150 | F2: 150 | G2: 150 | H2: 225
A3: 2 | B3: 0 | C3: 0 | D3: 0 | E3: 100 | F3: 150 | G3: 150 | H3: 150
A4: 3 | B4: 0 | C4: 0 | D4: 0 | E4: 0 | F4: 0 | G4: 100 | H4: 100 | J4: Modified soil/improved subgrade
A5: 4 | B5: 0 | C5: 0 | D5: 0 | E5: 0 | F5: 0 | G5: 0 | H5: 0
A6: 5 | B6: 0 | C6: 0 | D6: 0 | E6: 0 | F6: 0 | G6: 0 | H6: 0
A8: CBR | B8: 1 | C8: 2 | D8: 3 | E8: 4 | F8: 5 | G8: 6 | H8: 7
A9: 1 | B9: 0 | C9: 0 | D9: 100 | E9: 100 | F9: 150 | G9: 225 | H9: 200
A10: 2 | B10: 0 | C10: 0 | D10: 150 | E10: 100 | F10: 100 | G10: 100 | H10: 150 | J10: Granular subbase
A11: 3 | B11: 0 | C11: 0 | D11: 0 | E11: 125 | F11: 150 | G11: 100 | H11: 100
A12: 4 | B12: 0 | C12: 0 | D12: 0 | E12: 100 | F12: 125 | G12: 150 | H12: 150
A13: 5 | B13: 0 | C13: 0 | D13: 0 | E13: 0 | F13: 100 | G13: 125 | H13: 125
A15: CBR | B15: 1 | C15: 2 | D15: 3 | E15: 4 | F15: 5 | G15: 6 | H15: 7
A16: 1 | B16: 200 | C16: 150 | D16: 0 | E16: 0 | F16: 0 | G16: 0 | H16: 0
A17: 2 | B17: 200 | C17: 275 | D17: 0 | E17: 0 | F17: 0 | G17: 0 | H17: 0 | J17: Gravel Base
A18: 3 | B18: 175 | C18: 250 | D18: 275 | E18: 0 | F18: 0 | G18: 0 | H18: 0
A19: 4 | B19: 150 | C19: 175 | D19: 225 | E19: 0 | F19: 0 | G19: 0 | H19: 0
A20: 5 | B20: 125 | C20: 150 | D20: 175 | E20: 0 | F20: 0 | G20: 0 | H20: 0
A22: CBR | B22: 1 | C22: 2 | D22: 3 | E22: 4 | F22: 5 | G22: 6 | H22: 7
A23: 1 | B23: 0 | C23: 0 | D23: 100 | E23: 100 | F23: 100 | G23: 100 | H23: 150
A24: 2 | B24: 0 | C24: 0 | D24: 100 | E24: 100 | F24: 100 | G24: 150 | H24: 150 | J24: WBM/CRMB
A25: 3 | B25: 0 | C25: 0 | D25: 0 | E25: 100 | F25: 100 | G25: 100 | H25: 150
A26: 4 | B26: 0 | C26: 0 | D26: 0 | E26: 100 | F26: 100 | G26: 100 | H26: 150
A27: 5 | B27: 0 | C27: 0 | D27: 0 | E27: 150 | F27: 100 | G27: 100 | H27: 150
A29: CBR | B29: 1 | C29: 2 | D29: 3 | E29: 4 | F29: 5 | G29: 6 | H29: 7
A30: 1 | B30: 0 | C30: 75 | D30: 75 | E30: 75 | F30: 75 | G30: 75 | H30: 75
A31: 2 | B31: 0 | C31: 0 | D31: 75 | E31: 75 | F31: 75 | G31: 75 | H31: 75 | J31: Bituminous surface Treated WBM/CRMB
A32: 3 | B32: 0 | C32: 0 | D32: 0 | E32: 75 | F32: 75 | G32: 75 | H32: 75
A33: 4 | B33: 0 | C33: 0 | D33: 0 | E33: 75 | F33: 75 | G33: 75 | H33: 75
A34: 5 | B34: 0 | C34: 0 | D34: 0 | E34: 75 | F34: 75 | G34: 75 | H34: 75

Sheet Cover
C3: GOVERNMENT OF TELANGANA
D7: PANCHAYATRAJ ENGINEERING DEPARTMENT
C12: Name of Grant | I12: : | J12: CRR -2018-19
C15: Name of Work:-
C16: ='Input Data'!E1 -> BT Renewal from Balabadraipally to Danamma Thanda of Gundumal Mandal in Narayanpet District
D21: Amount Sanctioned | K21: : | L21: Rs. | M21: =+'Input Data'!$J$4 -> 96.15 | O21: Lakhs
D22: Sanctioned Length | K22: : | L22: =+'Input Data'!$J$5 -> 2.07 | N22: Km
C26: (P.R) Circle | G26: :: | H26: =+'Input Data'!$D$3 -> Vikarabad
C27: District | G27: :: | H27: =+'Input Data'!$D$4 -> Narayanpet
C28: (P.R) Division | G28: :: | H28: =+'Input Data'!$D$5 -> Narayanpet
C29: (P.R) Sub-Division | G29: :: | H29: =+'Input Data'!$D$6 -> Maddur
C30: Mandal | G30: :: | H30: =+'Input Data'!$D$7 -> Gundumal

Sheet google-map

Sheet Road-furniture 
A1: SUB-ESTIMATE FOR ROAD FURNITURE WITH SSR 2023-24
A2: ='Input Data'!E1 -> BT Renewal from Balabadraipally to Danamma Thanda of Gundumal Mandal in Narayanpet District
A3: S.No | B3: Description | C3: Quantity | E3: Rate | G3: Amount
A4: 1 | B4: ='Road Furniture-Data'!D231 -> Reinforced cement concrete M15 grade kilometre stone/local stone of standard design as per IRC:8 fixing in position including painting and printing, etc as per drawing and Technical Specification Clause 1703 MORD / 804 MORTH ,including overhead charges & Contractors profit ,but excluding Seignarage charges.
B5: Ordinery KM Stone | C5: =ROUND('Road Estimate'!F6/1000,0) -> 2 | D5: Nos | E5: ='Road Furniture-Data'!H281 -> 2691.9102 | F5: / No. | G5: =ROUND(+C5*E5,) -> 5384
B6: H.M Stone (200M) Stone | C6: =ROUND('Input Data'!J5*4,0) -> 8 | D6: Nos | E6: ='Road Furniture-Data'!H306 -> 746.89365 | F6: / No. | G6: =ROUND(+C6*E6,) -> 5975
A7: 2 | B7: ='Road Furniture-Data'!D309 -> Providing and fixing of typical CRR informatory and Name Board with necessary Logo as per specifications and drawing. Three MS Plates of 1.6 mm thick, top and middle plate duly welded with MS flat iron 25mm x 5m size on back on edges. The lower plate will be we welded with MS angle irone frame of 25 mm x 25 mm x 5 mm. The angle iron frame of the lower most plate and flat iron frame of middle plate will be welded to 2 nos. 75 mm x 75 mm of 12 SWG sheet tubes posts duly embedded in cement concrete M-15 grade blocks of 450 mm x 450 mm x 600 mm, 600 mm below ground level. The top most diamond plate will be welded to middle plate by 47 mm x 47mm of 12 SWG sheet tube. All M.s. will be stove enameled on both sides. Lettering and printing arrows, border etc., will be pointed with ready mixed synthetic enamel paint of superior quality in required shade and colour. All sections of framed posts and steel tube will be painted with primer and two coats of epoxy paint as per drawing clause 1701 MORD ,including overhead charges & Contractors profit ,but excluding Seignarage charges.
B8: Information Sign board | C8: 2 | D8: Nos | E8: ='Road Furniture-Data'!H345 -> 15913.927 | F8: / No. | G8: =ROUND(+C8*E8,) -> 31828
A9: 3 | B9: ='Road Furniture-Data'!D167 -> Providing and erecting direction and place identifications of semi reflective sign boards as per IRC:67 made of 2 mm thick M.S. Sheet duly stove enameled paint in white colour in front and grey colour on back with red reflective border of 70 mm width and required message, letters, figures with reflective engineering grade tape as per MORD specifications of required shade and colour. supported and welded on 47 mm x 47 mm of 12 SWG Square tube of 3050 mm height duly strengthened by 25 mm x 5 mm M/s flat iron on edges on back firmly fixed to the ground by means of properly designed foundation with M15 grade cement concrete 450 mm x 450 mm x 600 mm, 600 mm below ground level as per drawings and Technical Specification Clause 1701 MORD.,including overhead charges & Contractors profit ,but excluding Seignarage charges.
B10: 1000x900mm size | C10: 2 | D10: Nos | E10: ='Road Furniture-Data'!H192 -> 3001.1833 | F10: / No. | G10: =ROUND(+C10*E10,) -> 6002
A11: 4 | B11: ='Road Furniture-Data'!D123 -> Providing and fixing of semi reflective cautionary, mandatory and informatory sign board as per IRC:67 made of 1.5 mm thick MS Sheet duly stove white colour in front and gray colour on back with red reflective border of 65 mm width and required letters and figures with reflective tape engineering grade as per Clause 1701.3.9 of MORD for Rural Roads of required shade and colour supported and welded on 47 mm x 47 mm 12 SWG sheet tube firmly fixed to the ground by means of properly designed foundation with M15 grade cement concrete 450 mm x 450 mm x 600 mm, 600 mm below ground level as per drawings and Technical Specification Clause 1701 MORD ,including overhead charges & Contractors profit ,but excluding Seignarage charges.
B12: 600mmx600mm size | C12: 4 | D12: Nos | E12: ='Road Furniture-Data'!H160 -> 2296.218 | F12: / No. | G12: =ROUND(+C12*E12,) -> 9185
A14: 5 | B14: Supplying of hot applied thermoplastic road marking compound, 2.5mm thick including reflectorising glass beads @ 250gms with Reflectorising Glass Beads on Bituminous Surface at 250 gms per sqm area, thickness of 2.5mm is exclusive of surface applied glass bead as per MORTH Section 803.4 and IRC: 35-2015, the material should satisfy the requirements as per MORTH specifications 803.4 and must comply with the following: a) White index for the product should be in the range of 60-70 when measured against standard reference. The applied panel 7/8 number must be submitted for checking up the white index in the department lab. In case the department approves the white index of any vendor, the department engineer may carryout random checking of the applied products at site against the approved panel. In case of any major deviation, beyond
C15: 0 | D15: 0.1 | E15: =C15*D15 -> 0
E16: =E15 -> 0 | F16: 663 | G16: =F16*E16 -> 0
E18: Total | F18: Rs. | G18: =SUM(G4:G17) -> 58374
B21: Asst Exe Engineer, | D21: Dy. Exe. Engineer
B22: ='Pipe data'!D274 -> PRSD Maddur | D22: ='Pipe data'!E274 -> PRSD, Maddur
B25: ='Pipe data'!D399 -> District Panchayat Raj Engineer, | D25: ='Pipe data'!E399 -> Superintending Engineer
