Workbook
Name ___bla1: [1]leads!$H$7
Name ___CCW1: [2]DATA!$H$67
Name ___CCW2: [2]DATA!$H$97
Name ___cur1: [3]r!$F$30
Name ___l1: [4]leads!$A$3:$E$108
Name ___l12: #REF!
Name ___l12: #REF!
Name ___l2: [3]r!$F$29
Name ___l3: #REF!
Name ___l3: #REF!
Name ___l4: [5]Sheet1!$W$2:$Y$103
Name ___l5: #REF!
Name ___l5: #REF!
Name ___l6: [3]r!$F$4
Name ___l7: [6]r!$F$4
Name ___l8: [3]r!$F$2
Name ___l9: [3]r!$F$3
Name ___LJ6: [2]DATA!$H$245
Name ___mm1: [7]r!$F$4
Name ___mm11: [3]r!$F$4
Name ___mm111: [6]r!$F$4
Name ___pc2: #REF!
Name ___pc2: #REF!
Name ___pv2: #REF!
Name ___pv2: #REF!
Name ___rr3: [8]v!$A$2:$E$51
Name ___rrr1: [8]r!$B$1:$I$145
Name ___ss12: [9]rdamdata!$J$8
Name ___ss20: [9]rdamdata!$J$7
Name ___ss40: [9]rdamdata!$J$6
Name ___var1: #REF!
Name ___var1: #REF!
Name ___var4: #REF!
Name ___var4: #REF!
Name __bla1: [10]leads!$H$7
Name __bla1: [1]leads!$H$7
Name __cbr1: #REF!
Name __cbr1: #REF!
Name __cbr2: #REF!
Name __cbr2: #REF!
Name __cbr3: #REF!
Name __cbr3: #REF!
Name __cbr4: #REF!
Name __cbr4: #REF!
Name __CCW1: [11]DATA!$H$67
Name __CCW2: [11]DATA!$H$97
Name __cur1: [3]r!$F$30
Name __l1: [12]leads!$A$3:$E$108
Name __l1: [4]leads!$A$3:$E$108
Name __l12: #REF!
Name __l12: #REF!
Name __l12: #REF!
Name __l12: #REF!
Name __l12: #REF!
Name __l2: [3]r!$F$29
Name __l3: #REF!
Name __l3: #REF!
Name __l3: #REF!
Name __l3: #REF!
Name __l3: #REF!

Sheet XXXXX

Sheet XXXXXXXXXXXXX

Sheet Entry
B3: Name of the work | C3: Construction of CC Road & Drains in Ansanpally(V) of Indalwai Mandal
B4: Grant | C4: =CONCATENATE(C48,) -> MGNREGS
B5: Estimate cost | C5: 5 | D5: lakhs
B6: Work sanctioning authority | C6: Dist Collector (PLG) Mahabubnagar .Proc.No.
B7: Proceeding No
B8: Seig charges
B9: Stone | C9: 50
B10: Sand | C10: 40
B11: Earth work | C11: 22
B12: Gravel
B13: Ls
B14: Leads | C14: Qaury | D14: Distance
B15: Sand for mortor | C15: Banderpally vagu
B16: Sand for filling | C16: Banderpally vagu
B17: Metal | C17: Baswapur
B18: gravel | C18: Local
B19: CC road details
B20: Length of CC road | C20: 30.75
B21: Width of CC road | C21: 3.75
B22: Depth of CC road | C22: 0.17
B23: Depth earth work | C23: 0.1
B24: Depth of sand cushion | C24: 0.1
C25: Five lakhs only | G25: Mandal : | H25: Indalwai
B26: by The Dist. Collector, Nizamabad vide proc.No. | C26: A2/EGS/158/2024
B27: Dated | C27: 18.12.2024
G28: GP Name | H28: Ansanpally
B29: Mandal Engineering Officer | C29: Dy.Executive Engineer
B30: PR MPP Indalwai | C30: PRSD Dichpally | G30: Habitation | H30: =H28 -> Ansanpally
B31: Name of AEE/AE | C31: M.Ganga Kiran
B32: GST | D32: CC Depth | E32: 0.165 | G32: m
D33: CC Width | E33: 3.1 | G33: m
D34: shoulders | E34: 0.45 | G34: m
B35: Required Information
A36: 1 | B36: Road Start Staus or Pre Status (Bitumen Top / Cement Concrete / Cross Drainage / Earthen Road / Existing / Gravel Road / Kankar Road / Kharanja (Brick/Stone) / Metal First Coat / Metal Second Coat/ No Road / Not Exist / Sand Moram / Tiles / Village Drain / WBM) | F36: : | G36: Earthen Road
A37: =A36+1 -> 2 | B37: No. of villagers will be benefited | F37: : | G37: 150
A38: =A37+1 -> 3 | B38: Avarage No. of Labours required per day | F38: : | G38: 5
B40: Lead | C40: Location | D40: Distance in km
B41: Sand (For Concrete) | C41: Kaligote | D41: 36
B42: Sand (For Filling) | C42: Local | D42: 5
B43: Metal | C43: Koratapally | D43: 12
...

Sheet Cover
D3: Government of Telangana
D7: Panchayat Raj Department
D10: DETAILED ESTIMATE
C16: =Entry!C3 -> Construction of CC Road & Drains in Ansanpally(V) of Indalwai Mandal
D18: Name of Grant | H18: MGNREGS-2024-25
D19: Estimation Cost | F19: MGNREGS | G19: :: | H19: =H22 -> 5 | I19: Lakhs
D22: Total | G22: :: | H22: =Entry!C5 -> 5 | I22: Lakhs
E27: Mandal : | G27: =Entry!H25 -> Indalwai
F30: Sub-Division : | G30: =Entry!C30 -> PRSD Dichpally
E36: Division : | G36: PR Div.Nizamabad
O38: .

Sheet Spe Report
A1: SPECIFICATION REPORT
A2: =CONCATENATE(" Specification report to accompany the detailed estimate for the work ",Entry!C3,) -> Specification report to accompany the detailed estimate for the work Construction of CC Road & Drains in Ansanpally(V) of Indalwai Mandal
B4: =Entry!C48 -> MGNREGS | G4: Est.Cost Rs. | H4: =Entry!C5 -> 5 | I4: Lakhs | Q4: Esti.Cost | R4: 18
K5: =Entry!B26 -> by The Dist. Collector, Nizamabad vide proc.No.
A6: ***** | K6: =Entry!C26 -> A2/EGS/158/2024
B7: =CONCATENATE(" The above work has been Administratively Sanctioned under ",B4," Grant for Rs.",H4,".00 Lakhs ",K5,K6,K7,L7) -> The above work has been Administratively Sanctioned under MGNREGS Grant for Rs.5.00 Lakhs by The Dist. Collector, Nizamabad vide proc.No. A2/EGS/158/2024 Dated 18.12.2024 | K7: =Entry!B27 -> Dated | L7: =Entry!C27 -> 18.12.2024
A8: The following provisions have been made in the estimate
A9: Since The honble MP has pleased to sanction Rs 20.00 lakhs,therefore only part of the length is proposed to 0/0km- 1/0Km length only. The Balance length could taken be under future sanctions. Accordingly, the mow the follwing provisions included innthe estimate
A11: 1 | B11: Engaging Unskilled Labour for earth work excavation in Ordinary Soils AT SITE with initial lead & initial lift and breaking clods and sectioning for levelling
A12: =A11+1 -> 2 | B12: Plain Cement concrete (1:5:10) using 40 mm HBG Metal metal with hand mixing including cost and conveyance all materials and labour charges Complete for finished item of work.
A13: =A12+1 -> 3 | B13: Plain Cement concrete (M 15) Nominal Mix 1:2.5:5 using 40, 20, 10mm metal m/c including cost and conveyance all materials and labour charges Complete for finished item of work.
A14: 4 | B14: Collection and Supply of Well graded HB stone of 5 mm -2.36mm ( Free from dust ) and HBG Stone Chips 2.36mm and below for Sub-Base Layer
A15: 5 | B15: ='Estmate '!B27:L27 -> Construction of plain cement concrete pavement, thickness as per design, over a prepared sub base, with 43 grade cement or any other type as per clause 1501.22 M20(Grade), coarse and fine agregates (using with 50% Natural Sand + 50% Rock Sand) conforming to IS:383 maximum size of coarse agregate not exceeding 25mm, mixed in a concrete mixer of not less than 0.2cum capacity and using approved mix design, laid in approved fixed side form work (steel channel, laying and fixing of 125 micron thick polythene film, wedges, steel plates including levelling the form work as per drawing), spreading the concrete with shovels, rakes, compacted using plate vibrators and finished in continous operation including provision of contraction and expansion, construction joints using Mastic pad/ primer, construction joint, admixtures as approved, curing of concrete slabs for 14 days, and water finishing to lines and grade as per drawing and technical specification clause 1501.22 including seignorage charges.(without dowel bars)
A16: 6 | B16: ='Estmate '!B31 -> Groove Cutting of 2-4 mm for 1/3rd depth of concrete slab using concrete groove cutting machine with diamond studded saw within 24 hours of casting of CC pavement (CC Pavement 100mm to 200mm thick)
A17: 7 | B17: ='Estmate '!B35:H35 -> Collection & Supply of good gravel including cost,conveyance of all material and labour charges and stacking to Departmental guage for pre-measurements for Shoulders
A18: 8 | B18: ='Estmate '!B38:H38 -> Engaging Unskilled Labour for spreading of collected gravel uniformely irrespective of thickness in layers including watering and taming(RSSR GO.RT.No.119 Dt:29.04.2022(Sl.No.18))-For Shoulders
A19: =A18+1 -> 9 | B19: Manufacture, Supply and Delivary of R.C.C. Socket and Spigot Pipes Conforming to B.I.S. 458/2003 at Ex-Factory (Rate per Meter of Efective length) Exculuding transportion, Taxes & Duties. of Non Pressure pipes
A20: 9 | B20: Supply and fixing of Brick pedastal Name Board of size 0.75m X 0.90m X 0.23m size including painting and required lettering as per standard specifications
A21: 10 | B21: Manufacture , supply and delivery of Unplasticised PVCs pipes for portable water supplies confirming to IS 4985/2000 (3rd revision) with bell ends (socket) as per specification in light grey / natural Ivory gray / any other color (except white) inclusive of transportation to to sub divisional stores anywhere in TG excluding Taxes
A22: 11 | B22: Provision for Core Cutting Charges
A23: =A22+1 -> 12 | B23: Seignorage charges
A24: 13 | B24: Add 0.50 % QC charges
A25: The Estimate is prepared with RSSR and CSSR 2024-25 and submitted for according Technical Sanction
B28: =Entry!B29 -> Mandal Engineering Officer | G28: =Entry!C29 -> Dy.Executive Engineer
B29: =Entry!B30 -> PR MPP Indalwai | G29: =Entry!C30 -> PRSD Dichpally

Sheet ABS
A1: GENERAL ABSTRACT ESTIMATE
A2: =Entry!C3 -> Construction of CC Road & Drains in Ansanpally(V) of Indalwai Mandal
B3: Sanctioned under | D3: Esti.Cost | E3: =Entry!C5 -> 5
B4: CDP Grant | C4: =E3*10% -> 0.5
B5: MGNREGS Grant | C5: =E3*90% -> 4.5
A7: SLNO | B7: Description of items | C7: Quantity | D7: Rate | E7: Amount
A8: 1 | B8: PART - A
B9: Construction of Internal CC Roads with out Drains in SC/ST localit's sanctioned under GP grant. | C9: 1 | D9: =E9 -> 50000 | E9: =C4*100000 -> 50000
A10: 2 | B10: PART - B
B11: Construction of Internal CC Roads with out Drains in SC/ST localit's sanctioned under MGNREGS grant. | C11: 1 | D11: =E11 -> 450000 | E11: =C5*100000 -> 450000
C12: Total Rs - | E12: =E11+E9 -> 500000
B16: =Entry!B29 -> Mandal Engineering Officer | D16: =Entry!C29 -> Dy.Executive Engineer
B17: =Entry!B30 -> PR MPP Indalwai | D17: =Entry!C30 -> PRSD Dichpally
C21: =CONCATENATE(" Administrative Sanctioned for ",G21,H21,0, 0,G22,G23,G24,G25,H25,G26,H26) -> Administrative Sanctioned for 5-00Lakhs (Rupees ……………………. Lakhs only ) by The Dist. Collector, Jogulamba Gadwal vide proc.No. D5/EGS/153/18-19., Dated 19.09.2018 | G21: =Entry!C5 -> 5 | H21: -
G22: Lakhs
G23: (Rupees
G24: ……………………. Lakhs only )
G25: by The Dist. Collector, Jogulamba Gadwal vide proc.No. | H25: D5/EGS/153/18-19.,
G26: Dated | H26: 19.09.2018
C27: =CONCATENATE(" Technically Sanctioned for ",G21,H21,0, 0,G22,G23,G24,G28,G26,H29) -> Technically Sanctioned for 5-00Lakhs (Rupees ……………………. Lakhs only ) vide DR.No_______/2018-19Dated 44744
G28: vide DR.No_______/2018-19
H29: 44744
D32: =D16 -> Dy.Executive Engineer
D33: =D17 -> PRSD Dichpally

Sheet Input Data sheet
A1: Rural Development Department
A2: MGNREGS-TG
A3: Input Data Sheet
A4: =Entry!C3 -> Construction of CC Road & Drains in Ansanpally(V) of Indalwai Mandal
A5: General Information
A6: 1 | B6: Name of Mandal | C6: =Entry!H25 -> Indalwai
A7: =A6+1 -> 2 | B7: Name of Gram Panchayat | C7: =Entry!H28 -> Ansanpally
A8: =A7+1 -> 3 | B8: Name of Habitation | C8: =Entry!H30 -> Ansanpally
A9: =A8+1 -> 4 | B9: Work Name : | C9: CC Road 24-25
A10: =A9+1 -> 5 | B10: Road Name : | C10: =Entry!C3 -> Construction of CC Road & Drains in Ansanpally(V) of Indalwai Mandal
A11: =A10+1 -> 6 | B11: Estimated Person days (in Thousands) | C11: =ROUND(('Estmate '!M11+'Estmate '!M41)/257/1000, 3) -> 0.015
A12: =A11+1 -> 7 | B12: Estimate Cost (Rs. in Lakhs) | C12: =Entry!C5 -> 5
A13: =A12+1 -> 8 | B13: Total Distance Covered (in K.M) | C13: ='Estmate '!F28/1000 -> 0.12
A14: =A13+1 -> 9 | B14: Start Status : | C14: =Entry!G36 -> Earthen Road
A15: =A14+1 -> 10 | B15: End Status : | C15: Constr of CC road & drain for Comm
A16: =A15+1 -> 11 | B16: Total Earth Work/C.C(cum) | C16: ='Estmate '!I29 -> 61.38
A17: =A16+1 -> 12 | B17: Length(Km)
A18: =A17+1 -> 13 | B18: No. of villagers will be benefited | C18: =Entry!G37 -> 150
A19: =A18+1 -> 14 | B19: Expected Mandays (in Thousands)
A20: =A19+1 -> 15 | B20: Avarage No. of Labours required per day | C20: =Entry!G38 -> 5
A21: =A20+1 -> 16 | B21: Unskilled Labour (in lakhs) | C21: =('Estmate '!M11+'Estmate '!M41)/100000 -> 0.03952 | F21: ='Estmate '!M11+'Estmate '!#REF!+'Estmate '!M41 -> #REF!
A22: =A21+1 -> 17 | B22: Material (NREGA) (in lakhs) | C22: =('Estmate '!M52/100000)-C21 -> 4.96048
A23: =A22+1 -> 18 | B23: Total (in lakhs) (Unskilled+Material) | C23: =C22+C21 -> 5
A24: Activity
A25: SNo | B25: Task Name | C25: Unit Price | D25: Qty | E25: Amount (in Rs.)
A27: 1 | B27: CC01.Engaging Unskilled Labour for earth work excavation in Ordinary Soils AT SITE with initial lead & initial lift and breaking clods and sectioning for formation of embankment - for roads (RSSR)_16682_D | C27: ='Estmate '!J11 -> 180.01 | D27: ='Estmate '!I11 -> 14.03 | E27: =ROUND(C27*D27,0) -> 2526
A28: =A27+1 -> 2 | B28: CC09.Engaging Unskilled Labour for filling foundation with sand but excluding cost & conveyance of Sand (RSSR)_16690_D | C28: ='Estmate '!#REF! -> #REF! | D28: ='Estmate '!#REF! -> #REF! | E28: =ROUND(C28*D28,0) -> #REF! | F28: =E28+E27+E29 -> #REF!
A29: =A28+1 -> 3 | B29: CC68.Engaging Unskilled Labour for for spreading the collected Gravel and sectioning for Blindage, Shoulders (RSSR)_19039_D | C29: ='Estmate '!J41 -> 31.18 | D29: ='Estmate '!I41 -> 45.72 | E29: =ROUND(C29*D29,0) -> 1426
A30: =A29+1 -> 4 | B30: Activity to match total estimation cost | C30: 1 | D30: =C22*100000 -> 496048 | E30: =ROUND(C30*D30,0) -> 496048
B31: Total Work Cost : | E31: =SUM(E27:E30) -> #REF!
A33: Material
A34: SNo | B34: Task Name | C34: Unit Price | D34: Qty | E34: Amount (in Rs.)
A36: 1 | B36: CC07.Cost and conveyance of gravel for filli_9402_D | C36: ='Estmate '!#REF! -> #REF! | D36: ='Estmate '!#REF! -> #REF! | E36: =ROUND(C36*D36,0) -> #REF!
A37: =A36+1 -> 2 | B37: PCC M20 Grade Concrete | C37: ='Estmate '!J29 -> 5851.7405 | D37: ='Estmate '!I29 -> 61.38 | E37: =ROUND(C37*D37,0) -> 359180
A38: =A37+1 -> 3 | B38: CC10.Collection & Supply of gravel to obt_9404_D | C38: ='Estmate '!J37 -> 173.08 | D38: ='Estmate '!I37 -> 17.82 | E38: =ROUND(C38*D38,0) -> 3084
A39: =A38+1 -> 4 | B39: Concrete groove cutting by Machine as directed | C39: ='Estmate '!J33 -> 60 | D39: ='Estmate '!I33 -> 120.9 | E39: =ROUND(C39*D39,0) -> 7254
A40: =A39+1 -> 5 | B40: Name Board [Earth work excavation,9 Inch t_15800_D | C40: ='Estmate '!J45 -> 4000 | D40: ='Estmate '!I45 -> 1 | E40: =ROUND(C40*D40,0) -> 4000
A41: =A40+1 -> 6 | B41: CC Road Core Cutting Charges_16410_D | C41: 1 | D41: ='Estmate '!M47 -> 2000 | E41: =ROUND(C41*D41,0) -> 2000
A42: =A41+1 -> 7 | B42: CW12.QC @0.5%_11591_D | C42: 1 | D42: ='Estmate '!M50 -> 2435 | E42: =ROUND(C42*D42,0) -> 2435
A43: =A42+1 -> 8 | B43: CW15.LS amount for unforcen items._11594_D | C43: 1 | D43: ='Estmate '!M51 -> 8642.54 | E43: =ROUND(C43*D43,0) -> 8643
...

Sheet Estmate  
A1: DETAILED-CUM-ABSTRACT ESTIMATE
A2: =Entry!C3 -> Construction of CC Road & Drains in Ansanpally(V) of Indalwai Mandal
B3: =Entry!H25 -> Indalwai | F3: G.P. : | G3: =Entry!H28 -> Ansanpally | I3: Habitaion: | J3: =Entry!H28 -> Ansanpally
B4: MGNREGS | J4: Estimated Cost : Rs. | K4: =M52 -> 500000
A5: Sl. No | B5: Description of Item | C5: Nos. | F5: Length (m) | G5: Width (m) | H5: Thick ness (m) | I5: Quantity | J5: Rate (Rs) | K5: unit | M5: Amount (Rs) | S5: 3703 | U5: =29.38*40 -> 1175.2
A6: 1 | B6: 2 | C6: 3 | F6: 4 | G6: 5 | H6: 6 | I6: 7 | J6: 8 | K6: 9 | M6: 10 | S6: 13281 | U6: =76.51*85.5 -> 6541.605
A7: 1 | B7: ='Data-CCRoad '!C3:C3 -> Engaging Unskilled Labour for Earth work in surface excavation not exceeding 30 cm in depth but exceeding 1.5 meter in width as well as 10 sqm on plan including getting out and disposal of excavated earth as directed by Engineer-in-charge for land leveling and land development (disposed earth to be neatly dressed and leveled) with initial lead of 10 mts and initial lift of 1.5 mts - for roads (RSSR GO.RT.No.119 Dt:29.04.2022(Sl.No.11(i)) | N7: labour component | O7: Seignorage charges | S7: 521 | U7: =SUM(U5:U6) -> 7716.805
B8: Removing of Unserviceable matter on road surface | C8: 1 | D8: x | E8: 1 | F8: 15 | G8: 3.1 | H8: 0.075 | I8: =ROUND(C8*E8*F8*G8*H8,2) -> 3.49 | S8: 310093 | U8: =76.51*0.45*570 -> 19624.815
B9: for duct pipe line trench | C9: 1 | D9: x | E9: =ROUND(F8/15,0) -> 1 | F9: 4 | G9: 0.3 | H9: 0.45 | I9: =ROUND(C9*E9*F9*G9*H9,2) -> 0.54 | S9: =SUM(S5:S8) -> 327598
B10: FOR DRAIN | C10: 1 | D10: X | E10: 1 | F10: 50 | G10: 1 | H10: 0.2 | I10: =ROUND(C10*E10*F10*G10*H10,2) -> 10
I11: =SUM(I8:I10) -> 14.03 | J11: =+'Data-CCRoad '!F6 -> 180.01 | K11: 1 | L11: Cum | M11: =ROUND(I11*J11/K11,0) -> 2526 | N11: =M11 -> 2526 | S11: =-U8 -> -19624.815
A12: 2 | B12: {='Data-CCRoad '!C87:G87} -> Plain Cement concrete (1:5:10) using 40 mm HBG Metal metal with hand mixing including cost and conveyance all materials and labour charges Complete for finished item of work. | C12: 0 | D12: 0 | E12: 0 | F12: 0
B13: BED FOR THE DRAIN | C13: 1 | D13: X | E13: 1 | F13: =F10 -> 50 | G13: 1 | H13: 0.075 | I13: =ROUND(C13*E13*F13*G13*H13,2) -> 3.75 | J13: ='Data-CCRoad '!G106 -> 4569.67 | L13: Cum | M13: =J13*I13 -> 17136.263
A15: 3 | B15: {='Data-CCRoad '!C108:G108} -> Plain Cement concrete (M 15) Nominal Mix 1:2.5:5 using 40, 20, 10mm metal m/c including cost and conveyance all materials and labour charges Complete for finished item of work. | C15: 0 | D15: 0 | E15: 0 | F15: 0
B16: side walls of drain | C16: 1 | D16: X | E16: 2 | F16: =F13 -> 50 | G16: 0.23 | H16: 0.45 | I16: =ROUND(C16*E16*F16*G16*H16,2) -> 10.35 | J16: ='Data-CCRoad '!G126 -> 5530.2858 | L16: Cum | M16: =J16*I16 -> 57238.458
A18: 4 | B18: {='Data-CCRoad '!C144:G144} -> Plastering with CM (1:4), 12 mm thick including cost and conveyance all materials and labour charges Complete for finished item of work. | C18: 0 | D18: 0 | E18: 0 | F18: 0
C19: 1 | D19: x | E19: 1 | F19: =F13 -> 50 | G19: 0.63 | I19: =G19*F19 -> 31.5
I20: =I19 -> 31.5 | J20: ='Data-CCRoad '!G152 -> 1492.55 | L20: 10sqm | M20: =J20*I20/10 -> 4701.5325
A22: 5 | B22: Collection and Supply of Well graded HB stone of 5 mm -2.36mm ( Free from dust ) and HBG Stone Chips 2.36mm and below for Sub-Base Layer
B23: FOR ROAD | C23: 1 | D23: X | E23: 1 | F23: 120 | G23: 3.1 | H23: 0.075 | I23: =H23*G23*F23 -> 27.9
I24: =I23 -> 27.9 | J24: ='Data-CCRoad '!G131 -> 997.14 | L24: cum | M24: =J24*I24 -> 27820.206
A26: C. | B26: for CC Pavement
A27: 6 | B27: Construction of plain cement concrete pavement, thickness as per design, over a prepared sub base, with 43 grade cement or any other type as per clause 1501.22 M20(Grade), coarse and fine agregates (using with 50% Natural Sand + 50% Rock Sand) conforming to IS:383 maximum size of coarse agregate not exceeding 25mm, mixed in a concrete mixer of not less than 0.2cum capacity and using approved mix design, laid in approved fixed side form work (steel channel, laying and fixing of 125 micron thick polythene film, wedges, steel plates including levelling the form work as per drawing), spreading the concrete with shovels, rakes, compacted using plate vibrators and finished in continous operation including provision of contraction and expansion, construction joints using Mastic pad/ primer, construction joint, admixtures as approved, curing of concrete slabs for 14 days, and water finishing to lines and grade as per drawing and technical specification clause 1501.22 including seignorage charges.(without dowel bars)
C28: 1 | D28: x | E28: 1 | F28: =F23 -> 120 | G28: 3.1 | H28: 0.165 | I28: =ROUND(C28*E28*F28*G28*H28,2) -> 61.38 | O28: =ROUND(I29*85.5,0) -> 5248
I29: =SUM(I28:I28) -> 61.38 | J29: ='Data-CCRoad '!G54 -> 5851.7405 | K29: 1 | L29: Cum | M29: =ROUND(I29*J29/K29,0) -> 359180
B30: Grove cutting
A31: =A27+1 -> 7 | B31: ='Data-CCRoad '!C77 -> Groove Cutting of 2-4 mm for 1/3rd depth of concrete slab using concrete groove cutting machine with diamond studded saw within 24 hours of casting of CC pavement (CC Pavement 100mm to 200mm thick)
C32: 1 | D32: x | E32: =ROUND(F28/G28,0) -> 39 | F32: =G28 -> 3.1 | I32: =ROUND(C32*E32*F32,2) -> 120.9
I33: =SUM(I32) -> 120.9 | J33: ='Data-CCRoad '!G79 -> 60 | K33: 1 | L33: Rm | M33: =ROUND(I33*J33/K33,0) -> 7254
B34: Shoulders
A35: =A31+1 -> 8 | B35: ='Data-CCRoad '!C59:C59 -> Collection & Supply of good gravel including cost,conveyance of all material and labour charges and stacking to Departmental guage for pre-measurements for Shoulders
B36: for Shoulders | C36: 1 | D36: x | E36: 2 | F36: =F28 -> 120 | G36: =Entry!E34 -> 0.45 | H36: 0.165 | I36: =ROUND(C36*E36*F36*G36*H36,2) -> 17.82
I37: =SUM(I36:I36) -> 17.82 | J37: ='Data-CCRoad '!G63 -> 173.08 | K37: 1 | L37: Cum | M37: =ROUND(I37*J37/K37,0) -> 3084 | O37: =ROUND(I37*30,0) -> 535
A38: =A35+1 -> 9 | B38: ='Data-CCRoad '!C65:C65 -> Engaging Unskilled Labour for spreading of collected gravel uniformely irrespective of thickness in layers including watering and taming(RSSR GO.RT.No.119 Dt:29.04.2022(Sl.No.18))-For Shoulders
B39: for Shoulders | C39: =C36 -> 1 | D39: x | E39: =E36 -> 2 | F39: =F36 -> 120 | G39: 0.45 | H39: 0.165 | I39: =ROUND(C39*E39*F39*G39*H39,2) -> 17.82
B40: for chips | C40: 1 | D40: x | E40: 1 | F40: =F39 -> 120 | G40: 3.1 | H40: 0.075 | I40: =ROUND(C40*E40*F40*G40*H40,2) -> 27.9
I41: =SUM(I39:I40) -> 45.72 | J41: ='Data-CCRoad '!G17 -> 31.18 | K41: 1 | L41: Cum | M41: =ROUND(I41*J41/K41,0) -> 1426 | N41: =M41 -> 1426
A42: =A38+1 -> 10 | B42: ='Data-CCRoad '!C83 -> Manufacture , supply and delivery of Unplasticised PVCs pipes for portable water supplies confirming to IS 4985/2000 (3rd revision) with bell ends (socket) as per specification in light grey / natural Ivory gray / any other color (except white) inclusive of transportation to to sub divisional stores anywhere in TG excluding Taxes
C43: 1 | D43: x | E43: =E9 -> 1 | F43: 4 | I43: =E43*F43*C43 -> 4 | J43: ='Data-CCRoad '!G86 -> 639 | K43: 1 | L43: RMT | M43: =J43*I43 -> 2556
A44: 11 | B44: Construction of brick pedastal of size 750mmx900mmx230mm above groundlevel including cost and conveyance of all materials and labour charges for bric wok plastering painting and letter writing etc complete for Site Information Board
...

Sheet Estmate 10%
A1: DETAILED-CUM-ABSTRACT ESTIMATE
A2: =Entry!C3 -> Construction of CC Road & Drains in Ansanpally(V) of Indalwai Mandal
B3: =Entry!D48 -> 0 | J3: Estimated Cost : Rs. | K3: =M18 -> 50000
A4: Sl. No | B4: Description of Item | C4: Nos. | F4: Length (m) | G4: Width (m) | H4: Thick ness (m) | I4: Quantity | J4: Rate (Rs) | K4: unit | M4: Amount (Rs) | N4: labour component | O4: Seignorage charges
A5: 1 | B5: 2 | C5: 3 | F5: 4 | G5: 5 | H5: 6 | I5: 7 | J5: 8 | K5: 9 | M5: 10
A9: C. | B9: for CC Pavement
A10: 1 | B10: Construction of un-reinforced, jointed at expansion and construction joint only, plain cement concrete pavement, thickness as per design, over a prepared sub base, with 43 grade cement or any other type as per clause 1501.22 M20(Grade), coarse and fine agregates conforming to IS:383 maximum size of coarse agregate not exceeding 25mm, mixed in a concrete mixer of not less than 0.2cum capacity and using approved mix design, laid in approved fixed side form work (steel channel, laying and fixing of 125 micron thick polythene film, wedges, steel plates including levelling the form work as per drawing), spreading the concrete with shovels, rakes, compacted using plate vibrators and finished in continous operation including provision of contraction and expansion, construction joints using Mastic pad/ primer, construction joint, admixtures as approved, curing of concrete slabs for 14 days, and water finishing to lines and grade as per drawing and technical specification clause 1501.22 including seignorage charges.(without dowel bars)
C11: 1 | D11: x | E11: 1 | F11: =Entry!D49 -> 0 | G11: =Entry!E33 -> 3.1 | H11: ='Estmate '!H28 -> 0.165 | I11: =ROUND(C11*E11*F11*G11*H11,2) -> 0 | J11: ='Data-CCRoad '!G54 -> 5851.7405 | K11: 1 | L11: Cum | M11: =ROUND(I11*J11/K11,0) -> 0 | O11: =ROUND(I11*85.5,0) -> 0
J13: Total | M13: =SUM(M6:M12) -> 0 | N13: =SUM(N6:N12) -> 0 | O13: =SUM(O6:O12) -> 0
A14: 2 | B14: Seignorage charges | M14: =O13 -> 0
A15: 3 | B15: Add: GST @ 12% | M15: =ROUND(M13*12%,0) -> 0
A16: 4 | B16: Add: Q.C. Charges @ 0.50% | M16: =ROUND(M13*0.5%,0) -> 0
A17: 5 | B17: Add: LS for unforeseen items | L17: LS | M17: =N17 -> 50000 | N17: =M18-SUM(M13:M16) -> 50000
J18: Grand Total | M18: =ABS!E9 -> 50000 | N18: =Entry!D49 -> 0
B21: ='Estmate '!B59 -> 0 | G21: =Entry!C29 -> Dy.Executive Engineer
B22: ='Estmate '!B60 -> 0 | G22: =Entry!C30 -> PRSD Dichpally

Sheet Data-CCRoad 
A1: CC Road and Drain Data SSR 2024-25
A2: Sl. No. | B2: Task Code | C2: Description of item | D2: Unit | E2: Qty | F2: Rate | G2: Amount | H2: per unit
A3: 1 | B3: CC01 | C3: Engaging Unskilled Labour for Earth work in surface excavation not exceeding 30 cm in depth but exceeding 1.5 meter in width as well as 10 sqm on plan including getting out and disposal of excavated earth as directed by Engineer-in-charge for land leveling and land development (disposed earth to be neatly dressed and leveled) with initial lead of 10 mts and initial lift of 1.5 mts - for roads (RSSR GO.RT.No.119 Dt:29.04.2022(Sl.No.11(i)) | L3: Engaging Unskilled Labour for earth work excavation in Ordinary Soils AT SITE with initial lead & initial lift and breaking clods and sectioning for formation of embankment - for roads (RSSR)
C4: Unit-1cum | L4: Unit-1cum
C5: taking output = 1cum
C6: Rate as per Current RSSR for formation of road(RSSR GO.RT.No.119 Dt:29.04.2022(Sl.No.11(i)) | D6: cum | E6: 1 | F6: 180.01 | G6: =F6*E6 -> 180.01
G7: =G6 -> 180.01 | H7: /cum | L7: A: | P7: =#REF! -> #REF!
A9: 2 | B9: CC07 | C9: Collection & Supply of good gravel including cost,conveyance of all material and labour charges and stacking to Departmental guage for pre-measurements for Base
C10: Unit:1cum
C11: a) Material:
C12: Gravel | D12: cum | E12: 1 | F12: ='Lead2024-25'!K5 -> 173.08 | G12: =E12*F12 -> 173.08
C13: Rate per 1.00 cum | G13: =G12 -> 173.08 | H13: /cum
A15: 3 | B15: CC07 | C15: Engaging Unskilled Labour for spreading of collected gravel uniformely irrespective of thickness in layers including watering and taming(RSSR GO.RT.No.119 Dt:29.04.2022(Sl.No.18))- For Base preparation
C16: a) Rate per 1cum as per RSSR | D16: cum | E16: 1 | F16: 31.18 | G16: =E16*F16 -> 31.18
G17: =G16 -> 31.18 | H17: /cum
C19: Cement Concrete Pavement
A20: 4 | C20: Construction of un-reinforced, plain cement concrete pavement, thickness as per design, over a prepared sub base, with 43 grade cement or any other type as per Clause 1501.2.2 M20 (Grade), coarse and fine aggregates (using with 50% Natural Sand + 50% Rock Sand) conforming to IS : 383, maximum in a concrete mixer of not less than 0.2 cum capacity and appropeiate weigh batcher using approved mix design, laid in approved fixed side formwork (steel channel, laying and fixing of 125 mictron thick polythene film, wedges, steel plates including levelling the formwork as per drawing), spreading the concrete with sholvels, rakes, compacted using plate vibrators and finished in continuous operation including provision of construction joints, admixtures as approved, curing of concrete slabs for 14- days, curing compound (where specified) and water finishing to lines and grade as per drawing and Technical Specification Clause 1501 MORD but excluding VAT. Technical Specification Clause 1501 MORD but excluding overhead charges & Contractors profit and VAT.
C21: Unit = cum
C22: Taking output = 75cum (172.50 t)
C23: (100x3.75 x 0.200)
C24: a) Labour
C25: Mason (1st class) | D25: day | E25: 5 | F25: ='Lead2024-25'!K23 -> 645 | G25: =E25*F25 -> 3225
C26: Mason (2nd class) | D26: day | E26: 5 | F26: ='Lead2024-25'!K22 -> 615 | G26: =E26*F26 -> 3075
C27: Mazdoor (unskilled) | D27: day | E27: 150 | F27: ='Lead2024-25'!K20 -> 575 | G27: =E27*F27 -> 86250
C28: Mazdoor(skilled) | D28: day | E28: 6 | F28: ='Lead2024-25'!K20 -> 575 | G28: =E28*F28 -> 3450
C29: Mazdoor(semi-skilled) | D29: day | E29: 6 | F29: ='Lead2024-25'!K20 -> 575 | G29: =E29*F29 -> 3450
G30: =SUM(G25:G29) -> 99450
C31: b) Machinery
C32: Concrete mixer 0.28/0.40 cum capacity ( 6 mixers) with weight batcher and suitable capacity calibrated water tank | D32: Hour | E32: 36 | F32: 697.9 | G32: =E32*F32 -> 25124.4
C34: Plate vibrator | D34: Hour | E34: 9 | F34: 59 | G34: =E34*F34 -> 531
C35: Needle vibrator 60mm | D35: Hour | E35: 9 | F35: 246.1 | G35: =E35*F35 -> 2214.9
C36: Water tanker 6 Kl. Capacity | D36: Hour | E36: 5 | F36: 769 | G36: =E36*F36 -> 3845
G37: =SUM(G32:G36) -> 31715.3
C38: c) Material
C39: (I) Crushed stone coarse aggregates, grading will be as per clause 1501.2.4.1 (Table 1500.1) of specifications @ 0.90 Cum/cum of concrete
C40: 20mm (66%) | D40: Cum | E40: 44.55 | F40: ='Lead2024-25'!K10 -> 1381.3 | G40: =E40*F40 -> 61536.915
C41: 10mm (34%) | D41: Cum | E41: 22.95 | F41: ='Lead2024-25'!K11 -> 1130.3 | G41: =E41*F41 -> 25940.385
C42: (ii) Sand as per IS:383 and conforming to clause 1500.2.4.2. @ 0.45 cum of concrete | D42: cum | E42: 33.75 | F42: ='Lead2024-25'!K7 -> 1221.25 | G42: =E42*F42 -> 41217.188
C43: Crushed stone sand/Rock sand 4.75mm to 2.36 mm as per IS 383 (1970) | D43: cum | E43: 0 | F43: ='Lead2024-25'!K12 -> 823.3 | G43: =E43*F43 -> 0
C44: (iii)Cement @ 330Kg/cum of concrete | D44: t | E44: 24.75 | F44: ='Lead2024-25'!K15 -> 6400 | G44: =E44*F44 -> 158400 | M44: (iii)Cement @ 350Kg/cum of concrete | N44: t | O44: 26.25 | P44: 5600 | Q44: =O44*P44 -> 147000
...

Sheet Sheet2
H6: 53.06 | I6: 262.42 | J6: =+ROUND((H6*I6),2) -> 13924.01
H7: 53.06 | I7: 660.59 | J7: =+ROUND((H7*I7),2) -> 35050.91
H8: 53.06 | I8: 31.18 | J8: =+ROUND((H8*I8),2) -> 1654.41
H9: 159.19 | I9: 5623.73 | J9: =+ROUND((H9*I9),2) -> 895241.58
H10: 281.25 | I10: 86 | J10: =+ROUND((H10*I10),2) -> 24187.5
J11: =SUM(J6:J10) -> 970058.41
J12: =+ROUND((J11),0) -> 970058
J13: 6000
J14: =+ROUND(((J12+J13)*0.5%),0) -> 4880
J15: =1000000-J12-J13-J14 -> 19062
J21: 2 | K21: 283 | L21: 0.3 | M21: 0.15 | N21: =+J21*K21*L21*M21 -> 25.47 | O21: 172.9 | P21: =+N21*O21 -> 4403.763
J22: 2 | K22: 283 | L22: 0.3 | M22: 0.15 | N22: 25.47 | O22: 31.18 | P22: =+N22*O22 -> 794.1546
P24: 35051
P25: 13924
P26: 1654
P27: 895242
P28: 24188
P29: 4404
F30: 18157 | P30: 794
F31: 45706 | P31: 4000
F32: 2157 | P32: 6000
F33: 1167261 | P33: =SUM(P24:P32) -> 985257
F34: 31605 | P34: =+P33*0.5% -> 4926.285
F35: 5742
F36: 1035 | P36: =1000000-985257-4926 -> 9817
F37: 4000
F38: 6000
F39: =SUM(F30:F38) -> 1281663
F40: =+F39*0.5% -> 6408.315 | P40: =2*369*0.3*0.15 -> 33.21
K41: =33.21*172.9 -> 5742.009 | P41: =33.21*31.18 -> 1035.4878
K42: =33.21*31.18 -> 1035.4878
F43: =1300000-1281663-6408 -> 11929

Sheet Lead2024-25
A1: LEAD STATEMENT
A2: =Entry!C3 -> Construction of CC Road & Drains in Ansanpally(V) of Indalwai Mandal
A3: Sl No. | B3: Description in Material | C3: Name of the Quarry | D3: Lead in KM | E3: convence charges(duly deducting initial 1KM Lead) | F3: Convence charges Excluding 13.615 % contractors profit | G3: Initial cost of material | H3: Blasting Charges | I3: Machine Crushing Charges | J3: GST 28% on Cement 18% on Steel | K3: Total Amount including conveyance | L3: Unit
A4: 1 | B4: 2 | C4: 3 | D4: 4 | E4: 5 | F4: 6 | G4: 7 | H4: 8 | I4: 9 | J4: 8 | K4: 9 | L4: 10
A5: 1 | B5: Gravel | C5: =Entry!C18 -> Local | D5: =Entry!D44 -> 5 | E5: =LOOKUP(D5,'conveyance charges2024-25'!A4:B123)-'conveyance charges2024-25'!B4 -> 72.8 | F5: =E5/1.13615 -> 64.076046 | G5: 109 | H5: 0 | I5: 0 | J5: 0 | K5: =ROUND(F5+G5+H5+I5+J5,2) -> 173.08 | L5: 1.0 Cum
A6: 2 | B6: Sand for Filling | C6: Local | D6: 5 | E6: =LOOKUP(D6,'conveyance charges2024-25'!A5:B124)-'conveyance charges2024-25'!B4 -> 72.8 | F6: =E6/1.13615 -> 64.076046 | G6: 695 | H6: 0 | I6: 0 | J6: 0 | K6: =ROUND(F6+G6+H6+I6+J6,2) -> 759.08 | L6: 1.0 Cum
A7: 3 | B7: Sand for Concrete | C7: =Entry!C41 -> Kaligote | D7: =Entry!D41 -> 36 | E7: =LOOKUP(D7,'conveyance charges2024-25'!A6:B125)-'conveyance charges2024-25'!B4 -> 597.9 | F7: =E7/1.13615 -> 526.25094 | G7: 695 | H7: 0 | I7: 0 | J7: 0 | K7: =ROUND(F7+G7+H7+I7+J7,2) -> 1221.25 | L7: 1.0 Cum
A8: 4 | B8: 40 mm HBG Chips-SS5 | C8: =Entry!C43 -> Koratapally | D8: =Entry!D43 -> 12 | E8: =LOOKUP(D8,'conveyance charges2024-25'!A7:B126) -> 239 | F8: =E8/1.13615 -> 210.35955 | G8: 505 | H8: 67 | I8: =ROUND((G8)*25/100,2) -> 126.25 | J8: 0 | K8: =ROUND(F8+G8+H8+I8+J8,2) -> 908.61 | L8: 1.0 Cum | M8: =G8+I8+H8 -> 698.25
A9: 4 | B9: 40 mm HBG Chips-SS5 | C9: =C10 -> Koratapally | D9: =D10 -> 12 | E9: =E10 -> 196.9 | F9: =F10 -> 173.30458 | G9: 909 | J9: 0 | K9: =ROUND(F9+G9+H9+I9+J9,2) -> 1082.3 | L9: 1.0 Cum
A10: 5 | B10: 20 mm HBG Chips-SS5 | C10: =Entry!C43 -> Koratapally | D10: =Entry!D43 -> 12 | E10: =LOOKUP(D10,'conveyance charges2024-25'!A5:B127)-'conveyance charges2024-25'!C4 -> 196.9 | F10: =E10/1.13615 -> 173.30458 | G10: 1208 | H10: 0 | I10: 0 | J10: 0 | K10: =ROUND(F10+G10+H10+I10+J10,2) -> 1381.3 | L10: 1.0 Cum | M10: =G10+I10+H10 -> 1208
A11: 6 | B11: 10 mm HBG Metal-SS5 | C11: =C10 -> Koratapally | D11: =D8 -> 12 | E11: =E10 -> 196.9 | F11: =F10 -> 173.30458 | G11: 957 | H11: 0 | I11: 0 | J11: 0 | K11: =ROUND(F11+G11+H11+I11+J11,2) -> 1130.3 | L11: 1.0 Cum | M11: =G11+I11+H11 -> 957
A12: 7 | B12: Rock sand | C12: =C11 -> Koratapally | D12: =D11 -> 12 | E12: =E11 -> 196.9 | F12: =F11 -> 173.30458 | G12: 650 | J12: 0 | K12: =ROUND(F12+G12+H12+I12+J12,2) -> 823.3 | L12: 1.0 Cum
A13: 8 | B13: HB stone of 5 mm -2.36mm ( Free from dust ) | C13: =C12 -> Koratapally | D13: =D12 -> 12 | E13: =E12 -> 196.9 | F13: =F12 -> 173.30458 | G13: 883 | J13: 0 | K13: =ROUND(F13+G13+H13+I13+J13,2) -> 1056.3 | L13: =L12 -> 1.0 Cum
A14: 8 | B14: 2.36 mm Below Metal | C14: =C12 -> Koratapally | D14: =D12 -> 12 | E14: =E12 -> 196.9 | F14: =F12 -> 173.30458 | G14: 709 | J14: 0 | K14: =ROUND(F14+G14+H14+I14+J14,2) -> 882.3 | L14: =L12 -> 1.0 Cum
A15: 8 | B15: Cement 18.12.2024 | D15: 0 | G15: =Entry!D46 -> 5000 | J15: =ROUND(G15*28%,0) -> 1400 | K15: =ROUND(F15+G15+H15+I15+J15,2) -> 6400 | L15: MT
A16: 9 | B16: HYSD Steel Fe 415 18.12.24 | D16: 0 | G16: =Entry!D47 -> 49000 | J16: =ROUND(G16*18%,0) -> 8820 | K16: =ROUND(F16+G16+H16+I16+J16,2) -> 57820 | L16: MT
A17: 10 | B17: NP2 Pipes (S/S Pipes) 200 mm dia | C17: =Entry!C45 -> Nizamabad | D17: =Entry!D45 -> 62 | E17: =LOOKUP(D17,'conveyance charges2024-25'!A4:E132) -> 42.32
B19: Labour Charges
B20: Man mazdoor | G20: 575 | J20: 0 | K20: =G20+(G20*J20) -> 575
B21: Woman mazdoor | G21: =G20 -> 575 | J21: 0 | K21: =G21+(G21*J21) -> 575
B22: Semi skilled Mason / 2nd Class Carpentor / 2nd Class Painter /Balck smith | G22: 615 | J22: 0 | K22: =G22+(G22*J22) -> 615
B23: Skilled Mason /1st Class | G23: 645 | J23: 0 | K23: =G23+(G23*J23) -> 645
B24: Allowance Over Heads | J24: 0
A25: 1 | B25: This is to Cerify that the above leads are correct and nearest to the best of my knowledge and Stone qurry reuires blasting
A26: 2 | B26: Certified that the material are sufficicentaly available at the quarry
A27: 3 | B27: Certified that the HBG material are obtained by Blasting
A28: 4 | B28: Certified that the Unavailability of Rock sand nearby,total river sand is proposed
B30: =Entry!B29 -> Mandal Engineering Officer
B31: =Entry!B30 -> PR MPP Indalwai

Sheet conveyance charges2024-25
A1: Lead Chart 2023-24
A2: Lead | B2: SS rate for 2023-24
B3: Earth, Sand, Gravel | C3: Metal, Stone | E3: NP2 Pipes S/S
A4: 1 | B4: 43.7 | C4: 42.1 | E4: 10.4
A5: 2 | B5: 61.5 | C5: 59 | E5: 10.4
A6: 3 | B6: 81.5 | C6: 81.5 | E6: 10.4
A7: 4 | B7: 99 | C7: 99 | E7: 10.4
A8: 5 | B8: 116.5 | C8: 116.5 | E8: 10.4
A9: 6 | B9: =B8+17.5 -> 134 | C9: =C8+17.5 -> 134 | E9: =E8+0.56 -> 10.96
A10: 7 | B10: =B9+17.5 -> 151.5 | C10: =C9+17.5 -> 151.5 | E10: =E9+0.56 -> 11.52 | G10: =B9+13.7 -> 147.7 | K10: =B9-B8 -> 17.5
A11: 8 | B11: =B10+17.5 -> 169 | C11: =C10+17.5 -> 169 | E11: =E10+0.56 -> 12.08 | K11: =B10-B9 -> 17.5
A12: 9 | B12: =B11+17.5 -> 186.5 | C12: =C11+17.5 -> 186.5 | E12: =E11+0.56 -> 12.64
A13: 10 | B13: =B12+17.5 -> 204 | C13: =C12+17.5 -> 204 | E13: =E12+0.56 -> 13.2
A14: 11 | B14: =B13+17.5 -> 221.5 | C14: =C13+17.5 -> 221.5 | E14: =E13+0.56 -> 13.76
A15: 12 | B15: =B14+17.5 -> 239 | C15: =C14+17.5 -> 239 | E15: =E14+0.56 -> 14.32
A16: 13 | B16: =B15+17.5 -> 256.5 | C16: =C15+17.5 -> 256.5 | E16: =E15+0.56 -> 14.88
A17: 14 | B17: =B16+17.5 -> 274 | C17: =C16+17.5 -> 274 | E17: =E16+0.56 -> 15.44
A18: 15 | B18: =B17+17.5 -> 291.5 | C18: =C17+17.5 -> 291.5 | E18: =E17+0.56 -> 16
A19: 16 | B19: =B18+17.5 -> 309 | C19: =C18+17.5 -> 309 | E19: =E18+0.56 -> 16.56
A20: 17 | B20: =B19+17.5 -> 326.5 | C20: =C19+17.5 -> 326.5 | E20: =E19+0.56 -> 17.12
A21: 18 | B21: =B20+17.5 -> 344 | C21: =C20+17.5 -> 344 | E21: =E20+0.56 -> 17.68
A22: 19 | B22: =B21+17.5 -> 361.5 | C22: =C21+17.5 -> 361.5 | E22: =E21+0.56 -> 18.24
A23: 20 | B23: =B22+17.5 -> 379 | C23: =C22+17.5 -> 379 | E23: =E22+0.56 -> 18.8
... A33: 30 | B33: =B32+17.5 -> 554 | C33: =C32+17.5 -> 554 | E33: =E32+0.56 -> 24.4
A34: 31 | B34: =B33+14.6 -> 568.6 | C34: =C33+14.6 -> 568.6 | E34: =E33+0.56 -> 24.96
A35: 32 | B35: =B34+14.6 -> 583.2 | C35: =C34+14.6 -> 583.2 | E35: =E34+0.56 -> 25.52
A36: 33 | B36: =B35+14.6 -> 597.8 | C36: =C35+14.6 -> 597.8 | E36: =E35+0.56 -> 26.08
A37: 34 | B37: =B36+14.6 -> 612.4 | C37: =C36+14.6 -> 612.4 | E37: =E36+0.56 -> 26.64
A38: 35 | B38: =B37+14.6 -> 627 | C38: =C37+14.6 -> 627 | E38: =E37+0.56 -> 27.2
A39: 36 | B39: =B38+14.6 -> 641.6 | C39: =C38+14.6 -> 641.6 | E39: =E38+0.56 -> 27.76
A40: 37 | B40: =B39+14.6 -> 656.2 | C40: =C39+14.6 -> 656.2 | E40: =E39+0.56 -> 28.32
A41: 38 | B41: =B40+14.6 -> 670.8 | C41: =C40+14.6 -> 670.8 | E41: =E40+0.56 -> 28.88
A42: 39 | B42: =B41+14.6 -> 685.4 | C42: =C41+14.6 -> 685.4 | E42: =E41+0.56 -> 29.44
A43: 40 | B43: =B42+14.6 -> 700 | C43: =C42+14.6 -> 700 | E43: =E42+0.56 -> 30
A44: 41 | B44: =B43+14.6 -> 714.6 | C44: =C43+14.6 -> 714.6 | E44: =E43+0.56 -> 30.56
A45: 42 | B45: =B44+14.6 -> 729.2 | C45: =C44+14.6 -> 729.2 | E45: =E44+0.56 -> 31.12
... A123: 120 | B123: =B122+14.6 -> 1868 | C123: =C122+14.6 -> 1868 | E123: =E122+0.56 -> 74.8
A124: Loading | B124: 55.6 | C124: 110.6
A125: Unloading | B125: 17.3 | C125: 17.3

Sheet Sheet1
