Workbook
Name _40MM_HBG: #REF!
Name _40MM_HBG: #REF!
Name _40MM_HBG: #REF!
Name _40MM_HBG: #REF!
Name _40MM_HBG: #REF!
Name _65MM_HBG: #REF!
Name _65MM_HBG: #REF!
Name _65MM_HBG: #REF!
Name _65MM_HBT: #REF!
Name _65MM_HBT: #REF!
Name _65MM_HBT: #REF!
Name _65MM_HBT: #REF!
Name _65MM_HBT: #REF!
Name _65MM_OG: #REF!
Name _65MM_OG: #REF!
Name _65MM_OG: #REF!
Name _65MM_OG: #REF!
Name _65MM_OG: #REF!
Name _bla1: [1]leads!$H$7
Name _cbr1: #REF!
Name _cbr1: #REF!
Name _cbr1: #REF!
Name _cbr2: #REF!
Name _cbr2: #REF!
Name _cbr2: #REF!
Name _cbr3: #REF!
Name _cbr3: #REF!
Name _cbr3: #REF!
Name _cbr4: #REF!
Name _cbr4: #REF!
Name _cbr4: #REF!
Name _ewe1: #REF!
Name _ewe1: #REF!
Name _ewe1: #REF!
Name _l1: [3]leads!$A$3:$E$108
Name _l12: #REF!
Name _l3: #REF!
Name _l4: [4]Sheet1!$W$2:$Y$103
Name _l5: #REF!
Name _LJ6: [5]DATA!$H$245
Name _mm1: [6]r!$F$4
Name _mm20: #REF!
Name _mm20: #REF!
Name _mm20: #REF!
Name _mm40: #REF!
Name _mm40: #REF!
Name _mm40: #REF!
Name _pc2: #REF!
Name _pc2: #REF!
Name _pc2: #REF!
Name _pv2: #REF!
Name _pv2: #REF!
Name _pv2: #REF!
Name _rr3: [7]v!$A$2:$E$51
Name _rrr1: [7]r!$B$1:$I$145
Name _ss12: [8]rdamdata!$J$8
Name _ss20: [8]rdamdata!$J$7
Name _ss40: [8]rdamdata!$J$6
Name _var1: #REF!
Name _var4: #REF!

Sheet Inspection chambers
A1: 1 | B1: Estimation for the construction of Rectangular Sewer Inspection Chamber (900 x 900 mm)
B2: Inner dimensions of Chamber | H2: 0.9 | I2: 0.9
B3: Wall thickness of the Chamber with Class 75 kg/sqcm Fly ash Bricks | H3: 0.225 | I3: 0.225 | K3: 0.75 | L3: H
B4: outer dimensions of Chamber | H4: =H2+H3+I3 -> 1.35 | I4: =I2+H3+I3 -> 1.35
B5: off set for CC (1:5:10) bed | H5: 0.1 | I5: 0.1 | K5: 0.1
B6: Earth work | H6: =H4+H5+0.2 -> 1.65 | I6: =I4+I5+0.2 -> 1.65 | K6: =K3+K5 -> 0.85
A8: S.N | B8: Description of Item | F8: Measurements | I8: Qty | K8: Rate | L8: Per | N8: Amount
A9: 1 | B9: RBR-FNDN-1 -manual means : Earthwork excavation for structures in all types of soil as per drawing and technical specifications including setting out, construction of shoring and bracing, removal of stumps and other deleterious material and disposal upto a lead of 50 m, dressing of sides and bottom and backfilling in trenches with excavated suitable material as per Technical Specification 305 MORD / 304 MORTH. for Sumps,Thrust blocks, Chambers and Man Holes etc. by manual means,
C10: 1 | D10: x | E10: 1 | F10: =H6 -> 1.65 | G10: =I6 -> 1.65 | H10: =K3+K5 -> 0.85 | I10: =ROUND(PRODUCT(C10:H10),2) -> 2.31 | J10: Cum | K10: ='Datas P7'!#REF! -> #REF! | L10: 1 | M10: Cum | N10: =ROUND(I10*K10/L10,0) -> #REF!
A11: 2 | B11: BLD-CSTN-3-5 (22) -Using Concrete mixture all works up to Plinth Level: Plain Cement concrete nominal mix (1:4:8) prop (Cement : fine aggregate: coarse aggregate ) using 40mm size Hard Granite Machine Crushed Metal including cost and conveyance of all materials like cement, sand, coarse aggregate water etc., to site , seigniorage charges on all materials, labour charges , for mixing , laying, concrete , ramming in 15 cm layers, finishing top surface to the required level curing etc., complete for finished item of work.for foundation and under flooring bed.
B12: levelling course in PCC ( 1:4:8) | C12: 1 | D12: x | E12: 1 | F12: =H4+H5+H5 -> 1.55 | G12: =I4+I5+I5 -> 1.55 | H12: 0.1 | I12: =ROUND(PRODUCT(C12:H12),2) -> 0.24 | J12: Cum | K12: ='Datas P7'!G226 -> 5383.29 | L12: 1 | M12: Cum | N12: =ROUND(I12*K12/L12,0) -> 1292 | P12: Metal | Q12: =I12*0.9 -> 0.216 | S12: =Q12*70 -> 15.12
A13: 3 | B13: BLD-CSTN-5-17-(55): Brick Masonry work in CM (1:4) prop with Flyash Cement solid blocks of size 290 x 110x 60mm for manufacturing of flyash solid blocks using flyash of 80 kgs, cement of 15 kgs. Gypsum of 5 kgs. and stone dust including cost and conveyance of all materials, labour charges, scaffolding and curing etc., complete with a compresive strength not lessthan 75 kg/sqm for Manhole Walls. | P13: sand | Q13: =I12*0.45 -> 0.108 | S13: =Q13*40 -> 4.32
B14: for Chamber long walls | C14: 1 | D14: x | E14: 2 | F14: =I2+H3+I3 -> 1.35 | G14: =H3 -> 0.225 | H14: =K6-H12-H25-H26 -> 0.58 | I14: =ROUND(PRODUCT(C14:H14),2) -> 0.35 | P14: sand | Q14: =0.1*I16 -> 0.058 | S14: =Q14*40 -> 2.32
B15: for Chamber Short walls | C15: 1 | D15: x | E15: 2 | F15: =H2 -> 0.9 | G15: =G14 -> 0.225 | H15: =H14 -> 0.58 | I15: =ROUND(PRODUCT(C15:H15),2) -> 0.23
I16: =SUM(I14:I15) -> 0.58 | J16: Cum | K16: ='Datas P7'!G273 -> 9540.84 | L16: 1 | M16: Cum | N16: =ROUND(I16*K16/L16,0) -> 5534
A17: =A13+1 -> 4 | B17: BLD-CSTN-6-4: Plastering with 12mm thick in single coat in CM (1:3) finished smooth including cost and conveyance of all materials to site, finishing, curing, scaffolding and all operational, incidental, labour charges etc., including cutting grooves where ever necessary etc., complete for finished item of work. (As per SS 903). per 1 Sqm. for inside and out side walls of the IC. | Q17: =0.85+0.65 -> 1.5
B18: for external plastering of Long walls | C18: 1 | D18: x | E18: 2 | F18: =I4 -> 1.35 | H18: =H14 -> 0.58 | I18: =ROUND(PRODUCT(C18:H18),2) -> 1.57
B19: for external plastering of Short walls | C19: 1 | D19: x | E19: 2 | F19: =H4 -> 1.35 | H19: =H15 -> 0.58 | I19: =ROUND(PRODUCT(C19:H19),2) -> 1.57
B20: for internal plastering of Long walls | C20: 1 | D20: x | E20: 2 | F20: =I2 -> 0.9 | H20: =H15 -> 0.58 | I20: =ROUND(PRODUCT(C20:H20),2) -> 1.04 | Q20: =Q17*2 -> 3
B21: for internal plastering of Short walls | C21: 1 | D21: x | E21: 2 | F21: =H2 -> 0.9 | H21: =H18 -> 0.58 | I21: =ROUND(PRODUCT(C21:H21),2) -> 1.04
B22: Flooring | C22: 1 | D22: x | E22: 1 | F22: =H2 -> 0.9 | G22: =I2 -> 0.9 | I22: =ROUND(PRODUCT(C22:H22),2) -> 0.81
I23: =SUM(I18:I22) -> 6.03 | J23: Sqm | K23: ='Datas P7'!G298 -> 170.455 | L23: 1 | M23: =J23 -> Sqm | N23: =ROUND(I23*K23/L23,0) -> 1028 | P23: sand | Q23: =0.15*I23/10 -> 0.09045 | S23: =Q23*40 -> 3.618
A24: =A17+1 -> 5 | B24: BLD-CSTN-3-11-Using Concrete mixture up to Plinth Level Plain Cement concrete nominal mix M-20 prop (Cement : fine aggregate: coarse aggregate ) using 20mm size Hard Granite Machine Crushed Graded Metal including cost and conveyance of all materials like cement, sand, coarse aggregate water etc., to site , labour charges , for mixing , laying, concrete , ramming in 15 cm layers, finishing top surface to the required level curing etc., complete for finished item of work .
B25: over brick wall for fixing the chamber frame | C25: 1 | D25: x | E25: 1 | F25: =ROUND(2*((H2+H3)+(I2+I3)),2) -> 4.5 | G25: =I3 -> 0.225 | H25: 0.05 | I25: =ROUND(PRODUCT(C25:H25),3) -> 0.051 | P25: Metal | Q25: =I29*0.9 -> 0.1989 | S25: =Q25*70 -> 13.923
B26: around the manhole frame for fixing | C26: 1 | D26: x | E26: 1 | F26: =H4 -> 1.35 | G26: =I4 -> 1.35 | H26: 0.12 | I26: =ROUND(PRODUCT(C26:H26),3) -> 0.219
B27: Benching inside the IC (62.5mm Avg.thick) | C27: 1 | D27: x | E27: 1 | F27: 0.6 | G27: 0.45 | H27: =(50+75)/(2*1000) -> 0.0625 | I27: =ROUND(PRODUCT(C27:H27),3) -> 0.017
B28: Deduct for Manhole frame( as per Drawing IS code-12592) | C28: -1 | D28: x | E28: 1 | F28: 0.67 | G28: 0.82 | H28: =H26 -> 0.12 | I28: =ROUND(PRODUCT(C28:H28),3) -> -0.066 | P28: sand | Q28: =I29*0.4 -> 0.0884 | S28: =Q28*40 -> 3.536
I29: =SUM(I25:I28) -> 0.221 | J29: Cum | K29: ='Datas P7'!#REF! -> #REF! | L29: 1 | M29: =J29 -> Cum | N29: =ROUND(I29*K29/L29,0) -> #REF!
A30: =A24+1 -> 6 | B30: Manufacture Supply & Delivery of manhole covers and frames anywhere in A.P., F.O.R. destination including, loading, un-loading & stacking at site , including all taxes as applicable. | S30: =SUM(S12:S29) -> 42.837 | U30: =S30*100/N34 -> #REF!
B31: 450mm x 600mm - MD-10 Manhole frame and cover | C31: 1 | D31: x | E31: 1 | I31: =ROUND(PRODUCT(C31:H31),2) -> 1 | J31: No | K31: 1989 | L31: 1 | M31: =J31 -> No | N31: =ROUND(I31*K31/L31,0) -> 1989
A32: =A30+1 -> 7 | B32: Manufacture, Supply & fixing cp spl. Grating with frame and cover of 1st quality including cost and conveyance of all material etc,. Complete.
C33: 1 | D33: x | E33: 1 | I33: =ROUND(PRODUCT(C33:H33),2) -> 1 | J33: No | K33: ='[14]data-MH'!H271 -> 71.6 | L33: 1 | M33: =J33 -> No | N33: =ROUND(I33*K33/L33,0) -> 72
K34: Total Rs | N34: =ROUND(SUM(N10:N33),0) -> #REF!
A36: 1 | B36: Estimation for the construction of Rectangular Sewer Inspection Chamber (450 x 600 mm)
B37: Inner dimensions of Chamber | H37: 0.45 | I37: 0.6
B38: Wall thickness of the Chamber | H38: 0.15 | I38: 0.15 | K38: 0.75 | L38: H
B39: outer dimensions of Chamber | H39: =H37+H38+I38 -> 0.75 | I39: =I37+H38+I38 -> 0.9
B40: off set for CC (1:5:10) bed | H40: 0.05 | I40: 0.05 | K40: 0.1
B41: Earth work | H41: =H39+H40+0.2 -> 1 | I41: =I39+I40+0.2 -> 1.15 | K41: =K38+K40 -> 0.85
A43: S.N | B43: Description of Item | F43: Measurements | I43: Qty | K43: Rate | L43: Per | N43: Amount | P43: =12.36+4 -> 16.36
...

Sheet NP 3 450 mm dia (2)
A1: DATA FOR 450mm DIA NP 3 CLASS PIPES
B3: Inputs
B4: Dia of Pipe = | D4: 450 | E4: mm
B5: Thickness of Pipe = | D5: 75 | E5: mm
A7: I) | B7: Ex-factory rate of | D7: =D4 -> 450 | E7: mm dia RCC NP3 class pipes | L7: Rs. | M7: 2044
B8: (Rate of S/s as per CSSR 2017-18)
A11: ii) | B11: Add for MS Rods difference in cost of Steel
B12: Sp Rfn | C12: 3.79 | D12: Kg/m | F12: Total Steel per Rmt = | H12: =SUM(C12:C13) -> 4.57 | I12: Kg/Rmt | J12: Steel IS 458-2003 Table -3 .
B13: Ln Rfn | C13: 0.78 | D13: Kg/m
B15: Present Steel Rate = | E15: 37000 | G15: S2
B16: Rate of steel as per SSR = | E16: 47000 | G16: S1
C17: i.e., | D17: Rs. | F17: =E15-E16 -> -10000 | G17: =-H12 -> -4.57 | L17: Rs. | M17: =(E15-E16)/1000*H12 -> -45.7
F18: 1000
L20: Rs. | M20: =M7+M17 -> 1998.3
A22: iii) | B22: Add difference in cost of Cement on CC volume of pipe
B23: Volume of CC = | D23: 22/7x | E23: =(D4+D5/2)/1000 -> 0.4875 | F23: x | G23: =D5/1000 -> 0.075 | H23: x2.65 | K23: =(22/7)*((D4+(D5/2))*D5*2.65)/1000000 -> 0.30451339 | L23: Cum
B24: Calculation of Volume of Cement required
B25: =K23 -> 0.30451339 | C25: x7.2 bags/Cum = | D25: =B25*7.2 -> 2.1924964 | E25: bags/2.5Rmt = | G25: =D25/2.5 -> 0.87699857 | H25: bags/Rmt
B26: ** 7.2 bags of Cement req for 1 Cum of Conc | F26: = | G26: =G25*50 -> 43.849929 | H26: Kg/Rmt
B28: Difference in cost of Cement and OPC
B29: Present Cement Rate = | E29: 4300 | F29: MT
B30: Rate of Cement as per SSR = | E30: 5300 | F30: MT
G31: =E29-E30 -> -1000 | H31: =G26 -> 43.849929 | L31: Rs. | M31: =G31/1000*H31 -> -43.849929
G32: 1000
A35: a) | B35: Basic Rate of | D35: =D4 -> 450 | E35: mm dia RCC NP3 pipes | M35: =M31+M20 -> 1954.4501
A36: c) | B36: Transportation for 20 Km (84.9+3.94x15) ) | M36: =84.9+15*3.94 -> 144 | O36: Details to be changed for every dia
K37: sub total | M37: =SUM(M35:M36) -> 2098.4501
A38: f) | B38: 0.13615 | C38: Add over head charges and contractors profit on subtotal | M38: =M37*13.615% -> 285.70398
A39: d) | B39: Cost of laying and jointing | M39: =H65 -> 271.6
L40: Rs. | M40: =SUM(M37:M39) -> 2655.754
K41: Or say | L41: Rs. | M41: =CEILING(M40,0.05) -> 2655.8
M42: Per Rmt
B47: PHE-LRCS-6
C48: Lowering the RCC S/S pipes carefully into the trenches laying them true to alignment and gradient, jointing with rubber ring sand testing including filling with water with a water lead upto 500 meters including cost of rubber rings as per BIS No. 783/1985
C49: Unit= 1 rmt
C50: Taking out put 100 rmt
C51: 450mm dia
C52: A)Labour | E52: Qnty | F52: Unit | G52: Rate | H52: Amount
C53: Mason 1st class | E53: 2.25 | F53: day | G53: 470 | H53: =E53*G53 -> 1057.5
C54: Mason II class | E54: 5.25 | F54: day | G54: 425 | H54: =E54*G54 -> 2231.25
...

Sheet Man Hole data 0.75m-0.90m1.20m
A1: D E T A I L E D D A T A S
A2: =Lead!A1 -> Providing UGD system in Kokapet
A3: SSR 2019-20
A4: Index-code | B4: S No | C4: Description | D4: Unit | E4: Quantity | F4: Rate Rs. | G4: Amount Rs.
B5: 1 | C5: 2 | D5: 3 | E5: 4 | F5: 5 | G5: 6
A6: BLD-CSTN-2-1 | B6: 1 | C6: Earthwork in excavation for structures as per drawing and technical specifications Clause 305.1 including setting out, construction of shoring and bracing, removal of stumps and other deleterious material and disposal upto a lead of 50 m, dressing of sides and bottom and backfilling in trenches with excavated suitable material as per Technical Specification 305 MORD / 304 MORTH
C7: Unit : 1 cum
C8: Taking output : 10 cum
C9: a) Labour
C10: Mazdoor ( Unskilled) | D10: No | E10: 3.64 | F10: =Lead!R24 -> 445 | G10: =ROUND(F10*E10,2) -> 1619.8
C11: Add 75% for foundations | D11: Cum | E11: 0.75 | F11: =G10 -> 1619.8 | G11: =ROUND(F11*E11,2) -> 1214.85
C12: Add Mucipal Limits | E12: =Lead!Q26 -> 0.4 | F12: =SUM(G10:G11) -> 2834.65 | G12: =ROUND(F12*E12,2) -> 1133.86
C13: Cost for 10 cum | G13: =SUM(G10:G12) -> 3968.51
C14: Add 13.615% Over heads Charges , Contractor profit | E14: =G13 -> 3968.51 | F14: =Lead!Q27 -> 0.13615 | G14: =ROUND(F14*E14,2) -> 540.31
C15: Rate per 10 cum | G15: =SUM(G13:G14) -> 4508.82
C16: Rate per 1cum | F16: Rs | G16: =G15/10 -> 450.882
A17: BLD-CSTN-2-4 | B17: 1 | C17: Ordinory Rock not requireing blasting ManualMeans Upto 3.00 mdept
C18: Unit : 1 cum
C19: Taking output : 10 cum
C20: a) Labour
C21: Mazdoor ( Unskilled) | D21: No | E21: 5.2 | F21: =Lead!R24 -> 445 | G21: =ROUND(F21*E21,2) -> 2314
C22: Add 75% for foundations | D22: Cum | E22: 0.75 | F22: =G21 -> 2314 | G22: =ROUND(F22*E22,2) -> 1735.5
C23: Add Mucipal Limits | E23: =Lead!Q26 -> 0.4 | F23: =SUM(G21:G22) -> 4049.5 | G23: =ROUND(F23*E23,2) -> 1619.8
C24: Cost for 10 cum | G24: =SUM(G21:G23) -> 5669.3
C25: Add 13.615% Over heads Charges , Contractor profit | E25: =G24 -> 5669.3 | F25: =Lead!Q27 -> 0.13615 | G25: =ROUND(F25*E25,2) -> 771.88
C26: Rate Per 10Cum | G26: =SUM(G24:G25) -> 6441.18
C27: Rate per 1cum | F27: Rs | G27: =G26/10 -> 644.118
A28: PHE EXRW -33 | B28: 1 | C28: Earthwork in excavation in Hard rock (blasting prohibited) with rock breakersin hard rock including breaking rock, loading , in tippers and disposal with all lifts and lead up to 1000m as per technical specifications 302.3.5
C29: Unit : 1 cum
C30: Unit : 1 cum
C31: Taking output : 1 cum
C32: a) Labour
C33: Mazdoor ( Unskilled) | D33: day | E33: 1.1 | F33: =Lead!R24 -> 445 | G33: =ROUND(F33*E33,2) -> 489.5
C34: chisellers | D34: day | E34: 1.5 | F34: =Lead!R26 -> 0 | G34: =ROUND(F34*E34,2) -> 0
C35: black smith | D35: day | E35: 0.06 | F35: =Lead!R26 -> 0 | G35: =ROUND(F35*E35,2) -> 0
C36: Add Mucipal Limits | E36: =Lead!Q26 -> 0.4 | F36: =SUM(G33:G35) -> 489.5 | G36: =ROUND(F36*E36,2) -> 195.8
C37: a)Mechinory
C38: Tipper 5.50 Cum capacity 1 trips per Hour | D38: day | E38: 0.18 | F38: 924.1 | G38: =ROUND(F38*E38,2) -> 166.34
A39: M-089 | C39: credit for excavated rock found unsuitable for use @ 50%of excavated quantity | D39: day | E39: 0.5 | F39: 194 | G39: =-ROUND(F39*E39,2) -> -97
C40: Add Mucipal Limits | E40: =Lead!$Q$27 -> 0.13615 | F40: =SUM(G33:G35) -> 489.5 | G40: =ROUND(F40*E40,2) -> 66.65
...

Sheet Cover
B5: Government of Andhrapradesh
B9: Panchayat Raj Department
B12: DETAILED ESTIMATE
B25: =Lead!A1 -> Providing UGD system in Kokapet
B26: =Lead!J2 -> 0
E30: Estimated Cost Rs : | F30: RS 45.00 | G30: Lakhs
D37: Mandal :
D40: Sub-Division : | E40: =Lead!B48 -> 0

Sheet Laying Jointing of RCC SS pipe 
A1: D E T A I L E D D A T A S
A2: =Lead!A1 -> Providing UGD system in Kokapet
A3: SSR 2016-17
A4: Index-code | B4: S No | C4: Description | D4: Unit | E4: Quantity | F4: Rate Rs. | G4: Amount Rs. | H4: Rate Rs. | I4: Amount Rs.
B5: 1 | C5: 2 | D5: 3 | E5: 4 | F5: 5 | G5: 6
A6: PHE-LRCS-6 | B6: 1 | C6: Lowering the RCC S/S pipes carefully into the trenches laying them true to alignment and gradient, jointing with rubber rings and testing including filling with water with a water lead upto 500 meters including cost of rubber rings as per BIS No. 783/1985 | G6: NP2 class | I6: NP3 class
C7: Unit= 1 rmt
B8: a | C8: 250 mm dia
C9: a) Labour
C10: Mason 1st class | D10: day | E10: 1.62 | F10: =Lead!R26 -> 0 | G10: =ROUND(E10*F10,2) -> 0
C11: Mason 2nd class | D11: day | E11: 3.78 | F11: =Lead!R27 -> 0 | G11: =ROUND(E11*F11,2) -> 0
C12: Man mazdoor | D12: day | E12: 10.5 | F12: =Lead!R24 -> 445 | G12: =ROUND(E12*F12,2) -> 4672.5
C13: Woman mazdoor(water carrier) | D13: day | E13: 2.3 | F13: =Lead!R25 -> 0 | G13: =ROUND(E13*F13,2) -> 0
C14: Add Mucipal Limits | E14: =Lead!$Q$26 -> 0.4 | F14: =SUM(G10:G13) -> 4672.5 | G14: =ROUND(F14*E14,2) -> 1869
C15: b) Material
C16: Rubber rings conforming BIS 5382/1985 | D16: each | E16: 50 | F16: 83 | G16: =ROUND(E16*F16,2) -> 4150
C17: c) Testing
C18: Testing of Pipelines with required pressure as per relevant IS Specification including filling with water with a water lead upto 500 M, including hire charges of testing equipment, labour and Materials needed for testing (as per Sub Analysis 2 A) | D18: rm | E18: 100 | F18: 10
C19: (d) Total = a+b+c | G19: =SUM(G10:G18) -> 10691.5
C20: (e) Add for water charges @ 1% on Labour & Testing Charges | E20: 0 | F20: 0.01 | G20: =ROUND(E20*F20,2) -> 0
C21: (f) Total = d+e | G21: =SUM(G19:G20) -> 10691.5
C22: (g) Overheads & Contractors Profit | E22: =G21 -> 10691.5 | F22: =Lead!Q27 -> 0.13615 | G22: =ROUND(E22*F22,2) -> 1455.65
C23: (h) Cost for 100 rmt (f+g) | G23: =SUM(G21:G22) -> 12147.15
C24: Rate per rmt = h/100 | F24: Rs | G24: =G23/100 -> 121.4715
B25: b | C25: 300 mm dia
C26: a) Labour
C27: Mason 1st class | D27: day | E27: 1.75 | F27: =Lead!R26 -> 0 | G27: =ROUND(E27*F27,2) -> 0 | H27: =Lead!R26 -> 0 | I27: =ROUND(H27*E27,2) -> 0
C28: Mason 2nd class | D28: day | E28: 4.14 | F28: =Lead!R27 -> 0 | G28: =ROUND(E28*F28,2) -> 0 | H28: =Lead!R27 -> 0 | I28: =ROUND(H28*E28,2) -> 0
C29: Man mazdoor | D29: day | E29: 11.6 | F29: =Lead!R24 -> 445 | G29: =ROUND(E29*F29,2) -> 5162 | H29: =Lead!R24 -> 445 | I29: =ROUND(H29*E29,2) -> 5162
C30: Woman mazdoor(water carrier) | D30: day | E30: 2.3 | F30: =Lead!R25 -> 0 | G30: =ROUND(E30*F30,2) -> 0 | H30: =Lead!R25 -> 0 | I30: =ROUND(H30*E30,2) -> 0
C31: Add Mucipal Limits | E31: =Lead!$Q$26 -> 0.4 | F31: =SUM(G27:G30) -> 5162 | G31: =ROUND(F31*E31,2) -> 2064.8 | H31: =SUM(I27:I30) -> 5162 | I31: =ROUND(E31*SUM(I27:I30),2) -> 2064.8
C32: b) Material
C33: Rubber rings conforming BIS 5382/1985 | D33: each | E33: 40 | F33: 101 | G33: =ROUND(E33*F33,2) -> 4040 | H33: 130 | I33: =ROUND(H33*E33,2) -> 5200
C34: c) Testing
C35: Testing of Pipelines with required pressure as per relevant IS Specification including filling with water with a water lead upto 500 M, including hire charges of testing equipment, labour and Materials needed for testing (as per Sub Analysis 2 A) | D35: rm | E35: 100 | F35: 10 | H35: 10
C36: (d) Total = a+b+c | G36: =SUM(G27:G35) -> 11266.8 | I36: =SUM(I27:I35) -> 12426.8
C37: (e) Add for water charges @ 1% on Labour & Testing Charges | F37: 0.01 | G37: =ROUND(E37*F37,2) -> 0 | H37: 0.01 | I37: =ROUND(H37*E37,2) -> 0
C38: (f) Total = d+e | G38: =SUM(G36:G37) -> 11266.8 | I38: =SUM(I36:I37) -> 12426.8
C39: (g) Overheads & Contractors Profit | E39: =G38 -> 11266.8 | F39: =Lead!Q27 -> 0.13615 | G39: =ROUND(E39*F39,2) -> 1533.97 | H39: =Lead!Q27 -> 0.13615 | I39: =ROUND(H39*I38,2) -> 1691.91
C40: (h) Cost for 100 rmt (f+g) | G40: =SUM(G38:G39) -> 12800.77 | I40: =SUM(I38:I39) -> 14118.71
...

Sheet Cover pg
C3: GOVERNMENT OF TELANGANA
D7: PANCHAYATRAJ ENGINEERING DEPARTMENT DEPARTMENT
C12: Name of Grant | I12: : | J12: CRR-2024-25
C15: Name of Work:-
C16: ='inspection report'!E7 -> Laying of UGD line in Yadava Colony from erukali Laxmaiah (H) to Palle Jangaiah (H) main Road, Mala Kanakaiah (H) to Bollagoni Krishnaiah (H) Main Road, Nune Thirupathaiah (H) to Jilla Manoor (H)main road, Dubbaka Pullaiah (H) to Dubbaku Narsimha (H), Gyoni Jangaiah (H) to Nune Rama Swamy (H), Alli Naraiah (H) to Boyini Peddaiah (H)and Andagulu Sathaiah (H) to Salle Anasuya (H) in Yadava Colony of Madgul (V&M)
D21: Amount Sanctioned | K21: : | L21: Rs. | M21: ='Spec Report'!F3 -> 100.00 Lakhs
D22: Sanctioned Length | K22: : | L22: =+'[37]Input Data'!$J$5 -> 2 | N22: Km
C26: (P.R) Circle | G26: :: | H26: RANGA REDDY
C27: District | G27: :: | H27: RANGA REDDY
C28: (P.R) Division | G28: :: | H28: IBRAHIMPATNAM
C29: (P.R) Sub-Division | G29: :: | H29: AMANGAL
C30: Mandal | G30: :: | H30: MADGUL

Sheet inspection report
A1: Inspection report of the Regional Officer, PRED, Region: Rangareddy
A2: Present: Sri P.Srinivas Reddy, B.E.
A3: 1 | B3: Date of Inspection | D3: :
A4: 2 | B4: Name of the Officers present | D4: : | E4: 1 | F4: Sri B.Srinivas Reddy, E.E, PR Div Ibrahimpatnam.
D5: : | E5: 2 | F5: Sri. V.Srinivas Reddy D.E.E PR SD Amangal
D6: : | E6: 3 | F6: Sri J Abhishek A.E PR SD Amangal
A7: 3 | B7: Name of the Work | D7: : | E7: ='Final Estimate'!A2 -> Laying of UGD line in Yadava Colony from erukali Laxmaiah (H) to Palle Jangaiah (H) main Road, Mala Kanakaiah (H) to Bollagoni Krishnaiah (H) Main Road, Nune Thirupathaiah (H) to Jilla Manoor (H)main road, Dubbaka Pullaiah (H) to Dubbaku Narsimha (H), Gyoni Jangaiah (H) to Nune Rama Swamy (H), Alli Naraiah (H) to Boyini Peddaiah (H)and Andagulu Sathaiah (H) to Salle Anasuya (H) in Yadava Colony of Madgul (V&M)
A8: 4 | B8: Estimated Cost | D8: : | E8: Rs. | G8: ='Spec Report'!F3 -> 100.00 Lakhs
A9: 5 | B9: Administrative Sanction | D9: : | E9: G.O Rt No: 599 Dt: 11-10-2024
A10: 6 | B10: Grant | D10: : | E10: CRR 2024-25 Grant
C11: It is proposed to provide 200 mm dia SWR-SP 1 pipes for Branch lines and 300 mm dia SWR- SP1 pipes for Main Line in the proposed Colony
C12: Constructon of 0.90 M Circular Sewer Man hole is proposed for inspection of drainage lines of 200mm dia and 300 mm dia with required depth as per alignment and site condition.
C13: It is proposed to provide NP-3, 450 mm dia RCC pipeline for collection of all the drainage from Yadava Colony and Waddera Colony towards Vagu located next to Pedda Madgul.
C14: Provide GSB Gr-VI - 150 mm thick as per IRC:SP:62-2014 in CC Pavement.
C15: Constructon of 1.20 M Circular Sewer Man hole is proposed for inspection of drainage lines of 450 mm dia with required depth as per alignment and site condition.
C16: It is proposed to provide CC Pavement with M30 grade concrete with 0.17m thickness along the colony roads over existing GSB and WMM. or damaged CC Road.
B18: The Executive Engineer, PR- Division, Ibrahimpatnam is instructed to prepare the Detailed Estimate with above provisions
H21: Regional Officer
H22: PRED, Region: Rangareddy

Sheet Spec Report
A1: SPECIFICATION REPORT
B2: Name of the Work: | C2: ='Final Estimate'!A2 -> Laying of UGD line in Yadava Colony from erukali Laxmaiah (H) to Palle Jangaiah (H) main Road, Mala Kanakaiah (H) to Bollagoni Krishnaiah (H) Main Road, Nune Thirupathaiah (H) to Jilla Manoor (H)main road, Dubbaka Pullaiah (H) to Dubbaku Narsimha (H), Gyoni Jangaiah (H) to Nune Rama Swamy (H), Alli Naraiah (H) to Boyini Peddaiah (H)and Andagulu Sathaiah (H) to Salle Anasuya (H) in Yadava Colony of Madgul (V&M)
B3: Grant:-CRR 2024-25 | E3: Estt. Cost Rs. : | F3: 100.00 Lakhs
B5: The above administratively sanctioned vide G.O Rt No: 599 Dt: 11-10-2024 under CRR 2024-25 Grant for Rs: 100.00 lakhs. Accordingly the detailed estimate is prepared for laying of Under ground pipe line suitable for the popualtion of Madgul as per the census 2011 and designed for period of 20 years period
A6: 1 | B6: ='Final Estimate'!B6:I6 -> Cutting open C.C. road surface including stocking of of exccavated materials for pipe line , including labour charges and contractor profit charges
A7: 2 | B7: ='Final Estimate'!B14:I14 -> Earthwork in excavation for Pipe Line trench Cutting as per drawing and technical specifications Clause 305.1 including setting out, construction of shoring and bracing, removal of stumps and other deleterious material and disposal upto a lead of 50 m, dressing of sides and bottom and backfilling in trenches with excavated suitable material as per Technical Specification 305 MORD / 304 MORTH including contractor profit
A8: 3 | B8: ='Final Estimate'!B35:I35 -> Earthwork in excavation in Hard rock (blasting prohibited) with rock breakersin hard rock including breaking rock, loading , in tippers and disposal with all lifts and lead up to 1000m as per technical specifications 302.3.5
A9: 4 | B9: ='Final Estimate'!B40:I40 -> MANUFACTURE, SUPPLY AND DELIVERY OF R.C.C. SOCKET AND SPIGOT PIPES CONFORMING TO B.I.S. 458/2003 AT EX-FACTORY (RATE PER METER OF EFFECTIVE LENGTH) EXCLUDING TRANSPORTATION, TAXES & DUTIES. Of Non Pressure pipes and Lowering the RCC S/S pipes carefully into the trenches laying them true to alignment and gradient, jointing with rubber rings and testing including filling with water with a water lead upto 500 meters including cost of rubber rings as per BIS No. 783/1985
A10: 5 | B10: ='Final Estimate'!B44:I44 -> Lowering the RCC S/S pipes carefully into the trenches laying them true to alignment and gradient, jointing with rubber rings and testing including filling with water with a water lead upto 500 meters including cost of rubber rings as per BIS No. 783/1985
A11: =A10+1 -> 6 | B11: ='Final Estimate'!B46:I46 -> Supply, Lowering, laying and jointing of 200mm dia SWG SP1 pipe in ready made trench true to alignment and gradient,jointing, and testing of stone ware pipes including cost of jointing material such as cement mortar (1:1) proportion and hemp yarn including cost and conveyance of pipe. (Reference to specifications BIS No.6530/72) PHE-LJSW-13 including loading and unloading, Contractor's profit and overhead charges complete for finished item and as directed by the Engineer-in-charge.
A12: 7 | B12: ='Final Estimate'!B49:I49 -> Constructon of 0.90 M Circular Sewer Man hole of 0.90 mts x 0.55 m of 0.90 M depth with Fly ash cement sloid bricks in cm 1:6 prop and corbelling too including cc bed ( 1: 4 : 8 ) prop using 40 mm gauge HG Metal 0.10 mt thick and CC (1:2:4) Prop benching / chanelling,internal plastreng with 20 mm thick cm 1:4 and External Plasterng with 12mm thick CM (1:4) with fine rendering including cost and fixing of CI steps and fixing FC/ CI cover and frame but excluding the cost of cover and frame, including the cost and conveyance of all materials at site complete and curing for 21 days complete all taxes seignarage charges as per specification etc complete.
A13: 8 | B13: ='Final Estimate'!B53:I53 -> Additional manhole 0.10 M depth constructon of 0.90 circular sewer man hole of 0.90 mts depth with 2nd Class bricks in CM(1:6) Prop as per specification etc complete. benching / chanelling,internal plastreng with 20 mm thick cm 1:4 and External Plasterng with 12mm thick CM (1:4) with fine rendering including cost and fixing of CI steps and fixing FC/ CI cover and frame but excluding the cost of cover and frame, including the cost and conveyance of all materials at site complete and curing for 21 days complete all taxes seignarage charges as per specification etc complete.
A14: 9 | B14: ='Final Estimate'!B56:I56 -> Constructon of 1.20 M Circular Sewer Man hole of 1.20 mts x 0.55 m of 1.65 M depths with 2nd Class bricks in cm 1:6 prop and corbelling too including cc bed ( 1:4:8 ) prop using 40 mm gauge HG Metal 0.10 mt thick and CC (1:2:4) Prop benching / chanelling,internal plastreng with 20 mm thick cm 1:4 and External Plasterng with 12mm thick CM (1:4) with fine rendering including cost and fixing of CI steps and fixing FC/ CI cover and frame but excluding the cost of cover and frame, including the cost and conveyance of all materials at site complete and curing for 21 days complete all taxes seignarage charges as per specification etc complete.
A15: 10 | B15: ='Final Estimate'!B60:I60 -> Additional manhole 0.10 M depth constructon of 1.2 circular sewer man hole of 1.65-2.3 mts depth with 2nd Class bricks in CM(1:6) Prop as per specification etc complete. benching / chanelling,internal plastreng with 20 mm thick cm 1:4 and External Plasterng with 12mm thick CM (1:4) with fine rendering including cost and fixing of CI steps and fixing FC/ CI cover and frame but excluding the cost of cover and frame, including the cost and conveyance of all materials at site complete and curing for 21 days complete all taxes seignarage charges as per specification etc complete.
A16: 11 | B16: ='Final Estimate'!B63:I63 -> Manufacture as per BIS:12592 (Part 1&2) Supply & Delivery of manhole covers and frames with ISI marking anywhere in A.P., F.O.R. destination including, loading, un-loading & stacking at site but excluding central excise duty, sales tax, octroi and other Govt levies etc., as applicable. I.S.I Mark
A17: 12 | B17: ='Final Estimate'!B74:I74 -> Construction of dowel jointed un-reinforced, expansion and construction joint plain cement concrete pavement, thickness as per design, over a prepared sub base, with 43 grade cement or any other type as per Clause 1501.2.2 M30 (Grade), coarse and fine aggregates (Natural sand 50%+Manufactured sand(Rock Sand)50% ) conforming to IS : 383, mixed in a concrete mixer of not less than 0.2 cum capacity and appropriate weigh batcher using approved mix design, laid in approved fixed side formwork (steel channel, laying and fixing of 125 micron thick polythene film, wedges, steel plates including levelling the formwork as per drawing), spreading the concrete with sholvels, rakes, compacted using needle, screed and plate vibrators and finished in continuous operation including provision of contraction and expansion and construction joints, applying primer, sealant, admixtures as approved, curing of concrete slabs for 14- days, curing compound (where specified) and water finishing to lines and grade as per drawing and Technical Specification Clause 1501 MORD including overhead charges & Contractors profit excluding Seignarage charges etc complete.
A18: 13 | B18: ='Final Estimate'!B79 -> Add 0.50% QC
A19: 14 | B19: ='Final Estimate'!B80 -> Add 0.10% NAC
A20: 15 | B20: ='Final Estimate'!B81 -> Add Seigniorage charges
A21: 16 | B21: ='Final Estimate'!B82 -> Add 30% DMFon Seigniorage charges
A22: 17 | B22: ='Final Estimate'!B83 -> Add 2% SMET on Seigniorage charges
A23: 18 | B23: ='Final Estimate'!B84 -> Add Permit Fee
A24: 19 | B24: ='Final Estimate'!B86:H86 -> Add 18% GST
B26: The estimate is prepared with SSR 2024-25 and submitted for according technical sanction.
B30: =[38]Lead!$B$32 -> Asst., Engineer | D30: =[38]Lead!K32 -> Dy .Executive.Engineer | E30: Executive Engineer
B31: =[38]Lead!$B$33 -> PR SD Amangal | D31: =[38]Lead!$K$33 -> PR SD Amangal | E31: PR Div Ibrahimpatnam

Sheet Longitudinal Section
A1: LONGITUDINAL SECTION
A6: Name of the Work: | I6: ='Final Estimate'!A2 -> Laying of UGD line in Yadava Colony from erukali Laxmaiah (H) to Palle Jangaiah (H) main Road, Mala Kanakaiah (H) to Bollagoni Krishnaiah (H) Main Road, Nune Thirupathaiah (H) to Jilla Manoor (H)main road, Dubbaka Pullaiah (H) to Dubbaku Narsimha (H), Gyoni Jangaiah (H) to Nune Rama Swamy (H), Alli Naraiah (H) to Boyini Peddaiah (H)and Andagulu Sathaiah (H) to Salle Anasuya (H) in Yadava Colony of Madgul (V&M)
B26: Ground Level | AP26: Ground Level
AN31: Pipe Line
E33: Manhole Z | O33: Manhole Y | Y33: Manhole 2 | AH33: Manhole 1

Sheet Long Sect 2
A1: LONGITUDINAL SECTION
A3: Name of the Work: | L3: ='Longitudinal Section'!I6 -> Laying of UGD line in Yadava Colony from erukali Laxmaiah (H) to Palle Jangaiah (H) main Road, Mala Kanakaiah (H) to Bollagoni Krishnaiah (H) Main Road, Nune Thirupathaiah (H) to Jilla Manoor (H)main road, Dubbaka Pullaiah (H) to Dubbaku Narsimha (H), Gyoni Jangaiah (H) to Nune Rama Swamy (H), Alli Naraiah (H) to Boyini Peddaiah (H)and Andagulu Sathaiah (H) to Salle Anasuya (H) in Yadava Colony of Madgul (V&M)
A12: Towards Kolkulapally
AF18: 400 m , 450mm dia
D26: CH Anji | K26: Dubbak Mallaiah
BS34: Erukali Balakishti
T36: D Pullaiah | Y36: A Pullaiah | AE36: Wadde kanakaiah
BN38: Mala Kanakaiah
BL43: 300 mm dia
BL46: 200 mm dia
BL49: 450mm dia

Sheet Key map
A1: KEY MAP
A4: Name of the Work: | C4: ='Final Estimate'!A2 -> Laying of UGD line in Yadava Colony from erukali Laxmaiah (H) to Palle Jangaiah (H) main Road, Mala Kanakaiah (H) to Bollagoni Krishnaiah (H) Main Road, Nune Thirupathaiah (H) to Jilla Manoor (H)main road, Dubbaka Pullaiah (H) to Dubbaku Narsimha (H), Gyoni Jangaiah (H) to Nune Rama Swamy (H), Alli Naraiah (H) to Boyini Peddaiah (H)and Andagulu Sathaiah (H) to Salle Anasuya (H) in Yadava Colony of Madgul (V&M)
L9: Towards Brahmanpally
D11: Vagu Portion
A12: Towards Kolkulapally
G13: Waddera Colony
G15: 400 m
D17: Pedda Madgul | G17: Yadava Colony | J17: MADGUL
Q22: Towards Amangal
R36: 1

Sheet Schedule A
A1: Schedule A (Part -I)
A2: Schedule of Rates and Approximate Quantities
A3: Name of the work : - | D3: ='Spec Report'!C2 -> Laying of UGD line in Yadava Colony from erukali Laxmaiah (H) to Palle Jangaiah (H) main Road, Mala Kanakaiah (H) to Bollagoni Krishnaiah (H) Main Road, Nune Thirupathaiah (H) to Jilla Manoor (H)main road, Dubbaka Pullaiah (H) to Dubbaku Narsimha (H), Gyoni Jangaiah (H) to Nune Rama Swamy (H), Alli Naraiah (H) to Boyini Peddaiah (H)and Andagulu Sathaiah (H) to Salle Anasuya (H) in Yadava Colony of Madgul (V&M)
A4: Estt.Cost Rs.. | C4: ='Spec Report'!F3 -> 100.00 Lakhs | D4: Lakhs | E4: Grant | F4: ='Spec Report'!B3 -> Grant:-CRR 2024-25 | H4: ="NIT.No-"&'[39]Input Data'!L5 -> NIT.No--
A5: A) | B5: The quanties here given are those upon which the lumpsum tender cost of work is based but they are subject to alteration, omissions, deductions, or additions as provided for in the conditions of this contract and do not necessarily show the actual quantities of work to be done. The total contract value and unit rates noted below are those governing payment of extras or deductions for omissions according to the conditions to the contract as set forth in the preliminary specifications of the AP Standard Specifications and other conditions of specification of this contract.
A6: B) | B6: It is to be expressly understood that the measured work is to be taken net (not withstanding any custom or practice to the contrary) according to the actual quantities when in place and finished according to the drawings or as may be ordered from time to time by the Executive Engineer and the cost calculated by measurmeent or weight, at their respective rates wihtout any additional charge for any necessary or contingent works connected works connected therewith. The total contract value is for works in situ and complete in every respect.
A7: C) | B7: Additions and alterations in the Schedule of quantities will disqualify the tender
A8: D) | B8: In case of discrepancies between the written description of the item in the Schedule 'A" and the detailed description in the specification of the same item, the latter shall be adopted.
A9: Sl.No | B9: Probable quantity both in figures | C9: Per | D9: Description of works | E9: MoRD/ MoRT&H specification | F9: Unit of Measurement in figures and words | G9: Rate in figures | H9: Amount
A10: 1 | B10: 2 | C10: 3 | D10: 4 | E10: 5 | F10: 6 | G10: 7 | H10: 8
A11: 1 | B11: ='Final Estimate'!I12 -> 32.12 | C11: cum | D11: ='Spec Report'!B6 -> Cutting open C.C. road surface including stocking of of exccavated materials for pipe line , including labour charges and contractor profit charges | E11: ='Datas P7'!A105 -> PSSR 25 (a) | F11: =CONCATENATE("1 ",C11) -> 1 cum | G11: 2664.27 | H11: =ROUND(B11*G11,0) -> 85576 | L11: =IF(M11=#REF!,0,M11) -> #REF! | M11: =IF(N11>0,(#REF!+1),#REF!) -> #REF! | N11: =H11 -> 85576
A12: 2 | B12: ='Final Estimate'!I33 -> 1052.7045 | C12: cum | D12: ='Spec Report'!B7 -> Earthwork in excavation for Pipe Line trench Cutting as per drawing and technical specifications Clause 305.1 including setting out, construction of shoring and bracing, removal of stumps and other deleterious material and disposal upto a lead of 50 m, dressing of sides and bottom and backfilling in trenches with excavated suitable material as per Technical Specification 305 MORD / 304 MORTH including contractor profit | E12: ='Datas P7'!A6 -> RBR-FNDN-1,B(i) | F12: =CONCATENATE("1 ",C12) -> 1 cum | G12: 123.7 | H12: =ROUND(B12*G12,0) -> 130220 | L12: =IF(M12=M11,0,M12) -> #REF! | M12: =IF(N12>0,(M11+1),M11) -> #REF! | N12: =H12 -> 130220
A13: 3 | B13: ='Final Estimate'!I39 -> 55.4055 | C13: cum | D13: ='Spec Report'!B8 -> Earthwork in excavation in Hard rock (blasting prohibited) with rock breakersin hard rock including breaking rock, loading , in tippers and disposal with all lifts and lead up to 1000m as per technical specifications 302.3.5 | E13: ='Datas P7'!A22 -> PHE EXRW -33 | F13: =CONCATENATE("1 ",C13) -> 1 cum | G13: 1939.7875 | H13: =ROUND(B13*G13,0) -> 107475 | L13: =IF(M13=M12,0,M13) -> #REF! | M13: =IF(N13>0,(M12+1),M12) -> #REF! | N13: =H13 -> 107475
A14: 4 | B14: ='Final Estimate'!I41 -> 400 | C14: rmt | D14: ='Spec Report'!B9 -> MANUFACTURE, SUPPLY AND DELIVERY OF R.C.C. SOCKET AND SPIGOT PIPES CONFORMING TO B.I.S. 458/2003 AT EX-FACTORY (RATE PER METER OF EFFECTIVE LENGTH) EXCLUDING TRANSPORTATION, TAXES & DUTIES. Of Non Pressure pipes and Lowering the RCC S/S pipes carefully into the trenches laying them true to alignment and gradient, jointing with rubber rings and testing including filling with water with a water lead upto 500 meters including cost of rubber rings as per BIS No. 783/1985 | E14: SS Pipes | F14: =CONCATENATE("1 ",C14) -> 1 rmt | G14: 2761.6285 | H14: =ROUND(B14*G14,0) -> 1104651 | L14: =IF(M14=M13,0,M14) -> #REF! | M14: =IF(N14>0,(M13+1),M13) -> #REF! | N14: =H14 -> 1104651
A15: 5 | B15: ='Final Estimate'!I45 -> 400 | C15: rmt | D15: ='Spec Report'!B10 -> Lowering the RCC S/S pipes carefully into the trenches laying them true to alignment and gradient, jointing with rubber rings and testing including filling with water with a water lead upto 500 meters including cost of rubber rings as per BIS No. 783/1985 | E15: ='NP 3 450 mm dia'!B44 -> PHE-LRCS-6 | F15: =CONCATENATE("1 ",C15) -> 1 rmt | G15: 280.25 | H15: =ROUND(B15*G15,0) -> 112100 | L15: =IF(M15=M14,0,M15) -> #REF! | M15: =IF(N15>0,(M14+1),M14) -> #REF! | N15: =H15 -> 112100
A16: 6 | D16: ='Spec Report'!B11 -> Supply, Lowering, laying and jointing of 200mm dia SWG SP1 pipe in ready made trench true to alignment and gradient,jointing, and testing of stone ware pipes including cost of jointing material such as cement mortar (1:1) proportion and hemp yarn including cost and conveyance of pipe. (Reference to specifications BIS No.6530/72) PHE-LJSW-13 including loading and unloading, Contractor's profit and overhead charges complete for finished item and as directed by the Engineer-in-charge. | L16: =IF(M16=M15,0,M16) -> #REF! | M16: =IF(N16>0,(M15+1),M15) -> #REF! | N16: =H16 -> 0
A17: A) | B17: ='Final Estimate'!I47 -> 500 | C17: rmt | D17: ='Final Estimate'!B47 -> For 200 mm Dia Line | E17: ='stoneware pipes'!A2 -> PHE-LJSW-13 | F17: =CONCATENATE("1 ",C17) -> 1 rmt | G17: 986.39 | H17: =ROUND(B17*G17,0) -> 493195
A18: B) | B18: ='Final Estimate'!I48 -> 370 | C18: rmt | D18: ='Final Estimate'!B48 -> For 300 mm Dia Line | E18: ='stoneware pipes'!A2 -> PHE-LJSW-13 | F18: =CONCATENATE("1 ",C18) -> 1 rmt | G18: 2228.98 | H18: =ROUND(B18*G18,0) -> 824723
A19: 7 | D19: ='Spec Report'!B12 -> Constructon of 0.90 M Circular Sewer Man hole of 0.90 mts x 0.55 m of 0.90 M depth with Fly ash cement sloid bricks in cm 1:6 prop and corbelling too including cc bed ( 1: 4 : 8 ) prop using 40 mm gauge HG Metal 0.10 mt thick and CC (1:2:4) Prop benching / chanelling,internal plastreng with 20 mm thick cm 1:4 and External Plasterng with 12mm thick CM (1:4) with fine rendering including cost and fixing of CI steps and fixing FC/ CI cover and frame but excluding the cost of cover and frame, including the cost and conveyance of all materials at site complete and curing for 21 days complete all taxes seignarage charges as per specification etc complete. | L19: =IF(M19=M16,0,M19) -> #REF! | M19: =IF(N19>0,(M16+1),M16) -> #REF! | N19: =H19 -> 0
A20: A) | B20: ='Final Estimate'!I50 -> 40 | C20: nos | D20: ='Final Estimate'!B50 -> For 0.90 m Depth 200 Pipe Line | E20: PH Data | F20: =CONCATENATE("1 ",C20) -> 1 nos | G20: 7948.16 | H20: =ROUND(B20*G20,0) -> 317926
A21: B) | B21: ='Final Estimate'!I51 -> 45 | C21: nos | D21: ='Final Estimate'!B51 -> for 0.90 m Depth 300 Pipe Line | E21: =E20 -> PH Data | F21: =CONCATENATE("1 ",C21) -> 1 nos | G21: 7277.99 | H21: =ROUND(B21*G21,0) -> 327510
A22: C) | B22: ='Final Estimate'!I52 -> 20 | C22: nos | D22: ='Final Estimate'!B52 -> for 0.90 m Depth 450 Pipe Line | E22: =E21 -> PH Data | F22: =CONCATENATE("1 ",C22) -> 1 nos | G22: 6371.57 | H22: =ROUND(B22*G22,0) -> 127431
A23: 8 | B23: ='Final Estimate'!I55 -> 210 | C23: nos | D23: ='Spec Report'!B13 -> Additional manhole 0.10 M depth constructon of 0.90 circular sewer man hole of 0.90 mts depth with 2nd Class bricks in CM(1:6) Prop as per specification etc complete. benching / chanelling,internal plastreng with 20 mm thick cm 1:4 and External Plasterng with 12mm thick CM (1:4) with fine rendering including cost and fixing of CI steps and fixing FC/ CI cover and frame but excluding the cost of cover and frame, including the cost and conveyance of all materials at site complete and curing for 21 days complete all taxes seignarage charges as per specification etc complete. | E23: =E22 -> PH Data | F23: =CONCATENATE("1 ",C23) -> 1 nos | G23: 819.28 | H23: =ROUND(B23*G23,0) -> 172049 | L23: =IF(M23=M19,0,M23) -> #REF! | M23: =IF(N23>0,(M19+1),M19) -> #REF! | N23: =H23 -> 172049
A24: 9 | B24: ='Final Estimate'!I59 -> 20 | C24: nos | D24: ='Spec Report'!B14 -> Constructon of 1.20 M Circular Sewer Man hole of 1.20 mts x 0.55 m of 1.65 M depths with 2nd Class bricks in cm 1:6 prop and corbelling too including cc bed ( 1:4:8 ) prop using 40 mm gauge HG Metal 0.10 mt thick and CC (1:2:4) Prop benching / chanelling,internal plastreng with 20 mm thick cm 1:4 and External Plasterng with 12mm thick CM (1:4) with fine rendering including cost and fixing of CI steps and fixing FC/ CI cover and frame but excluding the cost of cover and frame, including the cost and conveyance of all materials at site complete and curing for 21 days complete all taxes seignarage charges as per specification etc complete. | E24: =E23 -> PH Data | F24: =CONCATENATE("1 ",C24) -> 1 nos | G24: 16224.98 | H24: =ROUND(B24*G24,0) -> 324500 | L24: =IF(M24=M23,0,M24) -> #REF! | M24: =IF(N24>0,(M23+1),M23) -> #REF! | N24: =H24 -> 324500
A25: 10 | B25: ='Final Estimate'!I62 -> 40 | C25: nos | D25: ='Spec Report'!B15 -> Additional manhole 0.10 M depth constructon of 1.2 circular sewer man hole of 1.65-2.3 mts depth with 2nd Class bricks in CM(1:6) Prop as per specification etc complete. benching / chanelling,internal plastreng with 20 mm thick cm 1:4 and External Plasterng with 12mm thick CM (1:4) with fine rendering including cost and fixing of CI steps and fixing FC/ CI cover and frame but excluding the cost of cover and frame, including the cost and conveyance of all materials at site complete and curing for 21 days complete all taxes seignarage charges as per specification etc complete. | E25: =E24 -> PH Data | F25: =CONCATENATE("1 ",C25) -> 1 nos | G25: 1820.6646 | H25: =ROUND(B25*G25,0) -> 72827 | L25: =IF(M25=M24,0,M25) -> #REF! | M25: =IF(N25>0,(M24+1),M24) -> #REF! | N25: =H25 -> 72827
A26: 11 | B26: ='Final Estimate'!I64 -> 125 | C26: nos | D26: ='Spec Report'!B16 -> Manufacture as per BIS:12592 (Part 1&2) Supply & Delivery of manhole covers and frames with ISI marking anywhere in A.P., F.O.R. destination including, loading, un-loading & stacking at site but excluding central excise duty, sales tax, octroi and other Govt levies etc., as applicable. I.S.I Mark | E26: SoR pg 507 | F26: =CONCATENATE("1 ",C26) -> 1 nos | G26: 2716 | H26: =ROUND(B26*G26,0) -> 339500 | L26: =IF(M26=M25,0,M26) -> #REF! | M26: =IF(N26>0,(M25+1),M25) -> #REF! | N26: =H26 -> 339500
A27: 12 | B27: ='Final Estimate'!I77 -> 382.5 | C27: cum | D27: ='Spec Report'!B17 -> Construction of dowel jointed un-reinforced, expansion and construction joint plain cement concrete pavement, thickness as per design, over a prepared sub base, with 43 grade cement or any other type as per Clause 1501.2.2 M30 (Grade), coarse and fine aggregates (Natural sand 50%+Manufactured sand(Rock Sand)50% ) conforming to IS : 383, mixed in a concrete mixer of not less than 0.2 cum capacity and appropriate weigh batcher using approved mix design, laid in approved fixed side formwork (steel channel, laying and fixing of 125 micron thick polythene film, wedges, steel plates including levelling the formwork as per drawing), spreading the concrete with sholvels, rakes, compacted using needle, screed and plate vibrators and finished in continuous operation including provision of contraction and expansion and construction joints, applying primer, sealant, admixtures as approved, curing of concrete slabs for 14- days, curing compound (where specified) and water finishing to lines and grade as per drawing and Technical Specification Clause 1501 MORD including overhead charges & Contractors profit excluding Seignarage charges etc complete. | E27: 1500, 1600 1700, 2702 MoRTH | F27: =CONCATENATE("1 ",C27) -> 1 cum | G27: 7624.7 | H27: =ROUND(B27*G27,0) -> 2916448 | L27: =IF(M27=M26,0,M27) -> #REF! | M27: =IF(N27>0,(M26+1),M26) -> #REF! | N27: =H27 -> 2916448
I28: =SUM(#REF!) -> #REF! | J28: ='[39]Road-furniture '!G18 -> 37461 | K28: =I28-J28 -> #REF! | L28: =IF(M28=#REF!,0,M28) -> #REF! | M28: =IF(N28>0,(#REF!+1),#REF!) -> #REF! | N28: =H28 -> 0
H29: =SUBTOTAL(9,H11:H27) -> 7456131 | I29: =I28+#REF!+#REF!+#REF! -> #REF! | J29: =[39]GA!E11 -> 8482237 | K29: =I29-J29 -> #REF! | L29: =IF(M29=M28,0,M29) -> #REF! | M29: =IF(N29>0,(M28+1),M28) -> #REF! | N29: =H29 -> 7456131
H30: =H29 -> 7456131 | I30: =+[39]GA!E11+'[39]Schedule-A'!#REF! -> #REF! | J30: =+H30-I30 -> #REF! | L30: =IF(M30=#REF!,0,M30) -> #REF! | M30: =IF(N30>0,(#REF!+1),#REF!) -> #REF! | N30: =H30 -> 7456131
L31: =IF(M31=M30,0,M31) -> #REF! | M31: =IF(N31>0,(M30+1),M30) -> #REF! | N31: =H31 -> 0
E32: "APPROVED" | L32: =IF(M32=M31,0,M32) -> #REF! | M32: =IF(N32>0,(M31+1),M31) -> #REF! | N32: =H32 -> 0
E35: Engineer - in - Chief
E36: Panchayat Raj, Hyderabad

Sheet Final Estimate
A1: D E T A I L E D A N D A B S T R A C T E S T I M A T E
A2: Laying of UGD line in Yadava Colony from erukali Laxmaiah (H) to Palle Jangaiah (H) main Road, Mala Kanakaiah (H) to Bollagoni Krishnaiah (H) Main Road, Nune Thirupathaiah (H) to Jilla Manoor (H)main road, Dubbaka Pullaiah (H) to Dubbaku Narsimha (H), Gyoni Jangaiah (H) to Nune Rama Swamy (H), Alli Naraiah (H) to Boyini Peddaiah (H)and Andagulu Sathaiah (H) to Salle Anasuya (H) in Yadava Colony of Madgul (V&M) | O2: =K87 -> 219668
A3: Sno | B3: Description of item | C3: Nos. | F3: Measurements | I3: Qty | J3: Rate/Per | K3: Total Amount | L3: SEIGNORAGE CHARGES/Unit | M3: TOTALSEIGNORAGE CHARGES
F4: L | G4: B | H4: D
A5: 1 | B5: =A5+1 -> 2 | C5: =B5+1 -> 3 | F5: =C5+1 -> 4 | G5: 5 | H5: 6 | I5: 7 | J5: 8 | K5: 9 | L5: =K5+1 -> 10 | M5: =L5+1 -> 11 | N5: =M5+1 -> 12
A6: 1 | B6: Cutting open C.C. road surface including stocking of of exccavated materials for pipe line , including labour charges and contractor profit charges
B7: Yadava Colony:
B8: Main Road to Erukali Balakishti(H) | C8: 1 | D8: x | E8: 1 | F8: 40 | G8: 0.6 | H8: 0.15 | I8: =H8*G8*F8*E8*C8 -> 3.6
B9: Erukali Balakishti (H) to Wadde Kanakaiah (H) | C9: 1 | D9: x | E9: 1 | F9: 130 | G9: 0.6 | H9: 0.15 | I9: =H9*G9*F9*E9*C9 -> 11.7
B10: Wadde Kanakaiah (H) to Main Road via Dubbaku Narsimha (H) | C10: 1 | D10: x | E10: 1 | F10: 80 | G10: 0.6 | H10: 0.15 | I10: =H10*G10*F10*E10*C10 -> 7.2
B11: For Man Holes | C11: PI/4 | D11: x | E11: 30 | F11: 1.65 | G11: 1.65 | H11: 0.15 | I11: =ROUND(H11*G11*F11*E11*PI()/4,2) -> 9.62
I12: =SUM(I8:I11) -> 32.12 | J12: ='Datas P7'!G110 -> 2664.27 | K12: =ROUND(J12*I12,0) -> 85576 | L12: 22 | M12: =L12*I12 -> 706.64
A14: 2 | B14: Earthwork in excavation for Pipe Line trench Cutting as per drawing and technical specifications Clause 305.1 including setting out, construction of shoring and bracing, removal of stumps and other deleterious material and disposal upto a lead of 50 m, dressing of sides and bottom and backfilling in trenches with excavated suitable material as per Technical Specification 305 MORD / 304 MORTH including contractor profit
B15: 300 mm dia
B16: Erukali Balakishti to mala Kanakaiah (H) | C16: 1 | D16: x | E16: 1 | F16: 30 | G16: 0.6 | H16: 0.75 | I16: =H16*G16*F16*E16*C16 -> 13.5
B17: Mala Kanakaiah (H) to Wadde Kanakaiah (H) | C17: 1 | D17: x | E17: 1 | F17: =130+30 -> 160 | G17: 0.6 | H17: 0.75 | I17: =H17*G17*F17*E17*C17 -> 72
B18: Wadde Kanakaiah (H) to Main Road via Dubbak Narsimha(H) | C18: 1 | D18: x | E18: 1 | F18: 180 | G18: 0.6 | H18: 0.75 | I18: =H18*G18*F18*E18*C18 -> 81
B19: Branch Line 200 mm dia
B20: Main Road to Erukali Balakishti | C20: 1 | D20: x | E20: 1 | F20: 40 | G20: 0.6 | H20: 0.75 | I20: =H20*G20*F20*E20*C20 -> 18
B21: Erukali Balakishti (H) to Wadde Kanakaiah (H) | C21: 1 | D21: x | E21: 1 | F21: 130 | G21: 0.6 | H21: 0.75 | I21: =H21*G21*F21*E21*C21 -> 58.5
B22: Branches ( 6 Nos) | C22: 1 | D22: x | E22: 6 | F22: 30 | G22: 0.6 | H22: 0.75 | I22: =H22*G22*F22*E22*C22 -> 81
B23: Andugul Peddaiah (H) gully | C23: 1 | D23: x | E23: 1 | F23: 30 | G23: 0.6 | H23: 0.75 | I23: =H23*G23*F23*E23*C23 -> 13.5
B24: Dubbak Pullaiah (H) gully | C24: 1 | D24: x | E24: 1 | F24: 60 | G24: 0.6 | H24: 0.75 | I24: =H24*G24*F24*E24*C24 -> 27
B25: CH Anjaneyulu (H) to Main Road | C25: 1 | D25: x | E25: 1 | F25: 30 | G25: 0.6 | H25: 0.75 | I25: =H25*G25*F25*E25*C25 -> 13.5 | R25: =350+5*30 -> 500
B26: Dubbak Mallaiah (H) to Main Road | C26: 1 | D26: x | E26: 1 | F26: 30 | G26: 0.6 | H26: 0.75 | I26: =H26*G26*F26*E26*C26 -> 13.5 | R26: =720+5*30 -> 870
B27: Main Line (Trunk Line) 300 mm dia | C27: PI/4 | D27: x | E27: 85 | F27: 1.65 | G27: 1.65 | H27: 1 | I27: =ROUND(H27*G27*F27*E27*PI()/4,2) -> 181.75
B28: Main Line Along BT Road 450mm Dia
B29: From Yadava Colony towards Pedda Madgul | C29: 1 | D29: x | E29: 1 | F29: 400 | G29: 0.9 | H29: 1 | I29: =H29*G29*F29*E29*C29 -> 360
B30: Manholes | C30: PI/4 | D30: x | E30: =F29/10 -> 40 | F30: 2.2 | G30: 2.2 | H30: 1.15 | I30: =ROUND(H30*G30*F30*E30*PI()/4,2) -> 174.86 | R30: =1.2+0.35*2+0.3 -> 2.2
I31: =SUM(I16:I30) -> 1108.11
B32: Take 95% of Total Qty | I32: =I31*95% -> 1052.7045
I33: =I32 -> 1052.7045 | J33: ='Datas P7'!G20 -> 123.7 | K33: =ROUND(J33*I33,0) -> 130220 | L33: 22 | M33: =L33*I33 -> 23159.499
I34: Cum. | J34: 1 cum
A35: 3 | B35: ='Datas P7'!C22 -> Earthwork in excavation in Hard rock (blasting prohibited) with rock breakersin hard rock including breaking rock, loading , in tippers and disposal with all lifts and lead up to 1000m as per technical specifications 302.3.5
B36: Hard rock (Blasting prohibited)
B37: Total E/W qty | I37: =I31 -> 1108.11
B38: 5% of E/W Qty | I38: =I37*5% -> 55.4055
I39: =I38 -> 55.4055 | J39: ='Datas P7'!G38 -> 1939.7875 | K39: =ROUND(J39*I39,0) -> 107475
A40: 4 | B40: MANUFACTURE, SUPPLY AND DELIVERY OF R.C.C. SOCKET AND SPIGOT PIPES CONFORMING TO B.I.S. 458/2003 AT EX-FACTORY (RATE PER METER OF EFFECTIVE LENGTH) EXCLUDING TRANSPORTATION, TAXES & DUTIES. Of Non Pressure pipes and Lowering the RCC S/S pipes carefully into the trenches laying them true to alignment and gradient, jointing with rubber rings and testing including filling with water with a water lead upto 500 meters including cost of rubber rings as per BIS No. 783/1985
B41: For 450 mm Dia Line NP3 Class | C41: 1 | D41: x | E41: 1 | F41: =F29 -> 400 | I41: =C41*E41*F41 -> 400 | J41: ='Cost of RCC NP2-NP3 SS pipes '!I55 -> 2761.6285 | K41: =ROUND(J41*I41,0) -> 1104651
...

Sheet Seignorage Calculation
A1: SEIGNIORAGE CHARGES
A2: ='Final Estimate'!A2:K2 -> Laying of UGD line in Yadava Colony from erukali Laxmaiah (H) to Palle Jangaiah (H) main Road, Mala Kanakaiah (H) to Bollagoni Krishnaiah (H) Main Road, Nune Thirupathaiah (H) to Jilla Manoor (H)main road, Dubbaka Pullaiah (H) to Dubbaku Narsimha (H), Gyoni Jangaiah (H) to Nune Rama Swamy (H), Alli Naraiah (H) to Boyini Peddaiah (H)and Andagulu Sathaiah (H) to Salle Anasuya (H) in Yadava Colony of Madgul (V&M)
A3: 1 | B3: Description of Item | D3: Seigniorage charges | H3: Permit Fee
A4: 1 | B4: Description of Item | D4: Qty | E4: Rate | F4: Amt | G4: Net Amount | H4: Qty | I4: Rate | J4: Amt | K4: Net Amount
B5: ='Man hole with 2nd Class Bricks'!C66 -> Constructon of 0.90 M Circular Sewer Man hole of 0.90 mts x 0.55 m of 1.0 M depths with 2nd Class bricks in cm 1:6 prop and corbelling too including cc bed ( 1: 4 : 8 ) prop using 40 mm gauge HG Metal 0.10 mt thick and CC (1:2:4) Prop benching / chanelling,internal plastreng with 20 mm thick cm 1:4 and External Plasterng with 12mm thick CM (1:4) with fine rendering including cost and fixing of CI steps and fixing FC/ CI cover and frame but excluding the cost of cover and frame, including the cost and conveyance of all materials at site complete and curing for 21 days complete all taxes seignarage charges as per specification etc complete.
B6: 200 mm dia
B7: ='Man hole with 2nd Class Bricks'!C53 -> CC in CM( 1:4:8) PI/4x(0.9+0.46+0.3)x0.15=0.3246 | C7: Cum | D7: ='Man hole with 2nd Class Bricks'!E53 -> 0.3246 | E7: =0.9*97.5+0.45*(0.5*40+0.5*97.5) -> 118.6875 | F7: =E7*D7 -> 38.525962 | H7: =D7 -> 0.3246 | I7: =(0.9*97.5+0.45*(0.5*97.5))*0.8 -> 87.75 | J7: =I7*H7 -> 28.48365
B8: ='Man hole with 2nd Class Bricks'!C54 -> 2nd Class Brick Masonory in cm (1: 6) Prop using 2nd class bricks for Uniform Section( PIx1.13x0.23x0.4)-(PI/4*0.23*0.23*.23*2)=0.3076 | C8: Cum | D8: ='Man hole with 2nd Class Bricks'!E54 -> 0.3076 | E8: =0.2*(0.5*40+0.5*97.5)+(512/1000*78) -> 53.686 | F8: =E8*D8 -> 16.513814 | H8: =D8 -> 0.3076 | I8: =(0.2*(0.5*97.5)+(512/1000*78))*0.8 -> 39.7488 | J8: =I8*H8 -> 12.226731 | R8: =512*0.07 -> 35.84 | S8: =512/1000*78 -> 39.936
B9: ='Man hole with 2nd Class Bricks'!C55 -> 2nd Class Brick Masonory work in cm (1: 6) )Prop using 2nd class bricks for Carbelling Portion Pix(1.13+0.78)/2x0.23x(0.6-.25)=0.2428 | C9: Cum | D9: ='Man hole with 2nd Class Bricks'!E55 -> 0.2428 | E9: =0.2*(0.5*40+0.5*97.5)+(512/1000*78) -> 53.686 | F9: =E9*D9 -> 13.034961 | H9: =D9 -> 0.2428 | I9: =(0.2*(0.5*97.5)+(512/1000*78))*0.8 -> 39.7488 | J9: =I9*H9 -> 9.6510086 | R9: =512/1000*60 -> 30.72
B10: ='Man hole with 2nd Class Bricks'!C56 -> External Plastering in CM(1:4) of 12 mm thick vertical portion Pix(.9+.23*2)x0.40 and sloped portion Pix(1.36+1.01)/2x(0.6-.25) Dedcut Pipe Portion 2xPI()/4x0.23x0.23=2.9325 | C10: 10 Sqm | D10: ='Man hole with 2nd Class Bricks'!E56 -> 2.9325 | E10: =0.15*(0.5*40+0.5*97.5) -> 10.3125 | F10: =E10*D10 -> 30.241406 | H10: =D10 -> 2.9325 | I10: =0.15*(0.5*97.5)*0.8 -> 5.85 | J10: =I10*H10 -> 17.155125
B11: ='Man hole with 2nd Class Bricks'!C57 -> Internal Plastering in CM(1:4) of 20 mm thick uniform portion PIx0.90x0.4 and Sloped Portion Pix(0.90+0.56)/2x(.6-.25) Dedcut Pipe Portion 2xPI()/4x0.23x0.23=1.2777 | C11: 10 Sqm | D11: ='Man hole with 2nd Class Bricks'!E57 -> 1.2777 | E11: =0.21*(0.5*40+0.5*97.5) -> 14.4375 | F11: =E11*D11 -> 18.446794 | H11: =D11 -> 1.2777 | I11: =0.21*(0.5*97.5)*0.8 -> 8.19 | J11: =I11*H11 -> 10.464363
D12: ='Final Estimate'!E50 -> 40 | F12: =SUM(F7:F11) -> 116.76294 | G12: =F12*D12 -> 4670.5175 | H12: =D12 -> 40 | J12: =SUM(J7:J11) -> 77.980878 | K12: =J12*H12 -> 3119.2351
B13: 300 mm dia
B14: ='Man hole with 2nd Class Bricks'!C71 -> CC in CM( 1:4:8) PI/4x(0.9+0.46+0.3)x0.15=0.325 | C14: Cum | D14: ='Man hole with 2nd Class Bricks'!E71 -> 0.325 | E14: =E7 -> 118.6875 | F14: =E14*D14 -> 38.573438 | H14: =D14 -> 0.325 | I14: =I7 -> 87.75 | J14: =I14*H14 -> 28.51875
B15: ='Man hole with 2nd Class Bricks'!C72 -> 2nd Class Brick Masonory in cm (1: 6) Prop using 2nd class bricks for Uniform Section( PIx1.13x0.23x0.4)-(PI/4*0.4*0.4*.23*2)=0.269 | C15: Cum | D15: ='Man hole with 2nd Class Bricks'!E72 -> 0.269 | E15: =E8 -> 53.686 | F15: =E15*D15 -> 14.441534 | H15: =D15 -> 0.269 | I15: =I8 -> 39.7488 | J15: =I15*H15 -> 10.692427
B16: ='Man hole with 2nd Class Bricks'!C73 -> 2nd Class Brick Masonory work in cm (1: 6) )Prop using 2nd class bricks for Carbelling Portion Pix(1.13+0.78)/2x0.23x(0.6-.25)=0.243 | C16: Cum | D16: ='Man hole with 2nd Class Bricks'!E73 -> 0.243 | E16: =E9 -> 53.686 | F16: =E16*D16 -> 13.045698 | H16: =D16 -> 0.243 | I16: =I9 -> 39.7488 | J16: =I16*H16 -> 9.6589584
B17: ='Man hole with 2nd Class Bricks'!C74 -> External Plastering in CM(1:4) of 12 mm thick vertical portion Pix(.9+.23*2)x0.40 and sloped portion Pix(1.36+1.01)/2x(0.6-.25) Dedcut Pipe Portion 2xPI()/4x0.4x0.4=2.766 | C17: 10 Sqm | D17: ='Man hole with 2nd Class Bricks'!E74 -> 2.766 | E17: =E10 -> 10.3125 | F17: =E17*D17 -> 28.524375 | H17: =D17 -> 2.766 | I17: =I10 -> 5.85 | J17: =I17*H17 -> 16.1811
B18: ='Man hole with 2nd Class Bricks'!C75 -> Internal Plastering in CM(1:4) of 20 mm thick uniform portion PIx0.90x0.4 and Sloped Portion Pix(0.90+0.56)/2x(.6-.25) Dedcut Pipe Portion 2xPI()/4x0.40x0.40=0.803 | C18: 10 Sqm | D18: ='Man hole with 2nd Class Bricks'!E75 -> 0.803 | E18: =E11 -> 14.4375 | F18: =E18*D18 -> 11.593313 | H18: =D18 -> 0.803 | I18: =I11 -> 8.19 | J18: =I18*H18 -> 6.57657
D19: ='Final Estimate'!E51 -> 45 | F19: =SUM(F14:F18) -> 106.17836 | G19: =F19*D19 -> 4778.0261 | H19: =D19 -> 45 | J19: =SUM(J14:J18) -> 71.627806 | K19: =J19*H19 -> 3223.2513
B20: 450 mm dia
B21: ='Man hole with 2nd Class Bricks'!C89 -> CC in CM( 1:4:8) PI/4x(0.9+0.46+0.3)x0.15=0.325 | C21: Cum | D21: ='Man hole with 2nd Class Bricks'!E89 -> 0.325 | E21: =E14 -> 118.6875 | F21: =E21*D21 -> 38.573438 | H21: =D21 -> 0.325 | I21: =I14 -> 87.75 | J21: =I21*H21 -> 28.51875
B22: ='Man hole with 2nd Class Bricks'!C90 -> 2nd Class Brick Masonory in cm (1: 6) Prop using 2nd class bricks for Uniform Section( PIx1.13x0.23x0.4)-(PI/4*0.58*0.5*8.23*2)=0.205 | C22: Cum | D22: ='Man hole with 2nd Class Bricks'!E90 -> 0.205 | E22: =E15 -> 53.686 | F22: =E22*D22 -> 11.00563 | H22: =D22 -> 0.205 | I22: =I15 -> 39.7488 | J22: =I22*H22 -> 8.148504
B23: ='Man hole with 2nd Class Bricks'!C91 -> 2nd Class Brick Masonory work in cm (1: 6) )Prop using 2nd class bricks for Carbelling Portion Pix(1.13+0.78)/2x0.23x(0.6-.25)=0.243 | C23: Cum | D23: ='Man hole with 2nd Class Bricks'!E91 -> 0.243 | E23: =E16 -> 53.686 | F23: =E23*D23 -> 13.045698 | H23: =D23 -> 0.243 | I23: =I16 -> 39.7488 | J23: =I23*H23 -> 9.6589584
B24: ='Man hole with 2nd Class Bricks'!C92 -> External Plastering in CM(1:4) of 12 mm thick vertical portion Pix(.9+.23*2)x0.40 and sloped portion Pix(1.36+1.01)/2x(0.6-.25) Dedcut Pipe Portion 2xPI()/4x0.23x0.23=2.489 | C24: 10 Sqm | D24: ='Man hole with 2nd Class Bricks'!E92 -> 2.489 | E24: =E17 -> 10.3125 | F24: =E24*D24 -> 25.667813 | H24: =D24 -> 2.489 | I24: =I17 -> 5.85 | J24: =I24*H24 -> 14.56065
B25: ='Man hole with 2nd Class Bricks'!C93 -> Internal Plastering in CM(1:4) of 20 mm thick uniform portion PIx0.90x0.4 and Sloped Portion Pix(0.90+0.56)/2x(.6-.25) Dedcut Pipe Portion 2xPI()/4x0.25x0.25=0.294 | C25: 10 Sqm | D25: ='Man hole with 2nd Class Bricks'!E93 -> 0.294 | E25: =E18 -> 14.4375 | F25: =E25*D25 -> 4.244625 | H25: =D25 -> 0.294 | I25: =I18 -> 8.19 | J25: =I25*H25 -> 2.40786
D26: ='Final Estimate'!E52 -> 20 | F26: =SUM(F21:F25) -> 92.537203 | G26: =F26*D26 -> 1850.7441 | H26: =D26 -> 20 | J26: =SUM(J21:J25) -> 63.294722 | K26: =J26*H26 -> 1265.8944
