Workbook
Name \: #REF!
Name \: #REF!
Name \: #REF!
Name \: #REF!
Name \: #REF!
Name \: #REF!
Name \a: #REF!
Name \a: #REF!
Name \a: #REF!
Name \a: #REF!
Name \P: #REF!
Name ____: #REF!
Name ____: #REF!
Name ____: #REF!
Name ____: #REF!
Name _____________________________________________________________________l12: #REF!
Name _____________________________________________________________________l3: #REF!
Name _____________________________________________________________________l5: #REF!
Name _____________________________________________________________________var1: #REF!
Name _____________________________________________________________________var4: #REF!
Name ____________________________________________________________________l12: #REF!
Name ____________________________________________________________________l3: #REF!
Name ____________________________________________________________________l5: #REF!
Name ____________________________________________________________________var1: #REF!
Name ____________________________________________________________________var4: #REF!
Name ___________________________________________________________________l12: #REF!
Name ___________________________________________________________________l3: #REF!
Name ___________________________________________________________________l5: #REF!
Name ___________________________________________________________________pc2: #REF!
Name ___________________________________________________________________pv2: #REF!
Name ___________________________________________________________________var1: #REF!
Name ___________________________________________________________________var4: #REF!
Name __________________________________________________________________pc2: #REF!
Name __________________________________________________________________pv2: #REF!
Name _________________________________________________________________l12: #REF!
Name _________________________________________________________________l3: #REF!
Name _________________________________________________________________l5: #REF!
Name _________________________________________________________________pc2: #REF!
Name _________________________________________________________________pv2: #REF!
Name _________________________________________________________________var1: #REF!
Name _________________________________________________________________var4: #REF!
Name ________________________________________________________________l12: #REF!
Name ________________________________________________________________l3: #REF!
Name ________________________________________________________________l5: #REF!
Name ________________________________________________________________pc2: #REF!
Name ________________________________________________________________pv2: #REF!
Name ________________________________________________________________var1: #REF!
Name ________________________________________________________________var4: #REF!
Name _______________________________________________________________l12: #REF!
Name _______________________________________________________________l3: #REF!
Name _______________________________________________________________l5: #REF!
Name _______________________________________________________________pc2: #REF!
Name _______________________________________________________________pv2: #REF!
Name _______________________________________________________________var1: #REF!
Name _______________________________________________________________var4: #REF!
Name ______________________________________________________________l12: #REF!
Name ______________________________________________________________l3: #REF!
Name ______________________________________________________________l5: #REF!
Name ______________________________________________________________pc2: #REF!
Name ______________________________________________________________pv2: #REF!

Sheet 0000000000000

Sheet 1000000000000

Sheet VUP Data
B1: DATA-CD STRUCTURES
B2: Name of Work ::- | D2: =#REF! -> #REF!
A4: S.No. | B4: Quantity | D4: Description of Item | H4: Rate | I4: per | J4: Amount (Rs.)
A6: 1 | B6: Dismantling of Structures (superstructure, substructure, foundation and other miscellaneous structures) and pavements including disposing of resulting materials and/or salvaging useful materials up to a distance of 1 km from project road complete as per Drawings and Technical Specification Clause MoRT&H 202 and as directed by the Engineer.(By Mechanical means in Cement Concrete grade M-15 & M-20)
D7: Page 23,24,25 of MoRT&H SDB
B8: Unit = cum
B9: Taking output = 1.25 cum
D10: (A) Labour
B11: 0.02 | C11: no | D11: Mate | H11: ='SSR-rates'!$I$58 -> 490 | I11: 1 | J11: =ROUND(B11*H11,2) -> 9.8
B12: 0.25 | C12: no | D12: Mazdoor skilled | H12: ='SSR-rates'!$I$59 -> 524 | I12: 1 | J12: =ROUND(B12*H12,2) -> 131
B13: 0.25 | C13: no | D13: Mazdoor unskilled | H13: ='SSR-rates'!$I$60 -> 490 | I13: 1 | J13: =ROUND(B13*H13,2) -> 122.5
B14: ='Input Data'!$D$23 -> 0 | D14: Agency area allowance | H14: =SUM(J11:J13) -> 263.3 | J14: =B14*H14 -> 0
D15: TOTAL | I15: A = | J15: =SUM(J11:J14) -> 263.3
D16: (B ) Machinery | L16: Air compressor 250 cfm with 2 leads of
D17: Air compressor 250 cfm with 2 leads of
B18: 0.67 | D18: pneumatic breaker @ 1.5 cum per hour | H18: ='SSR-rates'!$I$73 -> 619.5 | J18: =ROUND(B18*H18,2) -> 415.07 | L18: pneumatic breaker @ 1.5 cum per hour
B19: 0.27 | C19: hour | D19: Tractor Trolley | H19: ='SSR-rates'!$I$70 -> 465 | I19: 1 | J19: =ROUND(B19*H19,2) -> 125.55
D20: TOTAL | I20: B = | J20: =SUM(J18:J19) -> 540.62
D21: (A + B ) | J21: =J15+J20 -> 803.92
C22: (C) | D22: Over Head Charges on (A+B)
B23: ='Input Data'!$D$24 -> 0.13615 | D23: ="Over head charges "&'Input Data'!$D$24*100&"% on (A) + (B)" -> Over head charges 13.615% on (A) + (B) | H23: =J21 -> 803.92 | J23: =H23*B23 -> 109.45371
B25: 10 | C25: % | D25: (D) Contractors Profit on (A+B+C) | H25: =H23+J23 -> 913.37371 | J25: =ROUND(B25*H25/100,2) -> 91.34
B27: 1.25 | C27: cum | D27: =CONCATENATE("TOTAL Cost for ",B27," ",C27," = (A+B+C+D)",) -> TOTAL Cost for 1.25 cum = (A+B+C+D) | J27: =SUM(J21:J25) -> 1004.7137
D28: =CONCATENATE("Rate per 1 ",C27) -> Rate per 1 cum | J28: =J27/B27 -> 803.77097
D29: =D28 -> Rate per 1 cum | J29: =ROUND(J28,0) -> 804
B30: Earthwork excavation in soils upto SDR by mechanical means for foundations of structures as per drawing and technical specification including setting out, construction of shoring and bracing, removal of stumps and other deleterious matter, dressing sides of bottom, back filling the excavation earth to the extent required etc., complete excluding seignioarge charges for finished item of work as per MoRT&H specification 304(5th Revision) and as directed by the Engineer-in-Charge. (Payment Based on Levels)
B31: Unit : Cum | F31: Page 323 of MoRT&H SDB
B32: Taking out put = 240 Cum
B33: (A) | C33: Labour
B34: 0.32 | C34: day | D34: Mate | H34: ='SSR-rates'!$I$58 -> 490 | I34: day | J34: =ROUND(B34*H34,2) -> 156.8
B35: 8 | C35: day | D35: Mazdoor unskilled | H35: ='SSR-rates'!$I$60 -> 490 | I35: day | J35: =ROUND(B35*H35,2) -> 3920
B36: ='Input Data'!$D$23 -> 0 | D36: Agency area allowance | H36: =SUM(J34:J35) -> 4076.8 | J36: =B36*H36 -> 0
J37: =SUM(J34:J36) -> 4076.8
B38: (B) | C38: Machinery
B39: 6 | C39: hr | D39: Hydraualic Excavator 1 Cum bucket capacity @ 60 cum/hr | H39: ='SSR-rates'!$I$64 -> 3331.2 | I39: hr | J39: =ROUND(B39*H39,2) -> 19987.2
C40: cum | D40: Rate as per G.O. Ms No 10, Dt 26/7/2005 | H40: 13 | I40: cum | J40: =ROUND(B40*H40,2) -> 0
B42: (C) | C42: Over head charges
B43: ='Input Data'!$D$25 -> 0 | C43: ="Over head charges "&'Input Data'!$D$25*100&"% on (A) + (B)" -> Over head charges 0% on (A) + (B) | H43: =J39+J37 -> 24064 | J43: =H43*B43 -> 0
B44: (D) | C44: Total of (A) + (B)+( C) | J44: =J37+J40+J41+J43 -> 4076.8
B45: (E) | C45: Add Contractors Profit at 10% on (D) | J45: =J44*10/100 -> 407.68
...

Sheet temp-calculations
A1: ='Schedule-A'!D3 -> R/F A to B in Wanaparthy Mandal of Wanaparthy District
B2: ='Schedule-A'!H4 -> NIT.No-- | C2: Estt.Cost.Rs. | D2: ='Schedule-A'!C4 -> 100 | E2: Lakhs
A3: ECV | B3: ='Schedule-A'!H189 -> 8076412 | C3: =B3 -> 8076412 | D3: 1% | E3: 0.015 | F3: 0.025
A4: EMD | B4: 1% ECV | C4: =CEILING(1%*B3,100) -> 80800 | D4: =CEILING(1%*C3,100) -> 80800 | E4: =CEILING(1.5%*C3,100) -> 121200 | F4: =SUM(D4:E4) -> 202000
A5: C1- TRANSATION FEE | B5: 0.03% of ECV+12.36% service tax | C5: Plus 12.36% service tax with upper ceiling of 10000+1236=11236/- up to 50.00 Crore | D5: =1.12368*(ROUND(0.03%*C3,0)) -> 2722.6766 | E5: 11236/-
A6: Period of contract in months | B6: =IF(B3<=20000000,12,15) -> 12 | C6: up to 2.00Cr -> 12 months above 2.00 Cr -> 15 months
A7: Solvency | B7: 3 x ECV / Period of Contract in months | C7: =ROUNDUP((3*C3)/(B6),0) -> 2019103 | D7: MTC-> | E7: ='Schedule-A'!#REF! -> #REF! | F7: ='Schedule-A'!#REF! -> #REF!
A8: Prime Contractor | B8: 50% of ECV X 12 / Period of Contract | C8: =ROUNDUP(50%*C3*12/B6,0) -> 4038206
A9: Bid Capacity | B9: ECV | C9: =C3 -> 8076412
A10: Quantities | B10: 50 % of Est. Qty X 12/Period of contract | C10: Required Quantity
A11: Earth work | B11: 0 | C11: =ROUNDUP(B11*50%*12/B6,0) -> 0 | D11: cum
A12: Gravel/GSB | B12: 0 | C12: =ROUNDUP(B12*50%*12/B6,0) -> 0 | D12: cum
A13: WBM/WET MIX | B13: 0 | C13: =ROUNDUP(B13*50%*12/B6,0) -> 0 | D13: cum
A14: BT ALL TYPES Sqm | B14: 0 | C14: =ROUNDUP(B14*50%*12/B6,0) -> 0 | D14: Sqm
A15: CC or VCC or VRCC | B15: 0 | C15: =ROUNDUP(B15*50%*12/B6,0) -> 0 | D15: cum
A17: MILE STONES | B17: Mile stone -1 ( Fnancial ) | C17: =(C9/3) -> 2692137.3 | D17: =C17*0.5 -> 1346068.7 | E17: =ROUND(D17*0.1%,0) -> 1346
B18: Mile stone -2 ( Fnancial ) | C18: =2*C17 -> 5384274.7 | D18: =C18*0.5 -> 2692137.3 | E18: =ROUND(D18*0.1%,0) -> 2692
B19: Mile stone -3 ( Fnancial ) | C19: =3*C17 -> 8076412 | D19: =C19*0.5 -> 4038206 | E19: =ROUND(D19*0.1%,0) -> 4038
D20: =SUM(D17:D19) -> 8076412 | F20: Rs.100/per Lakh per day | G20: OK | H20: =C20*0.5% -> 0
A21: LIQUIDITY DAMAGES | B21: For Mile stone -1 | C21: =ROUND(((C3/3)/1000),0) -> 2692 | D21: =C21*10% -> 269.2 | E21: =C3/3 -> 2692137.3 | F21: =E21*100/100000 -> 2692.1373 | G21: =C21-F21 -> -0.13733333
B22: For Mile stone -2 | C22: =C21 -> 2692 | D22: =C22*10% -> 269.2 | E22: =E21*2 -> 5384274.7 | F22: =E22*100/100000 -> 5384.2747 | G22: =C22-F22 -> -2692.2747
B23: For Mile stone -3 | C23: =C22 -> 2692 | D23: =C23*10% -> 269.2 | E23: =E21*3 -> 8076412 | F23: =E23*100/100000 -> 8076.412 | G23: =C23-F23 -> -5384.412
B25: Total | C25: =C21*3 -> 8076 | E25: TCV | F25: 0.10% of TCV | H25: =D17*10% -> 134606.87
D26: Mile stone 1 | E26: =C3/3 -> 2692137.3 | F26: =E26*0.1% -> 2692.1373 | G26: =C21-F26 -> -0.13733333 | H26: =D18*10% -> 269213.73
D27: Mile stone 2 | E27: =E26*2 -> 5384274.7 | F27: =E27*0.1% -> 5384.2747 | G27: =C22-F27 -> -2692.2747 | H27: =D19*10% -> 403820.6
D28: Mile stone 3 | E28: =E26*3 -> 8076412 | F28: =E28*0.1% -> 8076.412 | G28: =C23-F28 -> -5384.412 | H28: =SUM(H25:H27) -> 807641.2

Sheet Input Data
B1: Name of the Work:- | E1: R/F A to B in Wanaparthy Mandal of Wanaparthy District
H2: Sanction Details | K2: Go.No | L2: Go. Date | M2: Sl.No.in Go
B3: 1 | C3: (P.R) Circle | D3: Warangal | E3: Wgl | H3: Administrative sanction Ref. | I3: ="G.O.Rt.No."&K3&" dt: "&L3&" of PR & RD(Roads) Dept. Sl.No."&M3 -> G.O.Rt.No.273 dt: 20.07.2023 of PR & RD(Roads) Dept. Sl.No.1 | K3: 273 | L3: 20.07.2023 | M3: 1
B4: 2 | C4: District | D4: Wanaparthy | H4: Sanctioned Amount | I4: Rs. in Lakhs | J4: =K4 -> 100 | K4: 100 | L4: NIT.NO
B5: 3 | C5: (P.R) Division | D5: Wanaparthy | H5: Sanctioned Length | I5: In Km | J5: 1 | K5: 1 | L5: -
B6: 4 | C6: (P.R) Sub-Division | D6: Wanaparthy | H6: Grant | I6: CRR | J6: =H7&""&I6&"-"&I7 -> CRR-2024-25 | K6: common List Sl.No | L6: 0
B7: 5 | C7: Mandal | D7: Wanaparthy | I7: 2024-25
B9: Lead Distance | G9: Bitumen & Emulsion
B10: S.No | C10: Item | D10: Sourse of Meterial | E10: Km | G10: Location | I10: HPCL Vizag/Chennai IOCL | J10: IOCL Intial Rate excluding GST
B11: 1 | C11: Metal Cushed | D11: Wanaparthy | E11: 57 | G11: S.No | H11: Dated | I11: Item
B12: 2 | C12: Manufactured Sand (Rock Sand) | D12: =D11 -> Wanaparthy | E12: =E11 -> 57
B13: 3 | C13: Sand concrete | D13: Wanaparthy | E13: 82
B14: 4 | C14: Sand for filling | D14: Local | E14: 5 | G14: 1 | H14: 45536 | I14: Bulk VG 30 Grade 60/70 | J14: 40352
B15: 5 | C15: Gravel | D15: Local | E15: 5 | G15: 2 | H15: =H14 -> 45536 | I15: Emulsion SS-1 (Bulk) | J15: 73459
B16: 6 | C16: Pipes | D16: Wanaparthy | E16: 102 | G16: 3 | H16: =H15 -> 45536 | I16: Rapid Setting -I Bulk | J16: 39765
B17: 7 | C17: concrete mix | E17: 1
B18: 8 | C18: Borrowed earth | D18: Local | E18: 5
B19: 9 | C19: Selected earth for shoulder | D19: Local | E19: 5 | H19: Rates as on | I19: sep' 2024
B20: 10 | C20: BT Lead in Kms (Round Trip) | D20: chennai | E20: 665
B21: 11 | C21: Metal Hand Broken | D21: =D11 -> Wanaparthy | E21: =E11 -> 57
B22: Allowance | G22: Cement & Steel Rates
B23: 1 | C23: MAA/AA | D23: 0 | G23: S.No | H23: Item | I23: Amount in Rs.
B24: 2 | C24: OHC- Road Work | D24: 0.13615 | E24: 0 | G24: 1 | H24: ="Cement, "&I19&"" -> Cement, sep' 2024 | I24: 5000
B25: 3 | C25: OHC- Bridge Work | D25: 0 | G25: 2 | H25: ="Steel HYSD-Fe-500 Bars, "&I19&"" -> Steel HYSD-Fe-500 Bars, sep' 2024 | I25: 49000
B26: 4 | C26: Water cost Allowed Y/N | D26: N | G26: 3 | H26: ="Mild Steel Bars, "&I19&"" -> Mild Steel Bars, sep' 2024 | I26: 60000
G27: 4 | H27: ="6mm M.S. Rods, "&I19&"" -> 6mm M.S. Rods, sep' 2024 | I27: 55000

Sheet Cover Page
C3: GOVERNMENT OF TELANGANA
C7: PANCHAYATRAJ ENGINEERING DEPARTMENT
C14: Name of Grant | I14: : | J14: ='Input Data'!J6 -> CRR-2024-25
C16: Name of Work:-
C17: ='Input Data'!E1 -> R/F A to B in Wanaparthy Mandal of Wanaparthy District
D22: Amount Sanctioned | K22: : | L22: Rs. | M22: ='Input Data'!K4 -> 100 | O22: Lakhs
D23: Proposed Length | K23: : | L23: ='Input Data'!K5 -> 1 | N23: Km
C25: (P.R) Region | G25: :: | H25: ='Input Data'!D3 -> Warangal
C26: District | G26: :: | H26: ='Input Data'!D4 -> Wanaparthy
C27: (P.R) Division | G27: :: | H27: ='Input Data'!D5 -> Wanaparthy
C28: (P.R) Sub-Division | G28: :: | H28: ='Input Data'!D6 -> Wanaparthy
C29: Mandal | G29: :: | H29: ='Input Data'!D7 -> Wanaparthy

Sheet Note File
B1: ESTIMATE NOTE FILE | K1: CIRCLE | L1: ='Input Data'!D3 -> Warangal | P1: TS Date
B2: ="Note file.No. "&$L$2 -> Note file.No. AE-DEE-Wanaparthy-Wgl-CRR-2024-25 | L2: ="AE-DEE-"&'Input Data'!D7&"-"&N4 -> AE-DEE-Wanaparthy-Wgl-CRR-2024-25 | P2: Dt: -09-2024
B3: Subject :- | C3: ="PR Circle: "&L1&" - "&$L$7&" Dist"&'Input Data'!J6&" - "&$L$3&"- Estt.Cost.Rs."&$L$4&".00 Lakhs Detailed estimates Submitted for Technical Sanction - regarding" -> PR Circle: Warangal - Wanaparthy DistCRR-2024-25 - R/F A to B in Wanaparthy Mandal of Wanaparthy District- Estt.Cost.Rs.100.00 Lakhs Detailed estimates Submitted for Technical Sanction - regarding | K3: Name of the work | L3: ='Input Data'!E1 -> R/F A to B in Wanaparthy Mandal of Wanaparthy District
B4: Reference:- | C4: ="1)."&'Input Data'!I3&"." -> 1).G.O.Rt.No.273 dt: 20.07.2023 of PR & RD(Roads) Dept. Sl.No.1. | K4: Estt.Cost | L4: ='Input Data'!J4 -> 100 | M4: CAT | N4: ='Input Data'!E3&"-"&'Input Data'!J6&"" -> Wgl-CRR-2024-25 | Q4: ='Input Data'!L6 -> 0
C5: ="2). SE,PR,"&$L$1&$O$7 -> 2). SE,PR,Warangal vide Lr.No.T4/CRR/Wanaparthy/22 Dt: 06.09.2022 | K5: Mandal | L5: ='Input Data'!D7 -> Wanaparthy | M5: Length Sanctioned | N5: ='Input Data'!J5 -> 1
C6: 3)SE,PR,Warangal vide Lr.No.T4/Tenders/2021-22 Dt 03.08.2022
E7: ***** | K7: Dist | L7: ='Input Data'!D4 -> Wanaparthy | M7: Length Proposed | N7: ='Input Data'!K5 -> 1 | O7: vide Lr.No.T4/CRR/Wanaparthy/22 Dt: 06.09.2022
B8: Submitted, Sir, | K8: Division | L8: ="P.R."&'Input Data'!D5 -> P.R.Wanaparthy
B9: Kindly peruse the ref. 2nd cited where in the SE (PR) Warangal has submitted detailed estimates of above subject work Sanctioned vide reference 1st cited under -CRR-2024-25 grant and requested for according technical sanction the details are as follows. | K9: TS amount | L9: =ROUND(GA!E21/100000,2) -> 100
A10: 1 | B10: Name of the District | E10: : | F10: ='Input Data'!D4 -> Wanaparthy | K10: Schedule-A Road | L10: ='Schedule-A'!H188 -> 8076412
A11: 2 | B11: Name of the Division | E11: : | F11: =L8 -> P.R.Wanaparthy | K11: Schedule-A MTc. | L11: ='Schedule-A'!#REF! -> #REF!
A12: 3 | B12: Name of the Mandal | E12: : | F12: =L5 -> Wanaparthy | K12: ECV | L12: =CEILING(SUM(L10:L11),1) -> #REF! | M12: =L13-L12 -> #REF!
A13: 4 | B13: Name of the work | E13: : | F13: =L3 -> R/F A to B in Wanaparthy Mandal of Wanaparthy District | L13: ='Schedule-A'!H189 -> 8076412 | M13: Diff
A14: 5 | B14: Administrative sanction Ref. No. & date | E14: : | F14: ='Input Data'!I3 -> G.O.Rt.No.273 dt: 20.07.2023 of PR & RD(Roads) Dept. Sl.No.1 | N14: =7.5*3 -> 22.5 | O14: =2*7.5*3 -> 45
A15: 6 | B15: Category of Sanction | E15: : | F15: ='Input Data'!J6 -> CRR-2024-25 | N15: =(0.91+0.76)/2 -> 0.835 | O15: =2.7/2 -> 1.35
A16: 7 | B16: Estimate Cost | E16: : | F16: =L4 -> 100 | N16: =N14*N15 -> 18.7875 | O16: =O14*O15 -> 60.75
A17: 8 | B17: Length Proposed | E17: : | F17: ='Input Data'!J5 -> 1 | K17: =F17*3 -> 3
A18: 9 | B18: Habitations connected
A19: Sl.No | C19: Name of the Mandal | F19: Name of the village | H19: Popupation as per 2011 cencus | T19: 1505 | V19: Directly benefited
H20: SC | I20: ST | J20: Plain
A21: 1 | C21: =SPR!C12 -> Peddavangara | F21: =SPR!F12 -> Peddavangara | H21: =SPR!J12 -> 1008 | I21: =SPR!L12 -> 66 | J21: =SPR!O12 -> 2196
A22: 2 | C22: =SPR!C12 -> Peddavangara | F22: =SPR!F13 -> Hadru Thanda | H22: =SPR!J13 -> 0 | I22: =SPR!L13 -> 58 | J22: =SPR!O13 -> 0
A23: Total | I23: =H21+I21+J21+H22+I22+J22 -> 3328
A24: ="The true extract of the Inspection report of the SE, PR, "&L1&""&'Inspection Report'!E6&"" -> The true extract of the Inspection report of the SE, PR, Warangal
A25: ='Inspection Report'!C16 -> The total length of the Road is 1.000 Km. The total length is Earthen Surface. The both sides of the road is of Wet Fields, Hence Carted Earth is proposed.
A26: ='Inspection Report'!C17 -> Provide BT From Km 0/0 to 0/800 as per SP-72-2015 with GSB 175mm and Wmm 150mm as per traffic conditions
A27: ='Inspection Report'!C18 -> Provide CC M30 with 200 mm thick From Km 0/800 to 1/00 in Village Portion,with GSB 100mm and WMM 75mm thick as per SP 62-2014
A28: ='Inspection Report'!C19 -> The entire road stretch is passing through BC, Slushy soils and Fertile lands. Therefore Iron Cage Wheel tractors are regularly being passed on the road for cultivation purpose. Providing 20mm thick OGPC cannot be sustained Iron Cage Wheel load of tractors and Bituminous surface will damage due to cutting of edges and penetration of water through it at several places. Hence, Bituminous Concrete of 30mm thick is proposed as a special case to overcome the above problem as the design mix will have more strength than recipe mixes like OGPC and MSS etc., and duly keeping in view of life time of pavement with better performance.
A29: ='Inspection Report'!C20 -> CD Works:
A30: ='Inspection Report'!C21 -> Provide Culvert 2V and 1V of 1000mm dia NP4 Pipes as per field conditions.
A31: ='Inspection Report'!C22 -> 0 | L31: CVPD | M31: Curve | N31: CBR
A32: ='Inspection Report'!C23 -> 0 | L32: ='TRAFF-Count-ESAL-Cal'!N11 -> 21 | M32: ='ESAL-result'!K16 -> 3 | N32: ='ESAL-result'!E29/100 -> 0.04
A33: 10 | B33: Existing Surface Details | E33: Reaches | H33: Length in mtrs | I33: Status | J33: Proposed | L33: Existing Surface Details
A34: 1 | B34: =SPR!C20 -> Earthen | E34: =SPR!F20 -> BT Portion 0/00 to 0/800KM | H34: =SPR!K20 -> 800 | I34: =B34 -> Earthen | J34: BT
A35: 2 | B35: =SPR!C21 -> Earthen | E35: =SPR!F21 -> CC 0/800to 1/00km | H35: =SPR!K21 -> 200 | I35: =B35 -> Earthen | J35: CC | L35: =45+10+40+55+8+20 -> 178
H36: =SUBTOTAL(9,H34:H35) -> 1000 | M36: Total | P36: 0/0 - 2/810 | U36: =SUM(#REF!) -> #REF!
A38: 11 | B38: ="Traffic Count: "&L32&" CVPD" -> Traffic Count: 21 CVPD | E38: ESAL = | F38: ='TRAFF-Count-ESAL-Cal'!G30 -> 72982.87 | G38: ="Adopting T"&M32&" curve with CBR "&'ESAL-result'!E29&"% as per SPR72-2015" -> Adopting T3 curve with CBR 4% as per SPR72-2015
B49: The crust proposed by SE | F49: As per (IRC -SP-72-2015) the crust is to be provided
B50: Cumulative No. Of std. Axles | D50: N= msa | E50: CBR 3% | H50: May be provided as per existing crust | J50: Remarks
B51: The pavement layer proposed by SE is as follows | F51: As per (IRC -SP-72-2015)
...

Sheet GA
A1: GENERAL ABSTRACT
A2: Name of Work: | B2: ='Input Data'!E1 -> R/F A to B in Wanaparthy Mandal of Wanaparthy District
B3: Estt.Cost Rs. | C3: ='Input Data'!J4 -> 100 | E3: Lakhs
A4: Sl. No. | B4: Particular | E4: Amount (Rs.)
A5: PART-(A)
B6: Road Works
A7: 1 | B7: Road work | C7: 0.895 | E7: ='Road Estimate'!L93 -> 6453636
A8: 2 | B8: CD Works | C8: Nos | E8: ='CD Abs'!E17 -> 1976724 | G8: =F8-E8 -> -1976724 | I8: =279184*2 -> 558368
A9: 3 | B9: Road Furniture | E9: ='Road-furniture '!G18 -> 37461 | I9: =613168 -> 613168
A10: 4 | B10: Road Safety Interventions | E10: ='RSI-Estt'!L28 -> 14416
B11: Sub-Total | E11: =SUM(E7:E10) -> 8482237
A12: 5 | B12: Q.C. Charges @ 0.50% | E12: =ROUND(E11*0.5%,0) -> 42411
A13: =+A12+1 -> 6 | B13: NAC @ 0.10% | E13: =ROUND(E11*0.1%,0) -> 8482
A14: =+A13+1 -> 7 | B14: Seignarage Charges | E14: =Seigneorage!G141 -> 297019
A15: =+A14+1 -> 8 | B15: Add DMF @ 30% on Seignarage amount | E15: =ROUND(E14*30%,0) -> 89106
A16: =+A15+1 -> 9 | B16: Add SMET @2% on Seignarage amount | E16: =ROUND(E14*2%,0) -> 5940
A17: =+A16+1 -> 10 | B17: Add 0.8 times permit fee on Seign Charges | E17: =ROUND(E14*80%,0) -> 237615 | H17: =E14*0.008 -> 2376.152
B18: Sub-Total | E18: =SUM(E11:E17) -> 9162810 | K18: =168.5/2.5 -> 67.4
A19: 11 | B19: Add GST @ 18% | E19: =ROUND(E18*18%,0) -> 1649306
A20: 12 | B20: Unforeseen, price escalation, Seinarage, as per Govt. orders and rounding off | E20: =G20 -> -812116 | G20: =(C3*100000)-E18-E19 -> -812116 | H20: =E20-G20 -> 0
B21: Total Amount (Part- A) | E21: =SUM(E18:E20) -> 10000000 | G21: =+'Input Data'!J4*100000-SUM(E11:E20) -> -9162810
A22: PART- (B)
B23: Maintenance Estimate
A24: 1 | B24: Routine Maintanance for 5 YEARS | E24: ='Mtc-Abs'!D15 -> 650192
A25: 2 | B25: Add GST on Maintanence @ 12.00% | E25: ='Mtc-Abs'!D16 -> 78023
A26: 3 | B26: Add LS For U/F items | E26: ='Mtc-Abs'!D17 -> 21785
B27: Total Part-B | E27: =SUM(E24:E26) -> 750000
B28: Total (Part- A+B) | E28: =E21+E27 -> 10750000
A30: =" The work is Administratively Sanctioned for Rs."&'Input Data'!J4&".00 lakhs, Vide "&'Input Data'!I3&" under "&'Input Data'!J6 -> The work is Administratively Sanctioned for Rs.100.00 lakhs, Vide G.O.Rt.No.273 dt: 20.07.2023 of PR & RD(Roads) Dept. Sl.No.1 under CRR-2024-25
A32: =" The Estimate of work '' "&'Input Data'!E1&" '' is Technically sanctioned for Rs."&'Note File'!L9&" lakhs, and Technically Approved for Rs."&ROUND(E28/100000,2)&" lakhs Vide TSR No. /2021-22 dated -11-2021." -> The Estimate of work '' R/F A to B in Wanaparthy Mandal of Wanaparthy District '' is Technically sanctioned for Rs.100 lakhs, and Technically Approved for Rs.107.5 lakhs Vide TSR No. /2021-22 dated -11-2021.
B34: Assistant Engineer, | C34: Dy. Exe. Engineer
B35: ="PRSD, "&'Input Data'!D6&"" -> PRSD, Wanaparthy | C35: ="PRSD, "&'Input Data'!D6&"" -> PRSD, Wanaparthy
B37: District Panchayat Raj Engineer, | C37: Superintending Engineer
B38: ="PIU, "&'Input Data'!D5&"" -> PIU, Wanaparthy | C38: ="PR, Circle, "&'Input Data'!D3&"" -> PR, Circle, Warangal
C40: Engineer-In-chief
C41: P.R, Hyderabad

Sheet Inspection Report
A2: Inspection report of the Superintending Engineer, PR, Region, Warangal
A3: Present: Sri K.Raghuveera Reddy, B.Tech.
A6: 1 | B6: Date of Inspection | D6: :
A7: 2 | B7: Name of the Officers present | D7: : | E7: 1 | F7: Srinivasulu, District Panchayat Raj Engineer, PIU, Division, Mahabubabad
D8: : | E8: 2 | F8: K. Prasannakumar, Dy. Executive Engineer, PR, SD, Thorrur.
D9: : | E9: 3 | F9: K. Suresh, Asst. Engineer, PR, SD, Thorrur.
A10: 3 | B10: Name of the Work | D10: : | E10: ='Input Data'!E1 -> R/F A to B in Wanaparthy Mandal of Wanaparthy District
A11: 4 | B11: Estimated Cost | D11: : | E11: Rs. | G11: ='Input Data'!J4 -> 100 | H11: Lakhs
A12: 5 | B12: Administrative Sanction | D12: : | E12: ='Input Data'!I3 -> G.O.Rt.No.273 dt: 20.07.2023 of PR & RD(Roads) Dept. Sl.No.1
A13: 6 | B13: Grant | D13: : | E13: ='Input Data'!J6 -> CRR-2024-25
C16: The total length of the Road is 1.000 Km. The total length is Earthen Surface. The both sides of the road is of Wet Fields, Hence Carted Earth is proposed.
C17: Provide BT From Km 0/0 to 0/800 as per SP-72-2015 with GSB 175mm and Wmm 150mm as per traffic conditions
C18: Provide CC M30 with 200 mm thick From Km 0/800 to 1/00 in Village Portion,with GSB 100mm and WMM 75mm thick as per SP 62-2014
C19: The entire road stretch is passing through BC, Slushy soils and Fertile lands. Therefore Iron Cage Wheel tractors are regularly being passed on the road for cultivation purpose. Providing 20mm thick OGPC cannot be sustained Iron Cage Wheel load of tractors and Bituminous surface will damage due to cutting of edges and penetration of water through it at several places. Hence, Bituminous Concrete of 30mm thick is proposed as a special case to overcome the above problem as the design mix will have more strength than recipe mixes like OGPC and MSS etc., and duly keeping in view of life time of pavement with better performance.
C20: CD Works:
B21: 1 | C21: Provide Culvert 2V and 1V of 1000mm dia NP4 Pipes as per field conditions.
B23: The District Panchayat Raj Engineer, PIU, Division, Mahabubabad is requested to prepare the Detailed Estimate with above provisions
H26: Superintending Engineer
H27: PR, Region, Warangal

Sheet SPR
A1: SPECIFICATION REPORT FOR WORKING ESTIMATE
A2: Name of the Work : | E2: ='Input Data'!E1:J1 -> R/F A to B in Wanaparthy Mandal of Wanaparthy District
B3: Grant | C3: ='Input Data'!I6 -> CRR | D3: ='Input Data'!I7 -> 2024-25 | L3: Est. Cost . Rs. | O3: ='Input Data'!J4 -> 100 | Q3: Lakhs
B4: The work " R/F Ayyangaripally to Thorrur via Danthalagadda in Palakurthy Mandal of Jangaon District "is administratively sanctioned for Rs 108.00 lakhs under CRR Grant Go No.67 Date: 28-02-2022. The total length of the Road is 2.650 km with track Surface existing. The both sides of total length of the road is in private patta lands hence carterd earth is proposed. Based on the traffic intensity, the traffic curve is considered as T3. Accordingly WMM-150 mm thick over GSB Gr-VI-175 mm thk, is proposed as per IRC: SP: 72-2015 in BT portions. As per IRC: SP 62-2014 under CC Pavment provided over GSB Grading -VI-100 mm thick and WMM of 75mm thick.
B5: The Sanctioned amount is not sufficient to take up the entire length of the road up to BT standards as this road is having track surface. The starting village of Ayyangaripally village is connected with PR BT road and end village of Thorrur is connected with R&B BT Road. But the Danthalagadda village is loated at Km 1/450 on this road which is not connected by all weather road. Hence the road is proposed for forming of embankment up to Danthalagadda village ie upto 1.450Kms to keep the road is under connectivity to Danthalagadda village for which it is useful for the villagers to carry their agriculture product as well as to reach the GP, Mandal and District head quarters. The Road is proposed for BT standards from Km 0/0 to 0/925 to the extent of sanctioned amount.
B6: The estimate is technically sanctioned for Rs 100.00 Lakhs and the tender are also called far. But there is no response from the contractors for tenders. Mean while the new SSR 2023-24 is also approved and non reponse from the contractor the working estimate is prepared duly adopting the SSR 2023-24 and here with submitting for favour of approval and necessry action.
A7: 1) | B7: Habitations Benifitted
B8: The following villages will be benifitted by providing this road.
B10: Sl.No. | C10: Name of the Mandal | F10: Name of the Village | J10: Popupation asper 2011cencus
J11: SC | L11: ST | O11: Plain
B12: 1 | C12: Peddavangara | F12: Peddavangara | J12: 1008 | L12: 66 | O12: 2196
B13: 2 | C13: Peddavangara | F13: Hadru Thanda | J13: 0 | L13: 58 | O13: 0
F14: Total | J14: =SUM(J12:J13) -> 1008 | L14: =SUM(L12:L13) -> 124 | O14: =SUM(O12:O13) -> 2196 | R14: =J14+L14+O14 -> 3328
A16: 2) | B16: Existing Surface Details
B17: The existing surface details of the road for proposed length as follows.
B19: S.No | C19: Existing Type of surface | F19: Reaches | K19: Total Length in mts | M19: Remarks
B20: 1 | C20: Earthen | F20: BT Portion 0/00 to 0/800KM | K20: 800 | M20: WMM-150 mm thick over GSB Gr-VI-175 mm thk, is proposed as per IRC: SP: 72-2015 in BT portions
B21: 2 | C21: Earthen | F21: CC 0/800to 1/00km | K21: 200 | M21: Provide WMM - 75mm thick over GSB Gr-VI - 100 mm thick, as per IRC:SP:62-2014 in CC Pavements
C22: Total | K22: =SUM(K20:L21) -> 1000
A24: 3) | B24: Traffic intensity
B25: Base year traffic volume Count is as follows
B27: Dates of Traffic count (3 days) | C27: Vehicle Class | Q27: Total
C28: Cars, Jeeps, Vans, Three-wheelers | D28: Motorised two- wheelers | E28: Agricultural Tractors/ Trailers (MCV) | H28: Trucks / Buses (HCV) | K28: Cycles | L28: Cycle Rickshaws | M28: Animal Drawn Vehicles | O28: CVPD
E29: Laden | F29: Unladen | G29: Over Laden | H29: Laden | I29: Unladen | J29: Over Laden
B30: 08.03.23 to 10.03.2023 | C30: ='TRAFF-Count-ESAL-Cal'!B11 -> 4 | D30: ='TRAFF-Count-ESAL-Cal'!C11 -> 38 | E30: ='TRAFF-Count-ESAL-Cal'!D11 -> 8 | F30: ='TRAFF-Count-ESAL-Cal'!E11 -> 7 | G30: ='TRAFF-Count-ESAL-Cal'!F11 -> 0 | H30: ='TRAFF-Count-ESAL-Cal'!G11 -> 3 | I30: ='TRAFF-Count-ESAL-Cal'!H11 -> 3 | J30: ='TRAFF-Count-ESAL-Cal'!I11 -> 0 | ... L30: ='TRAFF-Count-ESAL-Cal'!K11 -> 0 | M30: 0 | O30: =E30+F30+G30+H30+I30+J30 -> 21 | Q30: =C30+D30+E30+F30+G30+H30+I30+J30+K30+L30+L30+M30 -> 93
A32: 4) | B32: Reach wise CBR and proposed road Crust thickness w.r.t existing surface details are as follows
A33: Slno | B33: Reach | E33: CBR in % | F33: Crust required asper design T6 of IRC-SP-72-2015 | I33: Existing & Proposed Crust provision | T33: Crust thick ness Check +/- | U33: BC
I34: Gravel | K34: GR-VI | M34: WMM | O34: CC | Q34: Total Pavement thickness
I35: Existing | J35: Proposed | K35: Ext | L35: Pr | M35: Ext | N35: Pr | O35: Ext | P35: Pr | Q35: Ext | R35: Pr | S35: Total | U35: Ext | V35: Pr
A36: 1 | B36: =F20 -> BT Portion 0/00 to 0/800KM | E36: 0.04 | F36: 325 | I36: 0 | J36: 0 | K36: 0 | L36: 175 | M36: 0 | N36: 150 | O36: 0 | P36: 0 | Q36: =I36+K36+M36+O36 -> 0 | R36: =J36+L36+N36+P36 -> 325 | S36: =Q36+R36 -> 325 | T36: 0 | U36: 0 | V36: 30
A37: 2 | B37: =F21 -> CC 0/800to 1/00km | I37: 0 | J37: 0 | K37: 0 | L37: 100 | M37: 0 | N37: 75 | O37: 0 | P37: 200 | Q37: =G36+I37+K37+M37+O37 -> 0 | R37: =H36+J37+L37+N37+P37 -> 375 | S37: =Q37+R37 -> 375 | T37: 0 | U37: 0
A40: 5) | B40: CD works Existing Proposed Details are as follows.
B41: Existing CD works with type | F41: Nos | G41: Existing Reaches | K41: Proposed CD works with type | O41: Nos | R41: Proposed Reaches
A42: 1 | B42: Construction of HP Culvert 1V of 1000mm Dia. NP4 Pipes | K42: 1V 1000mm dia | O42: 1 | R42: 1/000 Km
A43: 2 | B43: 1vent 5.00 x 2.00m span slab culvert | K43: Slab culvert | R43: 2/100, 3/000 Km
A44: 3 | B44: 1vent 6.00 x 2.00m span slab culvert | K44: Slab culvert | R44: 0/400 KM
A45: 4 | B45: 2vent 6.00 x 2.00m span slab culvert at 1/600 Km | K45: Slab culvert | R45: 1/600 KM
A46: 5 | B46: Protection walls at 1/800, 2/400 & 3/500 KM | R46: 1/800, 2/400 & 3/500 KM
A47: 6 | B47: Construction of Village Side Drains
B48: Total Nos | F48: =SUM(F41:F41) -> 0 | K48: Total Nos | O48: =SUM(O41:O46) -> 1
...

Sheet Key Map
A1: KEY MAP
A4: Name of the Work: | C4: ='Input Data'!E1 -> R/F A to B in Wanaparthy Mandal of Wanaparthy District
J10: Upparigudem
I16: A
D17: B
C19: Proposed BT Road from | G19: Proposed CC Road | H19: BT Road | K19: Peddavangara Village
C20: 1/250 | F20: 0/950 | G20: 1/000 | H20: 0/800 | I20: 0/000 Km | J20: Peddavangara PWD Road
B37: Asst. Engineer, | D37: Dy. Exe. Engineer | G37: ='Pipe data'!D399 -> District Panchayat Raj Engineer,
B38: PRSD, Thorrur | D38: PRSD, Thorrur | G38: ='Pipe data'!D400 -> PIU, Wanaparthy
G42: ='Pipe data'!E399 -> Superintending Engineer
G43: ='Pipe data'!E400 -> PR, Circle, Warangal

Sheet LS_2LS
A2: ='Input Data'!E1 -> R/F A to B in Wanaparthy Mandal of Wanaparthy District
B4: LONGITUDINAL SECTION
B9: 0/00 | G9: 0/800 | J9: 1/000 | Y9: 1/250
M10: 30 mm Thick BC (B.T )
H11: CC 200mm
C12: WMM 150 mm | H12: WMM 75 mm
C14: GSB 175 mm | H14: GSB 100 mm
B17: Pangidipally village limits
E20: B.T with BC | I20: (Black) | M20: CC Pavement 200 mm
E22: WMM | I22: (Yellow)
E24: GSB Gr- VI | I24: (Orange) | M24: existing earthen surface
F30: Asst Engineer | L30: Dy Executive Engineer | V30: Executive Engineer | AB30: Superintending Engineer
F31: PR SD Thorrur | L31: PR SD Thorrur | V31: PIU, Mahabubabad | AB31: PR Circle Warangal

Sheet TRAFF-Count-ESAL-Cal
A1: FIELD DATA SHEET FOR TRAFFIC CENSUS (BOTH DIRECTIONS) FOR 3 DAYS ( Lean Seasion )
A2: & CUMALATIVE ESAL APPLICATION CALCULATIONS
A3: ='Input Data'!E1 -> R/F A to B in Wanaparthy Mandal of Wanaparthy District
A4: Day | B4: Vehicle Class | M4: Total
B5: Cars, Jeeps, Vans, Three-wheelers | C5: Motorised two- wheelers | D5: Agricultural Tractors/ Trailers (MCV) | G5: Trucks / Buses (HCV) | J5: Cycles | K5: Cycle Rickshaws | L5: Animal Drawn Vehicles
D6: Laden | E6: Unladen | F6: Over Laden | G6: Laden | H6: Unladen | I6: Over Laden
A7: Day 1 From 0.00 Hrs To 24.00 Hrs | B7: 5 | C7: 35 | D7: 9 | E7: 7 | F7: 0 | G7: 4 | H7: 3 | I7: 0 | J7: 25 | K7: 0 | L7: 0 | M7: =SUM(B7:L7) -> 88 | O7: =G30 -> 72982.87
A8: Day 2 From 0.00 Hrs To 24.00 Hrs | B8: 4 | C8: 45 | D8: 6 | E8: 5 | F8: 0 | G8: 3 | H8: 3 | I8: 0 | J8: 30 | K8: 0 | L8: 0 | M8: =SUM(B8:L8) -> 96
A9: Day 3 From 0.00 Hrs To 24.00 Hrs | B9: 4 | C9: 33 | D9: 9 | E9: 8 | F9: 0 | G9: 3 | H9: 3 | I9: 0 | J9: 35 | K9: 0 | L9: 0 | M9: =SUM(B9:L9) -> 95
A10: Total | B10: =B9+B8+B7 -> 13 | C10: =C9+C8+C7 -> 113 | D10: =D9+D8+D7 -> 24 | E10: =E9+E8+E7 -> 20 | F10: =F9+F8+F7 -> 0 | G10: =G9+G8+G7 -> 10 | H10: =H9+H8+H7 -> 9 | I10: =I9+I8+I7 -> 0 | ... L10: =L9+L8+L7 -> 0 | M10: =SUM(B10:L10) -> 279 | N10: CVPD
A11: Average Daily Traffic | B11: =ROUND(B10/3,0) -> 4 | C11: =ROUND(C10/3,0) -> 38 | D11: =ROUND(D10/3,0) -> 8 | E11: =ROUND(E10/3,0) -> 7 | F11: =ROUND(F10/3,0) -> 0 | G11: =ROUND(G10/3,0) -> 3 | H11: =ROUND(H10/3,0) -> 3 | I11: =ROUND(I10/3,0) -> 0 | J11: =ROUND(J10/3,0) -> 30 | K11: =K10/3 -> 0 | L11: =ROUND(L10/3,0) -> 0 | M11: =SUM(B11:L11) -> 93 | N11: =D11+E11+F11+G11+H11+I11 -> 21
A12: ADT in the year of Traffic Count | E12: ADT = | G12: =M11 -> 93 | H12: Nos | I12: 0 | J12: 1 for if Peak season traffic count
A13: ADT in Lean | E13: T = | G13: =IF(I12=0,G12,ROUNDUP(G12/2,0)) -> 93 | H13: Nos | J13: 0 for Lean season traffic count
A14: ADT in Peak | G14: =IF(I12=1,G12,ROUNDUP(G12*2,0)) -> 186 | H14: Nos
A15: No of Harvesting Seasons | E15: n = | G15: 2 | J15: 75 | K15: Peak Seasons Days
A16: Base Year Traffic | E16: AADT (T)= | G16: =ROUND(G13+(1.2*G13*J15)/365,0) -> 116 | H16: Nos | I16: (Avarage annual daily trafic i.e AADT = T + n x T x t)
D17: Let us assuming an intial growth rate of 6% for 2years | K17: T= Lean Traffic
A18: Opening of the road after complition | E18: AADT = | G18: =ROUND(G16*1.06^2,0) -> 130 | H18: Nos | J18: (AADT * (1.06)2)
A19: From the given traffic count data, proportions of
E20: MCV = | G20: =ROUND(((D11)/M11)*G18,0) -> 11 | H20: Nos | J20: (Laden Medium Commercial Vehicle)
E21: MCV = | G21: =ROUND(((E11)/M11)*G18,0) -> 10 | H21: Nos | J21: (Un Laden Medium Commercial Vehicle)
A22: CBR Value: 4 | E22: MCV = | G22: =ROUND(((F11)/M11)*G18,0) -> 0 | H22: Nos | J22: (Over Laden Medium Commercial Vehicle)
A23: As per IRC SO 72-2015: T6 Curve (3 L to 6 L) | E23: HCV = | G23: =ROUND(((G11)/M11)*G18,0) -> 4 | H23: Nos | J23: (LadenHeavy Commercial Vehicle)
E24: HCV = | G24: =ROUND(((H11)/M11)*G18,0) -> 4 | H24: Nos | J24: (Unladen Heavy Commercial Vehicle)
E25: HCV = | G25: =ROUND(((I11)/M11)*G18,0) -> 0 | H25: Nos | J25: (Over Laden Heavy Commercial Vehicle)
A26: Cumulative ESAL applications for 10year with uniform growth rate @ 6% | J26: (VDF = Vehicle Damage Factor)
A27: Equivalent Standard Axle Load = | E27: ESAL = HCV x VDF+MCV x VDF | J27: Vehicle | K27: Laden | L27: Unladen | M27: Ov.Laden
E28: ESAL = | F28: ="("&K28&"x"&G23&") + ("&L28&"x"&G24&") + ("&M28&"x"&G25&") + ("&K29&"x"&G20&") + ("&L29&"x"&G21&") + ("&M29&"x"&G22&")" -> (2.58x4) + (0.31x4) + (2.86x0) + (0.31x11) + (0.02x10) + (0.34x0) | J28: HCV | K28: 2.58 | L28: 0.31 | M28: 2.86
E29: ESAL = | G29: =ROUND(G20*K29+G21*L29+G22*M29+G23*K28+G24*L28+G25*M28,2) -> 15.17 | H29: Nos/day | J29: MCV | K29: 0.31 | L29: 0.02 | M29: 0.34
A30: Cumulative ESAL Applications = | E30: N = | G30: =G29*4811*1 -> 72982.87 | I30: ( N = ESAL x 4811 x L) | Q30: =1.075^15 -> 2.9588774 | R30: =Q30-1 -> 1.9588774
H31: Where L= Lane distribution Factor = 1 for single lane) | R31: =365*R30 -> 714.99023
B33: Asst. Engineer | E33: Dy.Executive Engineer | H33: Executive Engineer | J33: Superintending Engineer
B34: ='Slab-Culverts Data'!C678 -> PRSD, Wanaparthy | E34: ='Slab-Culverts Data'!G678 -> PRSD, Wanaparthy | H34: ='Slab-Culverts Data'!C682 -> PIU, Wanaparthy | K34: ='Slab-Culverts Data'!G682 -> PR, Circle, Warangal
R35: =R31/0.075 -> 9533.2031
R36: =R35*382*0.75*2.5 -> 6828156.7
R37: 6.82 msa

Sheet ESAL-result
B1: State- | C1: TELANGANA | D1: Name of the Road | F1: ='Input Data'!E1 -> R/F A to B in Wanaparthy Mandal of Wanaparthy District
B2: District- | C2: ='Input Data'!D4 -> Wanaparthy
B3: Block- | C3: ='Input Data'!D7 -> Wanaparthy
B5: INPUT | H5: RESULT
K6: ADT | L6: AADT
D7: Traffic count | E7: VDF Values
H8: Total motorised Vehicle per Day | K8: ='TRAFF-Count-ESAL-Cal'!G12 -> 93 | L8: ='TRAFF-Count-ESAL-Cal'!G16 -> 116
B9: (cars/vans/jeeps/ three wheelers) | D9: ='TRAFF-Count-ESAL-Cal'!B11 -> 4
B10: LCV | D10: 0 | H10: Commercial vehicles per Day | K10: =SUM('TRAFF-Count-ESAL-Cal'!D11:I11) -> 21 | L10: =SUM('TRAFF-Count-ESAL-Cal'!G20:G25) -> 29
B11: HCV (Truck/Buses) | C11: Laden | D11: ='TRAFF-Count-ESAL-Cal'!G11 -> 3 | E11: 2.58
C12: Unladen | D12: ='TRAFF-Count-ESAL-Cal'!H11 -> 3 | E12: 0.31 | H12: Before opening to traffic , AADT | K12: ='TRAFF-Count-ESAL-Cal'!G18 -> 130
C13: Over loaded | D13: ='TRAFF-Count-ESAL-Cal'!I11 -> 0 | E13: 2.86
B14: MCV (Tractor/Trollies/ Mini-Buses) | C14: Laden | D14: ='TRAFF-Count-ESAL-Cal'!D11 -> 8 | E14: 0.31 | H14: Final cumulative ESAL | K14: ='TRAFF-Count-ESAL-Cal'!G30 -> 72982.87
C15: Unladen | D15: ='TRAFF-Count-ESAL-Cal'!E11 -> 7 | E15: 0.02
C16: Over loaded | D16: ='TRAFF-Count-ESAL-Cal'!F11 -> 0 | E16: 0.34 | H16: Traffic Category | J16: T | K16: =IF(AND(K14>10000,K14<30000),1,0)+IF(AND(K14>30000,K14<60000),2,0)+IF(AND(K14>60000,K14<100000),3,0)+IF(AND(K14>100000,K14<200000),4,0)+IF(AND(K14>200000,K14<300000),5,0)+IF(AND(K14>300000,K14<600000),6,0)+IF(AND(K14>600000,K14<1000000),7,0) -> 3
B17: Two wheelers | D17: ='TRAFF-Count-ESAL-Cal'!C11 -> 38
B18: Bicycles | D18: ='TRAFF-Count-ESAL-Cal'!J11 -> 30
B19: Bullock cart | C19: solid wheel | D19: ='TRAFF-Count-ESAL-Cal'!K11 -> 0
C20: Pnu. Tyres | D20: ='TRAFF-Count-ESAL-Cal'!L11 -> 0 | K20: THICKNESS
H21: BITUMINOUS SURFACE TREATED WBM/CRMB | K21: 30
B22: Time after which road will be opened to Traffic (year) | E22: 2 | H22: WBM/CRMB/ BASE OF GRAVEL | K22: 150
H23: GRAVEL BASE | K23: ='ESAL-calculation '!H43 -> 0
B24: Traffic count during harvesting (yes/no) | E24: NO | H24: GRANULAR SUBASE | K24: 175
B25: No of Harvesting season | E25: 2 | H25: IMPROVED SUBGRADE | K25: ='ESAL-calculation '!H45 -> 0 | L25: mm
B26: No of days in each Harvesting season | E26: 75
B27: Value of n assumed | E27: 1
B29: CBR VALUE | E29: 4 | H29: TOTAL THICKNESS | K29: ='ESAL-calculation '!H47 -> 325
B35: Asst. Engineer, | D35: Dy.Executive Engineer | H35: District Panchayat Raj Engineer, | K35: Superintending Engineer
B36: ='TRAFF-Count-ESAL-Cal'!B34 -> PRSD, Wanaparthy | D36: ='TRAFF-Count-ESAL-Cal'!E34 -> PRSD, Wanaparthy | H36: ='TRAFF-Count-ESAL-Cal'!H34 -> PIU, Wanaparthy | K36: ='TRAFF-Count-ESAL-Cal'!K34 -> PR, Circle, Warangal

Sheet ESAL-calculation 
A2: (cars/vans/jeeps/ three wheelers | B2: LCV | C2: HCV (Truck/Buses) | F2: MCV ( Tractor/Trollies/Mini-Buses) | I2: Two wheelers | J2: Bicycles | K2: Bullock cart (solid wheeled) | M2: ADT
C3: Laden | D3: Unladen | E3: Over loaded | F3: Laden | G3: Unladen | H3: Overloaded | K3: solid wheel | L3: Pnu. Tyres
A4: ='ESAL-result'!D9 -> 4 | B4: ='ESAL-result'!D10:D10 -> 0 | C4: ='ESAL-result'!D11 -> 3 | D4: ='ESAL-result'!D12 -> 3 | E4: ='ESAL-result'!D13 -> 0 | F4: ='ESAL-result'!D14 -> 8 | G4: ='ESAL-result'!D15 -> 7 | H4: ='ESAL-result'!D16 -> 0 | I4: ='ESAL-result'!D17:D17 -> 38 | J4: ='ESAL-result'!D18 -> 30 | K4: ='ESAL-result'!D19 -> 0 | L4: ='ESAL-result'!D20 -> 0 | M4: =SUM(A4:L4) -> 93
D6: Number of harvesting season= | G6: ='ESAL-result'!E25 -> 2 | I6: Traffic count during harvesting | M6: ='ESAL-result'!E24 -> NO
D7: value of n | G7: ='ESAL-result'!E27 -> 1 | I7: Duration of harvesting season | M7: ='ESAL-result'!E26 -> 75
I8: Average Daily Traffic ( non- haresting/harvesting) | M8: =IF(M6="yes",M4/2,M4) -> 93
I9: AADT= | M9: =ROUND(M8+((0.6*G7*M7*G6*M8)/365),0) -> 116
I10: Before opening to traffic , AADT= | M10: =ROUND(M9*((1.06)^'ESAL-result'!E22),0) -> 130
I11: Proportion factor (AADT/ADT) = | M11: =M10/M4 -> 1.3978495
A12: =M11 -> 1.3978495 | B12: =M11 -> 1.3978495 | C12: =M11 -> 1.3978495 | D12: =M11 -> 1.3978495 | E12: =M11 -> 1.3978495 | F12: =M11 -> 1.3978495 | G12: =M11 -> 1.3978495 | H12: =M11 -> 1.3978495 | I12: =M11 -> 1.3978495 | J12: =M11 -> 1.3978495 | K12: =M11 -> 1.3978495 | L12: =M11 -> 1.3978495
A14: (cars/vans/jeeps/ three wheelers | B14: LCV | C14: HCV (Truck/Buses) | F14: MCV ( Tractor/Trollies) | I14: Two wheelers | J14: Bicycles | K14: Bullock cart (solid wheeled)
C15: Laden | D15: Unladen | E15: Over loaded | F15: Laden | G15: Unladen | H15: Overloaded | K15: solid wheel | L15: Pnu. Tyres
A16: =ROUND(A4*A12,0) -> 6 | B16: =ROUND(B4*B12,0) -> 0 | C16: =ROUND(C4*C12,0) -> 4 | D16: =ROUND(D4*D12,0) -> 4 | E16: =ROUND(E4*E12,0) -> 0 | F16: =ROUND(F4*F12,0) -> 11 | G16: =ROUND(G4*G12,0) -> 10 | H16: =ROUND(H4*H12,0) -> 0 | ... L16: =ROUND(L4*L12,0) -> 0
A18: VDF | B18: VDF values | C18: HCV (Truck/Buses)
C19: Laden | D19: Unladen | E19: Over loaded | F19: Laden | G19: Unladen | H19: Overloaded
C20: ='ESAL-result'!E11 -> 2.58 | D20: ='ESAL-result'!E12 -> 0.31 | E20: ='ESAL-result'!E13 -> 2.86 | F20: ='ESAL-result'!E14 -> 0.31 | G20: ='ESAL-result'!E15 -> 0.02 | H20: ='ESAL-result'!E16 -> 0.34
B22: Calculated | C22: HCV (Truck/Buses) | F22: MCV ( Tractor/Trollies) | I22: ESAL/per day
C23: Laden | D23: Unladen | E23: Over loaded | F23: Laden | G23: Unladen | H23: Overloaded
C24: =C16*C20 -> 10.32 | D24: =D16*D20 -> 1.24 | E24: =E16*E20 -> 0 | F24: =F16*F20 -> 3.41 | G24: =G16*G20 -> 0.2 | H24: =H16*H20 -> 0 | I24: =ROUNDUP(SUM(C24:H24),2) -> 15.17 | K24: ESAL/per day | M24: =I24 -> 15.17
K26: Cumulative ESAL over 10 years | M26: =M24*4811*1 -> 72982.87
K28: Correction factor | M28: =IF(K4=0,1,(IF(AND(M10>100,M10<150),((((L43-L42)/(K43-K42))*(M10-K42))+L42),0)+IF(AND(M10>150,M10<200),((((L44-L43)/(K44-K43))*(M10-K43))+L43),0)+IF(AND(M10>200,M10<300),((((L45-L44)/(K45-K44))*(M10-K44))+L44),0)+IF(AND(M10>300,M10<400),((((L46-L45)/(K46-K45))*(M10-K45))+L45),0)+IF(AND(M10>400,M10<500),((((L47-L46)/(K47-K46))*(M10-K46))+L46),0))) -> 1
K30: Final cumulative ESAL | M30: =M26*M28 -> 72982.87
K32: Traffic Category | L32: T | M32: =IF(AND(M30>10000,M30<30000),1,0)+IF(AND(M30>30000,M30<60000),2,0)+IF(AND(M30>60000,M30<100000),3,0)+IF(AND(M30>100000,M30<200000),4,0)+IF(AND(M30>200000,M30<300000),5,0)+IF(AND(M30>300000,M30<600000),6,0)+IF(AND(M30>600000,M30<1000000),7,0) -> 3
G35: CASENO.
D36: CBR | E36: ='ESAL-result'!$E$29 -> 4 | G36: =IF(E36=2,1,0)+IF(AND(E36>=3,E36<=4),2,0)+IF(AND(E36>=5,E36<=6),3,0)+IF(AND(E36>=7,E36<=9),4,0)+IF(AND(E36>=10,E36<=15),5,0) -> 2 | I36: Traffic Category | J36: T | K36: =M32 -> 3
B39: PAVEMENT LAYERS
H40: THICKNESS | J40: correction factor interpolation
E41: BITUMINOUS SURFACE TREATED WBM/CRMB | H41: =INDEX('ESAL-Data'!B30:H34,'ESAL-calculation '!G36,'ESAL-calculation '!M32) -> 75
E42: WBM/CRMB/ BASE OF GRAVEL | H42: =INDEX('ESAL-Data'!B23:H27,'ESAL-calculation '!G36,'ESAL-calculation '!M32) -> 100 | K42: 100 | L42: 1.7
E43: GRAVEL BASE | H43: =INDEX('ESAL-Data'!B16:H20,'ESAL-calculation '!G36,'ESAL-calculation '!M32) -> 0 | K43: 150 | L43: 1.25
E44: GRANULAR SUBASE | H44: =INDEX('ESAL-Data'!B9:H13,'ESAL-calculation '!G36,'ESAL-calculation '!M32) -> 150 | K44: 200 | L44: 1.2
E45: IMPROVED SUBGRADE | H45: =INDEX('ESAL-Data'!B2:H6,'ESAL-calculation '!G36,'ESAL-calculation '!M32) -> 0 | K45: 300 | L45: 1.15
K46: 400 | L46: 1.1
F47: TOTAL THICKNESS | H47: =SUM(H41:H45) -> 325 | K47: 500 | L47: 1.07

Sheet ESAL-Data
A1: CBR | B1: 1 | C1: 2 | D1: 3 | E1: 4 | F1: 5 | G1: 6 | H1: 7
A2: 1 | B2: 100 | C2: 100 | D2: 100 | E2: 150 | F2: 150 | G2: 150 | H2: 225
A3: 2 | B3: 0 | C3: 0 | D3: 0 | E3: 100 | F3: 150 | G3: 150 | H3: 150
A4: 3 | B4: 0 | C4: 0 | D4: 0 | E4: 0 | F4: 0 | G4: 100 | H4: 100 | J4: Modified soil/improved subgrade
A5: 4 | B5: 0 | C5: 0 | D5: 0 | E5: 0 | F5: 0 | G5: 0 | H5: 0
A6: 5 | B6: 0 | C6: 0 | D6: 0 | E6: 0 | F6: 0 | G6: 0 | H6: 0
A8: CBR | B8: 1 | C8: 2 | D8: 3 | E8: 4 | F8: 5 | G8: 6 | H8: 7
A9: 1 | B9: 0 | C9: 0 | D9: 100 | E9: 100 | F9: 150 | G9: 225 | H9: 200
A10: 2 | B10: 0 | C10: 0 | D10: 150 | E10: 100 | F10: 100 | G10: 100 | H10: 150 | J10: Granular subbase
A11: 3 | B11: 0 | C11: 0 | D11: 0 | E11: 125 | F11: 150 | G11: 100 | H11: 100
A12: 4 | B12: 0 | C12: 0 | D12: 0 | E12: 100 | F12: 125 | G12: 150 | H12: 150
A13: 5 | B13: 0 | C13: 0 | D13: 0 | E13: 0 | F13: 100 | G13: 125 | H13: 125
A15: CBR | B15: 1 | C15: 2 | D15: 3 | E15: 4 | F15: 5 | G15: 6 | H15: 7
A16: 1 | B16: 200 | C16: 150 | D16: 0 | E16: 0 | F16: 0 | G16: 0 | H16: 0
A17: 2 | B17: 200 | C17: 275 | D17: 0 | E17: 0 | F17: 0 | G17: 0 | H17: 0 | J17: Gravel Base
A18: 3 | B18: 175 | C18: 250 | D18: 275 | E18: 0 | F18: 0 | G18: 0 | H18: 0
A19: 4 | B19: 150 | C19: 175 | D19: 225 | E19: 0 | F19: 0 | G19: 0 | H19: 0
A20: 5 | B20: 125 | C20: 150 | D20: 175 | E20: 0 | F20: 0 | G20: 0 | H20: 0
A22: CBR | B22: 1 | C22: 2 | D22: 3 | E22: 4 | F22: 5 | G22: 6 | H22: 7
A23: 1 | B23: 0 | C23: 0 | D23: 100 | E23: 100 | F23: 100 | G23: 100 | H23: 150
A24: 2 | B24: 0 | C24: 0 | D24: 100 | E24: 100 | F24: 100 | G24: 150 | H24: 150 | J24: WBM/CRMB
A25: 3 | B25: 0 | C25: 0 | D25: 0 | E25: 100 | F25: 100 | G25: 100 | H25: 150
A26: 4 | B26: 0 | C26: 0 | D26: 0 | E26: 100 | F26: 100 | G26: 100 | H26: 150
A27: 5 | B27: 0 | C27: 0 | D27: 0 | E27: 150 | F27: 100 | G27: 100 | H27: 150
A29: CBR | B29: 1 | C29: 2 | D29: 3 | E29: 4 | F29: 5 | G29: 6 | H29: 7
A30: 1 | B30: 0 | C30: 75 | D30: 75 | E30: 75 | F30: 75 | G30: 75 | H30: 75
A31: 2 | B31: 0 | C31: 0 | D31: 75 | E31: 75 | F31: 75 | G31: 75 | H31: 75 | J31: Bituminous surface Treated WBM/CRMB
A32: 3 | B32: 0 | C32: 0 | D32: 0 | E32: 75 | F32: 75 | G32: 75 | H32: 75
A33: 4 | B33: 0 | C33: 0 | D33: 0 | E33: 75 | F33: 75 | G33: 75 | H33: 75
A34: 5 | B34: 0 | C34: 0 | D34: 0 | E34: 75 | F34: 75 | G34: 75 | H34: 75

Sheet Cover
C3: GOVERNMENT OF TELANGANA
D7: PANCHAYATRAJ ENGINEERING DEPARTMENT
C12: Name of Grant | I12: : | J12: CRR -2018-19
C15: Name of Work:-
C16: ='Input Data'!E1 -> R/F A to B in Wanaparthy Mandal of Wanaparthy District
D21: Amount Sanctioned | K21: : | L21: Rs. | M21: =+'Input Data'!$J$4 -> 100 | O21: Lakhs
D22: Sanctioned Length | K22: : | L22: =+'Input Data'!$J$5 -> 1 | N22: Km
C26: (P.R) Circle | G26: :: | H26: =+'Input Data'!$D$3 -> Warangal
C27: District | G27: :: | H27: =+'Input Data'!$D$4 -> Wanaparthy
C28: (P.R) Division | G28: :: | H28: =+'Input Data'!$D$5 -> Wanaparthy
C29: (P.R) Sub-Division | G29: :: | H29: =+'Input Data'!$D$6 -> Wanaparthy
C30: Mandal | G30: :: | H30: =+'Input Data'!$D$7 -> Wanaparthy

Sheet google-map

Sheet Schedule-A
A1: Schedule A (Part -I)
A2: Schedule of Rates and Approximate Quantities
A3: Name of the work : - | D3: =+'Input Data'!E1 -> R/F A to B in Wanaparthy Mandal of Wanaparthy District
A4: Estt.Cost Rs.. | C4: =+'Input Data'!J4 -> 100 | D4: Lakhs | E4: Grant | F4: ='Input Data'!J6 -> CRR-2024-25 | H4: ="NIT.No-"&'Input Data'!L5 -> NIT.No--
A5: A) | B5: The quanties here given are those upon which the lumpsum tender cost of work is based but they are subject to alteration, omissions, deductions, or additions as provided for in the conditions of this contract and do not necessarily show the actual quantities of work to be done. The total contract value and unit rates noted below are those governing payment of extras or deductions for omissions according to the conditions to the contract as set forth in the preliminary specifications of the AP Standard Specifications and other conditions of specification of this contract.
A6: B) | B6: It is to be expressly understood that the measured work is to be taken net (not withstanding any custom or practice to the contrary) according to the actual quantities when in place and finished according to the drawings or as may be ordered from time to time by the Executive Engineer and the cost calculated by measurmeent or weight, at their respective rates wihtout any additional charge for any necessary or contingent works connected works connected therewith. The total contract value is for works in situ and complete in every respect.
A7: C) | B7: Additions and alterations in the Schedule of quantities will disqualify the tender
A8: D) | B8: In case of discrepancies between the written description of the item in the Schedule 'A" and the detailed description in the specification of the same item, the latter shall be adopted.
A9: Sl.No | B9: Probable quantity both in figures | C9: Per | D9: Description of works | E9: MoRD/ MoRT&H specification | F9: Unit of Measurement in figures and words | G9: Rate in figures | H9: Amount
A10: 1 | B10: 2 | C10: 3 | D10: 4 | E10: 5 | F10: 6 | G10: 7 | H10: 8
C11: 1 | D11: Road Portion | L11: 1 | M11: 0 | N11: =H11 -> 0
A12: =L12 -> 1 | B12: ='Road Estimate'!I8 -> 3000 | C12: Sqm | D12: ='Road Estimate'!B5 -> Clearing and grubbing road land including uprooting rank vegetation, grass, bushes, shrubs, saplings and trees girth up to 300 mm, removal of stumps of trees cut earlier and disposal of unserviceable materials and stacking of serviceable material to be used or auctioned, up to a lead of 1000 metres including removal and disposal of top organic soil not exceeding 150 mm in thickness by Mechanical means as per the Techinical Specification Clause 201 MoRTH 5th Revision | E12: 201 MoRTH | F12: 1.00 Sqm | G12: ='Road Estimate'!$J$8 -> 3.93 | H12: =ROUND(B12*G12,0) -> 11790 | L12: =IF(M12=M11,0,M12) -> 1 | M12: =IF(N12>0,(M11+1),M11) -> 1 | N12: =H12 -> 11790
A13: =L13 -> 0 | B13: ='Road Estimate'!I12 -> 0 | C13: cum | D13: ='Road Estimate'!B10 -> Scarifying the granular surface to a depth of 50 mm by Mechanical means and re-using the scarified material with all leads and lifts as per MoRT&H (5th Revision) Specn. No.305.4.3 | E13: 305.3.4 MoRTH | F13: 1 Cum | G13: ='Road Estimate'!J12 -> 43.84 | H13: =ROUND(B13*G13,0) -> 0 | L13: =IF(M13=M12,0,M13) -> 0 | M13: =IF(N13>0,(M12+1),M12) -> 1 | N13: =H13 -> 0
A14: =L14 -> 0 | B14: ='Road Estimate'!I16 -> 0 | C14: cum | D14: ='Road Estimate'!B14 -> Excavation for roadwork in soil by mechanical means including cutting and pushing the earth to the site of Embankment upto a lead of 100m,including trimming bottom and side slopes, in accordance with requirements of lines, grades and cross sections as per Technical sanction Clause 302.3MORD/301 MORTH including overhead charges& Contractor's profit but excluding seignioarge charges for finished item of work . | E14: 305 MoRTH | F14: 1 Cum | G14: ='Road Estimate'!$J$16 -> 127.41 | H14: =ROUND(B14*G14,0) -> 0 | L14: =IF(M14=M13,0,M14) -> 0 | M14: =IF(N14>0,(M13+1),M13) -> 1 | N14: =H14 -> 0
A15: =L15 -> 2 | B15: ='Road Estimate'!I20 -> 2500 | C15: cum | D15: ='Road Estimate'!B18 -> Forming Embankment with material obtained from borrowed useful earth from outside road boundary by mechanical means upto SDR with all leads and lifts including pre-watering of soil at borrow area, removal of top soil, excavation of soils at borrowed area, conveyance of soil, depositing the soil on the embankment, spreading soil, breaking clods, sectioning, grading and consolidation with 8 to 10 Tonnes Vibratory Road Roller @ OMC to meet requirement of table 300-2 of MoRT&H, including all hire and operational charges of T&P, complete for finished item of work as per MoRT&H specification 305 (5th revision). (The soil CBR>10%, PI<18% & MDD>1.8 g/cc) | E15: 305 MoRTH | F15: 1 Cum | G15: ='Road Estimate'!$J$20 -> 270.81 | H15: =ROUND(B15*G15,0) -> 677025 | L15: =IF(M15=M14,0,M15) -> 2 | M15: =IF(N15>0,(M14+1),M14) -> 2 | N15: =H15 -> 677025
A16: =L16 -> 0 | B16: ='Road Estimate'!I24 -> 0 | C16: Sqm | D16: ='Road Estimate'!B22 -> Scarifying the existing bitumen surface to a depth of 50 mm by Mechanical means and disposal of scarified material with all leads and lifts upto 1000 Mtrs as per MoRT&H (5th Revision) Specn. No.305.4.3 | E16: 305.4.3 MoRTH | F16: 1 Sqm | G16: ='Road Estimate'!$J$24 -> 10.22 | H16: =ROUND(B16*G16,0) -> 0 | L16: =IF(M16=M15,0,M16) -> 0 | M16: =IF(N16>0,(M15+1),M15) -> 2 | N16: =H16 -> 0
A17: =L17 -> 3 | B17: ='Road Estimate'!I30 -> 600 | C17: cum | D17: ='Road Estimate'!B26 -> Construction of earthen shoulders with selective soils obtained from borrow pits with MDD of 18 KN/Cum , CBR ≥ 12%, PI < 12% from approved sources, grading and consoilidation with 8 to 10 Tonnes Vibratory Road Roller @ OMC to meet requirement of MoRT&H, including all hire and operational charges of T&P complete for finished item of work as per MoRT&H specification 305 (5th revision) | E17: 305 MoRTH | F17: 1 Cum | G17: ='Road Estimate'!$J$30 -> 288.3 | H17: =ROUND(B17*G17,0) -> 172980 | L17: =IF(M17=M16,0,M17) -> 3 | M17: =IF(N17>0,(M16+1),M16) -> 3 | N17: =H17 -> 172980
A18: =L18 -> 4 | B18: ='Road Estimate'!I36 -> 640 | C18: cum | D18: ='Road Estimate'!B32 -> Construction of Granular sub-base by providing HBG material confirming to Grading - VI of MoRT&H (Table 400-1 & 400-2) including cost, and conveyance of all materials to work site and spreading in uniform layers with motor grader or by approved means, on prepared surface mixing by mix-in-place method with rotavator / approved means at OMC and compacting with vibratory roller to achieve CBR value minimum of 30% at 98% of dry density and PI value maximum 6, complete for finished item of work as per MoRT&H Specification 401 (5th revision) including contractors profit & Over head charges excluding Seignarage charges etc | E18: 401 MoRTH | F18: 1 Cum | G18: ='Road Estimate'!$J$36 -> 2686.07 | H18: =ROUND(B18*G18,0) -> 1719085 | L18: =IF(M18=M17,0,M18) -> 4 | M18: =IF(N18>0,(M17+1),M17) -> 4 | N18: =H18 -> 1719085
A19: =L19 -> 0 | B19: ='Road Estimate'!I41 -> 0 | C19: cum | D19: ='Road Estimate'!B38 -> Providing, laying, spreading and compacting stone aggregates of specific sizes for Grading 2 material to water bound macadam specification including spreading in uniform thickness, hand packing, rolling with Vibratory roller 80-100 kN in stages to proper grade and camber, applying and brooming, stone screening/binding materials to fill-up the interstices of coarse aggregate, watering and compacting to the required density grading 2, as directed by the Engineer-in-Charge and as per Technical Specification Clause 404 MoRT&H ( 5th revision ) . For compacted thickness of 75 mm. including all over heads , and Contractors profit etc,But excluding VAT & Seignarage charges., Complete, for WBM Grading II ( Hand Broken) HBG metal | E19: 404 MoRTH | F19: 1 Cum | G19: ='Road Estimate'!$J$41 -> 2889.56 | H19: =ROUND(B19*G19,0) -> 0 | L19: =IF(M19=M18,0,M19) -> 0 | M19: =IF(N19>0,(M18+1),M18) -> 4 | N19: =H19 -> 0
A20: =L20 -> 0 | B20: ='Road Estimate'!I46 -> 0 | C20: cum | D20: ='Road Estimate'!B43 -> Providing, laying, spreading and compacting stone aggregates of specific sizes for Grading 3 material to to water bound macadam specification including spreading in uniform thickness, hand packing, rolling with Vibratory roller 80-100 kN in stages to proper grade and camber, applying and brooming, stone screening to fill-up the interstices of coarse aggregate, watering and compacting to the required density Grading 3, as directed by the Engineer-in-Charge and as per Technical Specification Clause 404 MoRT&H ( 5th revision ) .. For compacted thickness of 75 mm. including all over heads , and Contractors profit etc excluding Seignarage charges complete for WBM Grading III ( Machine Crushed) HBG metal | E20: 404 MoRTH | F20: 1 Cum | G20: ='Road Estimate'!$J$46 -> 3079 | H20: =ROUND(B20*G20,0) -> 0 | L20: =IF(M20=M19,0,M20) -> 0 | M20: =IF(N20>0,(M19+1),M19) -> 4 | N20: =H20 -> 0
A21: =L21 -> 5 | B21: ='Road Estimate'!I52 -> 506.25 | C21: cum | D21: ='Road Estimate'!B48 -> Providing, laying, spreading and compacting graded stone aggregate to Wet mix macadam specification including premixing the material with water at OMC in mechanical mixer (Pug Mill), carriage of mixed material by tipper to site, laying in uniform layers in sub-base/base course on a well prepared sub-base and compacting with Vibratory roller of 80 to 100kN to achieve the desired density including lighting, barricading and maintenance of diversion, etc as directed by the Engineer-in-Charge and as per Technical Specification Clause 406 MoRT&H ( 5th revision ), including overhead charges & Contractor profit excluding Seignarage charges etc complete. | E21: 406 MoRTH | F21: 1 Cum | G21: ='Road Estimate'!$J$52 -> 3062.5 | H21: =ROUND(B21*G21,0) -> 1550391 | L21: =IF(M21=M20,0,M21) -> 5 | M21: =IF(N21>0,(M20+1),M20) -> 5 | N21: =H21 -> 1550391
A22: =L22 -> 6 | B22: ='Road Estimate'!I57 -> 3000 | C22: Sqm | D22: ='Road Estimate'!B54 -> Providing and applying primer coat with bitumen emulsion (SS-1) on prepared surface of granular base including cleaning of road surface and spraying primer at the rate of 0.60 kg/sqm using mechanical means, as directed by the Engineer-in-Charge and as per Technical Specification Clause 502 MoRT&H (5th Revision) (for use on Wet mix macadam & WBM) ,including overhead charges & Contractors profit excluding Seignarage charges etc complete. | E22: 502 MoRTH | F22: 1 Sqm | G22: ='Road Estimate'!$J$57 -> 55.37 | H22: =ROUND(B22*G22,0) -> 166110 | L22: =IF(M22=M21,0,M22) -> 6 | M22: =IF(N22>0,(M21+1),M21) -> 6 | N22: =H22 -> 166110
A23: =L23 -> 7 | B23: ='Road Estimate'!I62 -> 3000 | C23: Sqm | D23: ='Road Estimate'!B59 -> Providing and applying tack coat with Bitumen emulsion (RS-1) using emulsion distributor at the rate of 0.275 kg per sqm on the prepared granular surfaces treated with primer & cleaned with Hydraulic broom,as directed by the Engineer-in-Charge and as per Technical Specification Clause 503 MoRT&H (5th Revision), including overhead charges & Contractors profit excluding Seignarage charges etc complete. | E23: 502 MoRTH | F23: 1 Sqm | G23: ='Road Estimate'!$J$62 -> 15.66 | H23: =ROUND(B23*G23,0) -> 46980 | L23: =IF(M23=M22,0,M23) -> 7 | M23: =IF(N23>0,(M22+1),M22) -> 7 | N23: =H23 -> 46980
