Workbook
Name \: #REF!
Name \P: #REF!
Name ______________bla1: [1]leads!$H$7
Name ______________cur1: [2]r!$F$30
Name ______________l1: [3]leads!$A$3:$E$108
Name ______________l12: #REF!
Name ______________l2: [2]r!$F$29
Name ______________l3: #REF!
Name ______________l4: [4]Sheet1!$W$2:$Y$103
Name ______________l5: #REF!
Name ______________l6: [2]r!$F$4
Name ______________l7: [5]r!$F$4
Name ______________l8: [2]r!$F$2
Name ______________l9: [2]r!$F$3
Name ______________mm1: [6]r!$F$4
Name ______________mm11: [2]r!$F$4
Name ______________mm111: [5]r!$F$4
Name ______________pc2: #REF!
Name ______________pv2: #REF!
Name ______________rr3: [7]v!$A$2:$E$51
Name ______________rrr1: [7]r!$B$1:$I$145
Name ______________ss12: [8]rdamdata!$J$8
Name ______________ss20: [8]rdamdata!$J$7
Name ______________ss40: [8]rdamdata!$J$6
Name ______________var1: #REF!
Name ______________var4: #REF!
Name _____________bla1: [9]leads!$H$7
Name _____________cur1: [2]r!$F$30
Name _____________l1: [10]leads!$A$3:$E$108
Name _____________l12: #REF!
Name _____________l2: [2]r!$F$29
Name _____________l3: #REF!
Name _____________l4: [11]Sheet1!$W$2:$Y$103
Name _____________l5: #REF!
Name _____________l6: [2]r!$F$4
Name _____________l7: [5]r!$F$4
Name _____________l8: [2]r!$F$2
Name _____________l9: [2]r!$F$3
Name _____________mm1: [12]r!$F$4
Name _____________mm11: [2]r!$F$4
Name _____________mm111: [5]r!$F$4
Name _____________pc2: #REF!
Name _____________pv2: #REF!
Name _____________rr3: [13]v!$A$2:$E$51
Name _____________rrr1: [13]r!$B$1:$I$145
Name _____________ss12: [14]rdamdata!$J$8
Name _____________ss20: [14]rdamdata!$J$7
Name _____________ss40: [14]rdamdata!$J$6
Name _____________var1: #REF!
Name _____________var4: #REF!
Name ____________bla1: [15]leads!$H$7
Name ____________cur1: [2]r!$F$30
Name ____________l1: [16]leads!$A$3:$E$108
Name ____________l12: #REF!
Name ____________l2: [2]r!$F$29
Name ____________l3: #REF!
Name ____________l4: [17]Sheet1!$W$2:$Y$103
Name ____________l5: #REF!
Name ____________l6: [2]r!$F$4
Name ____________l7: [5]r!$F$4

Sheet 0000000000000

Sheet INPUT
B1: Enter Procg Sl No. | D1: 36
B2: Name of the Work:- | D2: =+VLOOKUP($D$1,'EGS List of works'!$A$5:$I$15,7,0)&" in "&D9&"(GP) of "&D8&"(M), "&D5&" District." -> Construction of CC Road in Bairanpalli(GP) of Maddur(M), Siddipet District. | K2: Update Green colour cells only
H3: Sanction Details
B4: 1 | C4: (P.R) Circle | D4: Siddipet | H4: Administrative sanction Ref. | I4: Proc. No.04/EE/PR Division/Gajwel/MGNREGS Works/2024-25-I, Date:23/11/2024 of District Collector,Siddipet
B5: 2 | C5: District | D5: Siddipet | H5: Sanctioned Amount | I5: Rs. in Lakhs | J5: =VLOOKUP($D$1,'EGS List of works'!$A$5:$I$15,8,0) -> 10 | K5: LS amount
B6: 3 | C6: (P.R) Division | D6: PIU-Gajwel | H6: Sanctioned Length | I6: In m | J6: 270 | K6: ='Det Estt'!L33 -> 5175
B7: 4 | C7: (P.R) Sub-Division | D7: Cherial | H7: Grant | I7: MGNREGS 2024-25
B8: 5 | C8: Mandal | D8: =VLOOKUP($D$1,'EGS List of works'!$A$5:$I$15,4,0) -> Maddur | H8: TS Date | I8: . .2024
B9: 6 | C9: Village Name | D9: =VLOOKUP($D$1,'EGS List of works'!$A$5:$I$15,5,0) -> Bairanpalli | H9: Proposal date | I9: 23.11.2024
B11: Lead Distance
B12: S.No | C12: Item | D12: Source of Material | E12: Km
B13: 1 | C13: Metal | D13: Yellamla | E13: 44
B14: 3 | C14: Sand concrete | D14: Mahadevpur | E14: 156
B15: 4 | C15: Sand for filling | D15: Local | E15: 5
B16: 5 | C16: Gravel | D16: Local | E16: 5
B17: 6 | C17: Bricks | D17: Local
B18: 7 | C18: Rock Sand | D18: Keesara | E18: 81
B19: 8 | C19: Borrowed earth | E19: 5
B20: 9 | C20: Selected earth for shoulder | H20: Rates as on | I20: 45566 | J20: 45536
B21: 10 | C21: BT Lead in Kms (Round Trip)
B22: Allowance | G22: Cement & Steel Rates
B23: 1 | C23: MAA/AA | D23: 0 | G23: S.No | H23: Item | I23: Amount in Rs.
B24: 2 | C24: OHC- Road Work | D24: 0 | E24: 0 | G24: 1 | H24: ="Cement, "&I20&"" -> Cement, 45566 | I24: 5000
B25: 3 | C25: OHC- Bridge Work | D25: 0 | G25: 2 | H25: ="Steel HYSD/TMT Primary producers, "&I20&"" -> Steel HYSD/TMT Primary producers, 45566 | I25: 56000
B26: 4 | C26: Water cost Allowed Y/N | D26: N | G26: 3 | H26: ="Mild Steel Bars, "&I20&"" -> Mild Steel Bars, 45566 | I26: 60000
G27: 4 | H27: ="6mm M.S. Rods, "&I20&"" -> 6mm M.S. Rods, 45566 | I27: 55000
C30: Designation

Sheet EGS List of works
A1: ANNEXURE-I
A2: LIST OF WORKS UNDER MGNREGS GRANT FOR THE FINANCIAL YEAR 2024-25 IN MANCHERIAL DISTRICT
A3: Sl. No | B3: Procg Sl No. | C3: Name of the Constituency | D3: Name of the Mandal | E3: Name of the Gram Panchayat | F3: Name of the Habitation/Village | G3: Name of the Work | H3: Estimate Cost in Lakhs | I3: Remarks
A4: 1 | B4: 2 | C4: 3 | D4: 4 | E4: 5 | F4: 6 | G4: 7 | H4: 8 | I4: 9
A5: 31 | B5: 31 | C5: Jangaon | D5: Maddur | E5: Narsaipally | F5: =E5 -> Narsaipally | G5: Construction of CC Road | H5: 10
A6: =A5+1 -> 32 | B6: =B5+1 -> 32 | C6: Jangaon | D6: Maddur | E6: Rebarthi | F6: =E6 -> Rebarthi | G6: Construction of CC Road | H6: 10
A7: =A6+1 -> 33 | B7: =B6+1 -> 33 | C7: Jangaon | D7: Maddur | E7: Salakpur | F7: =E7 -> Salakpur | G7: Construction of CC Road | H7: 10
A8: =A7+1 -> 34 | B8: =B7+1 -> 34 | C8: Jangaon | D8: Maddur | E8: Marmamula | F8: =E8 -> Marmamula | G8: Construction of CC Road | H8: 10
A9: =A8+1 -> 35 | B9: =B8+1 -> 35 | C9: Jangaon | D9: Maddur | E9: Kamalaypally | F9: =E9 -> Kamalaypally | G9: Construction of CC Road | H9: 10
A10: =A9+1 -> 36 | B10: =B9+1 -> 36 | C10: Jangaon | D10: Maddur | E10: Bairanpalli | F10: =E10 -> Bairanpalli | G10: Construction of CC Road | H10: 10
A11: =A10+1 -> 37 | B11: =B10+1 -> 37 | C11: Jangaon | D11: Maddur | E11: Dhoolmitta | F11: =E11 -> Dhoolmitta | G11: Construction of CC Road | H11: 10
A12: =A11+1 -> 38 | B12: =B11+1 -> 38 | C12: Jangaon | D12: Maddur | E12: Lingapur | F12: =E12 -> Lingapur | G12: Construction of CC Road | H12: 10
A13: =A12+1 -> 39 | B13: =B12+1 -> 39 | C13: Jangaon | D13: Maddur | E13: Kondapur | F13: =E13 -> Kondapur | G13: Construction of CC Road | H13: 10
A14: =A13+1 -> 40 | B14: =B13+1 -> 40 | C14: Jangaon | D14: Maddur | E14: Vallampatla | F14: =E14 -> Vallampatla | G14: Construction of CC Road | H14: 10
A15: =A14+1 -> 41 | B15: =B14+1 -> 41 | C15: Jangaon | D15: Maddur | E15: Ladnoor | F15: =E15 -> Ladnoor | G15: Construction of CC Road | H15: 10
F16: CHENNUR COST. TOTAL (54) | H16: =SUM(H5:H15) -> 110 | J16: =36+12+67+51+54 -> 220

Sheet Cover
B21: Name of the worK | E21: =INPUT!D2 -> Construction of CC Road in Bairanpalli(GP) of Maddur(M), Siddipet District.
B22: Estimate Cost | D22: : | E22: =INPUT!J5 -> 10
B23: Grant | D23: : | E23: =INPUT!I7 -> MGNREGS 2024-25
B24: Gram Pancahyat | D24: : | E24: =INPUT!D9 -> Bairanpalli
B25: Mandal | D25: : | E25: =INPUT!D8 -> Maddur
B26: Sub-Division | D26: : | E26: =INPUT!D7 -> Cherial
B27: Division | D27: : | E27: =INPUT!D5 -> Siddipet

Sheet Input data Metal 
A6: Rural Development Department
A7: MGNREGS - TS : DETAILED AND ABSTRACT ESTIMATE
B8: STATE: | C8: TELANGANA | F8: Dist: | G8: =INPUT!D5 -> Siddipet | I8: Mandal: | J8: =INPUT!D8 -> Maddur
B10: Financial Year: 2024-25 | F10: Priority | G10: 1 | H10: Proposal Date : | I10: =INPUT!I9 -> 23.11.2024
B12: Work Name : | D12: Construction of CC Road | F12: Road Name : | G12: =INPUT!D2 -> Construction of CC Road in Bairanpalli(GP) of Maddur(M), Siddipet District.
B14: Estimated Persondays (In thousands) | D14: =(J57/237)/1000 -> 0.036620253 | F14: Estimated Cost : ( In Lakhs) | G14: =INPUT!J5 -> 10
B16: Start Location | D16: Block : | E16: =J8 -> Maddur | F16: Panchayat: | G16: =INPUT!D9 -> Bairanpalli
D17: Village : | E17: =G16 -> Bairanpalli | F17: Khata No : | I17: Plot No:
B19: Panchayat is declared for GIS Plan : | E19: Yes | F19: Confirm current work is related to GIS Plan : | I19: No
B21: End Location | D21: Block | E21: =INPUT!D8 -> Maddur | F21: Panchayat: | G21: =INPUT!D9 -> Bairanpalli
D22: Village : | E22: =INPUT!D9 -> Bairanpalli | F22: Khata No : | I22: Plot No: | M22: 18.958396 | N22: 79.532835
B24: Lattitude: | F24: Longitude:
B26: From R.D | C26: 0/000 | D26: Kms | E26: To R.D. | F26: ="0/0"&'Det Estt'!F11 -> 0/0270 | G26: Kms | H26: Total Length Covered | I26: ='Det Estt'!F11/1000 -> 0.27 | J26: Kms
C28: Stretch | D28: From R.D | E28: To R.D | F28: Total Distance Covered in Kms | G28: Start Status | H28: End Status
C29: 1 | D29: =C26 -> 0/000 | E29: =F26 -> 0/0270 | F29: =I26 -> 0.27 | G29: Gravel | H29: Gravel
C30: 2
B32: Whether assigned to SHG | E32: No | F32: SHG:
B34: Whether Developing Nutrigarden ? :
B36: Executing Level : | D36: Gram Panchayat | F36: Executing Agency : | G36: Panchayat Raj Engineering Department
B38: Work Status : | D38: Not started | F38: Expected work start date: | H38: 45646
B40: Whether included in annual Plan: | E40: No | F40: Whether included in Perspective Plan: | I40: No
B41: Is it a railway related work: | E41: No | F41: Will this work Spill over to next year : | I41: No
B42: Is it a convergent work: | E42: No
B45: S.No | C45: Act Code | D45: Activity | H45: Unit Price | I45: Quantity | J45: Total Price
B46: 1 | C46: 16682_D | D46: Engaging unskilled labour for earthwork excavation in Ordinary soils at site with initial lead and initial lift and breaking clods and sectioning for formation of embankment for roads(RSSR) | H46: ='Data '!G10 -> 306.33 | I46: ='Det Estt'!I9 -> 20.25 | J46: ='Det Estt'!L9 -> 6203
B47: 2 | C47: ACT0039 | D47: cost and conveyance of sand for filling including all charges but excluding labour charges for filling | H47: ='Det Estt'!J12 -> 352.47605 | I47: ='Det Estt'!I12 -> 40.5 | J47: ='Det Estt'!L12 -> 14275
B48: 3 | C48: ACT0041 | D48: Unskilled labour charges for spreading the collected gravel/sand material and sectioning for sub-base,blidage and shoulder | H48: ='Det Estt'!J15 -> 36.39 | I48: =I47 -> 40.5 | J48: ='Det Estt'!L15 -> 1474
B49: 4 | C49: ACT0043 | D49: Collecton and supply of Gravel for base/shoulder including cost and conveyance ,labour charges and stacking to departmental guage for pre-measurements | H49: ='Det Estt'!J21 -> 173.07605 | I49: ='Det Estt'!I21 -> 27.54 | J49: ='Det Estt'!L21 -> 4767
B50: 5 | D50: Unskilled labour charges for spreading the collected gravel and sectioning for shoulder including breaking of clods, trimming, manual compaction using dimmissa | H50: ='Det Estt'!J24 -> 36.39 | I50: =I49 -> 27.54 | J50: ='Det Estt'!L24 -> 1002
B51: 6 | C51: ACT0047 | D51: Construction of un-reinforced plain cement concrete pavement, thickness as per design, over a prepared sub base,with Nominal Mix of VCC (1:2:4) equivalent to M20 grade as per IS 456-2000 with 330 kgs of cement per cubic meter of concrete for internal roads with 43 grade cement or any other type | H51: ='Det Estt'!J18 -> 7128.7352 | I51: ='Det Estt'!I18 -> 133.65 | J51: ='Det Estt'!L18 -> 952755
B52: 7 | D52: Core Cutting Charges | H52: ='Det Estt'!L26 -> 5400 | I52: 1 | J52: ='Det Estt'!L26 -> 5400
B53: 8 | C53: ACT0050 | D53: Name board brick pedestal including painting and required letters | H53: ='Det Estt'!J29 -> 4000 | I53: 1 | J53: =H53 -> 4000
J54: =SUM(J46:J53) -> 989876
A56: A. | B56: WAGE COMPONENT (UNSKILLED LABOUR)
B57: Amount for wage Component | J57: ='Det Estt'!L9+'Det Estt'!L15+'Det Estt'!L24 -> 8679
A59: B. | C59: MATERIAL REQUIREMENT | F59: QUANTITY | G59: UNIT | H59: RATE | I59: AMOUNT
C60: Cement | F60: =('Det Estt'!I17*330)/50 -> 882.09 | G60: Bags | H60: =('Lead 2024-25'!L13/1000)*50 -> 320 | I60: =F60*H60 -> 282268.8
C61: Sand for filling | F61: ='Det Estt'!I12 -> 40.5 | G61: cum | H61: ='Data '!I18 -> 352.47605 | I61: =F61*H61 -> 14275.28
C62: Sand for concrete | F62: ='Det Estt'!I17*0.45 -> 60.1425 | G62: cum | H62: ='Det Estt'!J12 -> 352.47605 | I62: =F62*H62 -> 21198.791
C63: Metal | D63: (i) 20 mm | F63: ='Det Estt'!I17*0.594 -> 79.3881 | G63: cum | H63: ='Data '!F72 -> 1838.4625 | I63: =F63*H63 -> 145952.05
...

Sheet Sp.Rep
A1: SPECIFICATION REPORT
A3: =Cover!B21 -> Name of the worK | D3: =INPUT!D2 -> Construction of CC Road in Bairanpalli(GP) of Maddur(M), Siddipet District.
A5: =+"Grant : "&INPUT!I7 -> Grant : MGNREGS 2024-25 | G5: Est.Cost: | H5: =INPUT!J5 -> 10
A7: =+" The work is administratively sanctioned under "&INPUT!I7&" Grant vide "&INPUT!I4&" with an estimated cost of Rs."&INPUT!J5&" Lakhs. The detailed estimate is prepared with the following provisions" -> The work is administratively sanctioned under MGNREGS 2024-25 Grant vide Proc. No.04/EE/PR Division/Gajwel/MGNREGS Works/2024-25-I, Date:23/11/2024 of District Collector,Siddipet with an estimated cost of Rs.10 Lakhs. The detailed estimate is prepared with the following provisions
A9: 1 | B9: ='Det Estt'!B7 -> Earth Work Eaxcavation and Depositing on the bank with an initial lead of 10mts and lift of 2mts in loamy and claye soils like BC,red earth
A10: =A9+1 -> 2 | B10: ='Det Estt'!#REF! -> #REF!
A11: 2 | B11: ='Det Estt'!B10:H10 -> Filling the excavated road way with Gravel including cost and conveyance,labour charges,watering,tempering etc.,complete.
A12: 3 | B12: ='Det Estt'!B13 -> Unskilled labour charges for spreading the sand for levelling course including watering and ramming
A13: 4 | B13: ='Det Estt'!B16:H16 -> Construction of un-reinforced plain cement concrete pavement, thickness as per design, over a prepared sub base,with Nominal Mix of VCC (1:2:4) equivalent to M20 grade as per IS 456-2000 with 330 kgs of cement per cubic meter of concrete for internal roads with 43 grade cement or any other type, coarse and fine aggregates conforming to IS : 383, maximum in a concrete mixer of not less than 0.2 cum capacity and appropriate weigh batcher using approved mix, laid in approved fixed side formwork (steel channel, laying and fixing of 125 mictron thick polythene film, wedges, steel plates including levelling the formwork as per drawing), spreading the concrete with sholvels, rakes, compacted using needle and plate vibrators and finished in continuous operation including provision of contraction and expansion, construction joints with High performance expansion joint filler board / using concrete cutting machine with diamond studded saw, applying debonding strips, primer, sealant, admixtures as approved, curing of concrete pavement for 14- days/curing compound (where specified) finishing to lines and grade as per drawing but excluding cost of High performance expansion joint filler board/ concrete groove cutting charges with daimond studded saw including all applicable taxes.
A14: 5 | B14: ='Det Estt'!B19:H19 -> Collection and supply of Gravel and stacking at road side to departmental guage including cost and conveyance of all materials and labour charges etc., complete, but excluding VAT & Seignorage Charges for Side Berms
A15: =A14+1 -> 6 | B15: ='Det Estt'!B22:H22 -> Spreading of gravel for side berms including watering and tamping and rolling with hand roller irrespective of thickness in layers
A16: 7 | B16: Core Cutting Charges
A17: 8 | B17: ='Det Estt'!B27 -> Supply and fixing of NREGS logo and informatory sign board of size (0.8X0.6) m
A18: 9 | B18: ='Det Estt'!B31:H31 -> Add 0.50% towards Q.C. Charges
A19: 10 | B19: ='Det Estt'!B33:H33 -> L.S. for Unforseen items
B21: The Detailed Estimate is prepared with the current SSR 2024-25.Hence an early sanction is solicited.
C22: =IF(Lead!$C$21="","",Lead!$C$21) -> Assistant Engineer
B23: ='Input data Metal '!D77 -> Asst. Exec.Engineer PR | G23: =IF(Cover!E22>5,"Dy.Executive Engineer"," ") -> Dy.Executive Engineer
B24: ='Input data Metal '!D78 -> MPP Maddur | G24: =IF(Cover!E22>5,"PR SD Chennur"," ") -> PR SD Chennur

Sheet Det Estt
A1: DETAILED AND ABSTRACT ESTIMATE
A2: =Cover!B21 -> Name of the worK | C2: =INPUT!D2 -> Construction of CC Road in Bairanpalli(GP) of Maddur(M), Siddipet District.
A3: =+"Grant : "&INPUT!I7 -> Grant : MGNREGS 2024-25 | K3: =Cover!B22 -> Estimate Cost | L3: =INPUT!J5 -> 10
A4: Sl. No. | B4: Description of item | C4: Nos. | F4: Measurements | I4: Quantity | J4: Rate | K4: Per | L4: Amount
F5: L | G5: B | H5: H/D
A6: 1 | B6: =A6+1 -> 2 | C6: =B6+1 -> 3 | F6: =C6+1 -> 4 | G6: =F6+1 -> 5 | H6: =G6+1 -> 6 | I6: =H6+1 -> 7 | J6: =I6+1 -> 8 | K6: =J6+1 -> 9 | L6: =K6+1 -> 10
A7: 1 | B7: ='Data '!C6 -> Earth Work Eaxcavation and Depositing on the bank with an initial lead of 10mts and lift of 2mts in loamy and claye soils like BC,red earth
C8: 1 | D8: x | E8: 1 | F8: =INPUT!J6 -> 270 | G8: =G11 -> 3 | H8: 0.025 | I8: =ROUND(C8*E8*F8*G8*H8,2) -> 20.25
F9: Labour Component | I9: =SUM(I8:I8) -> 20.25 | J9: ='Data '!G10 -> 306.33 | K9: 1 Cum | L9: =ROUND(I9*J9,0) -> 6203
A10: 2 | B10: ='Data '!C11 -> Filling the excavated road way with Gravel including cost and conveyance,labour charges,watering,tempering etc.,complete.
B11: for road levelling | C11: 1 | D11: x | E11: 1 | F11: =INPUT!J6 -> 270 | G11: 3 | H11: 0.05 | I11: =ROUND(C11*E11*F11*G11*H11,2) -> 40.5
F12: Material Component | I12: =I11 -> 40.5 | J12: ='Data '!G18 -> 352.47605 | K12: 1 Cum | L12: =ROUND(I12*J12,0) -> 14275
A13: 3 | B13: ='Data '!C19 -> Unskilled labour charges for spreading the sand for levelling course including watering and ramming
C14: 1 | D14: x | E14: 1 | F14: =F11 -> 270 | G14: =G11 -> 3 | H14: =H11 -> 0.05 | I14: =ROUND(C14*E14*F14*G14*H14,2) -> 40.5
F15: Labour Component | I15: =I14 -> 40.5 | J15: ='Data '!H20 -> 36.39 | K15: 1 Cum | L15: =ROUNDUP(J15*I15,0) -> 1474
A16: 4 | B16: ='Data '!C52 -> Construction of un-reinforced plain cement concrete pavement, thickness as per design, over a prepared sub base,with Nominal Mix of VCC (1:2:4) equivalent to M20 grade as per IS 456-2000 with 330 kgs of cement per cubic meter of concrete for internal roads with 43 grade cement or any other type, coarse and fine aggregates conforming to IS : 383, maximum in a concrete mixer of not less than 0.2 cum capacity and appropriate weigh batcher using approved mix, laid in approved fixed side formwork (steel channel, laying and fixing of 125 mictron thick polythene film, wedges, steel plates including levelling the formwork as per drawing), spreading the concrete with sholvels, rakes, compacted using needle and plate vibrators and finished in continuous operation including provision of contraction and expansion, construction joints with High performance expansion joint filler board / using concrete cutting machine with diamond studded saw, applying debonding strips, primer, sealant, admixtures as approved, curing of concrete pavement for 14- days/curing compound (where specified) finishing to lines and grade as per drawing but excluding cost of High performance expansion joint filler board/ concrete groove cutting charges with daimond studded saw including all applicable taxes.
C17: 1 | D17: x | E17: 1 | F17: =F11 -> 270 | G17: =G14 -> 3 | H17: 0.165 | I17: =ROUND(C17*E17*F17*G17*H17,2) -> 133.65
F18: Material Component | I18: =I17 -> 133.65 | J18: ='Data '!I85 -> 7128.7352 | K18: 1 Cum | L18: =ROUND(I18*J18,0) -> 952755
A19: 5 | B19: ='Data '!C102 -> Collection and supply of Gravel and stacking at road side to departmental guage including cost and conveyance of all materials and labour charges etc., complete, but excluding VAT & Seignorage Charges for Side Berms
C20: 1 | D20: x | E20: 2 | F20: =F17 -> 270 | G20: 0.3 | H20: 0.17 | I20: =ROUND(C20*E20*F20*G20*H20,2) -> 27.54
F21: Material Component | I21: =I20 -> 27.54 | J21: ='Data '!G104 -> 173.07605 | K21: 1 Cum | L21: =ROUND(I21*J21,0) -> 4767
A22: 6 | B22: =+'Data '!C106 -> Spreading of gravel for side berms including watering and tamping and rolling with hand roller irrespective of thickness in layers
C23: 1 | D23: x | E23: 2 | F23: =F20 -> 270 | G23: =G20 -> 0.3 | H23: 0.17 | I23: =ROUND(C23*E23*F23*G23*H23,2) -> 27.54
F24: Labour Component | I24: =I23 -> 27.54 | J24: ='Data '!G108 -> 36.39 | K24: 1 Cum | L24: =ROUND(I24*J24,0) -> 1002
A25: 7 | B25: ='Data '!C86 -> Cutting transverse contraction joints 3 to 4 mm wide and 1/3 rd depth of concrete slab using concrete groove cutting machine with diamond studded saw within 24 - 48 hours of casting of CC Pavement. complete including subsequent widening of the groove 8 to 10 mm. wide at top having depth of 15 mm. as directed by Engineer incharge.
C26: 1 | D26: x | E26: =ROUND(F17/3,0) -> 90 | I26: =E26 -> 90 | J26: ='Data '!I89 -> 60 | K26: 1 No | L26: =ROUND(I26*J26,0) -> 5400
A27: 8 | B27: Supply and fixing of NREGS logo and informatory sign board of size (0.8X0.6) m
C28: 1 | D28: x | E28: 1
F29: Material Component | I29: 1 | J29: 4000 | K29: LS | L29: =ROUND(I29*J29,0) -> 4000
L30: =SUM(L7:L29) -> 989876
A31: 9 | B31: Add 0.50% towards Q.C. Charges | L31: =ROUND(L30*0.5%,0) -> 4949
A32: 10 | B32: Add Seign. Charges | L32: 0 | N32: =SUM(L30:L32) -> 994825
A33: 10 | B33: L.S. for Unforseen items | L33: =L34-SUM(L30:L32) -> 5175
G34: TOTAL | L34: =Cover!E22*100000 -> 1000000 | N34: =N33-L34 -> -1000000
B37: ='Input data Metal '!D77 -> Asst. Exec.Engineer PR | G37: =IF(Cover!E22>5,"Dy.Executive Engineer"," ") -> Dy.Executive Engineer
B38: ='Input data Metal '!D78 -> MPP Maddur | G38: =IF(Cover!E22>5,"PR SD Cherial"," ") -> PR SD Cherial
B39: ="The work is administratively sanctioned under "&INPUT!I7&" Grant for an amount of Rs."&INPUT!J5&" Lakhs vide "&INPUT!I4 -> The work is administratively sanctioned under MGNREGS 2024-25 Grant for an amount of Rs.10 Lakhs vide Proc. No.04/EE/PR Division/Gajwel/MGNREGS Works/2024-25-I, Date:23/11/2024 of District Collector,Siddipet
B40: ="The Estimate is technically Sanctioned for an amount of Rs."&L34&".00 vide TS No. /2024-25 Dt:"&INPUT!I8 -> The Estimate is technically Sanctioned for an amount of Rs.1000000.00 vide TS No. /2024-25 Dt: . .2024
H42: =IF(Cover!E22>5,"Executive Engineer"," ") -> Executive Engineer
H43: =IF(Cover!E22>5,"PIU Gajwel"," ") -> PIU Gajwel
...

Sheet Data 
A1: DATA (2023-24)
A2: =Cover!B21 -> Name of the worK | C2: =INPUT!D2 -> Construction of CC Road in Bairanpalli(GP) of Maddur(M), Siddipet District.
A3: =+Cover!B23 -> Grant | C3: =INPUT!I7 -> MGNREGS 2024-25 | F3: =Lead!J4 -> Estimated Cost of Rs. | G3: =INPUT!J5 -> 10
A4: Sl. No. | C4: Description of item | D4: Unit | E4: Qty | F4: Rate | G4: Amount | H4: Labour Component | I4: Material Component
A5: 1 | C5: 2 | D5: 3 | E5: 4 | F5: 5 | G5: 6 | H5: 7 | I5: 8
A6: 1 | C6: Earth Work Eaxcavation and Depositing on the bank with an initial lead of 10mts and lift of 2mts in loamy and claye soils like BC,red earth
C7: Unit = cum
C8: As per Rural SSR Sl.No: 4, Cat: V(f). | D8: Cum | E8: 1 | F8: 306.33 | G8: =E8*F8 -> 306.33
C9: Total | G9: =G8 -> 306.33
C10: Total 1 Cum | G10: =G9 -> 306.33 | H10: =G10 -> 306.33
A11: 2 | C11: Filling the excavated road way with Gravel including cost and conveyance,labour charges,watering,tempering etc.,complete.
C12: Unit = 10 cum
C13: a) Labour
C14: Mate | D14: day
C15: Mazdoor(Unskiled) | D15: day | E15: 3.12 | F15: =F37 -> 575 | G15: =E15*F15 -> 1794
C16: a) Material
C17: Gravel | D17: Cum | E17: 10 | F17: ='Lead 2024-25'!L8 -> 173.07605 | G17: =E17*F17 -> 1730.7605
G18: =SUM(G15:G17)/10 -> 352.47605 | I18: =G18 -> 352.47605
A19: 3 | C19: Unskilled labour charges for spreading the sand for levelling course including watering and ramming
C20: As per Rural SSR -2022-23 SL.NO 15 | D20: Cum | E20: 1 | F20: 36.39 | G20: =F20 -> 36.39 | H20: =G20 -> 36.39
A21: 4 | B21: RBR-SBST-5 | C21: Consrtuction of Plain cement concerte pavement with CC (1:2:4) prop naminal mix over a prepared sub base with 43 grade cement ,Coarse and fine aggrigates maximum in a concrete mixer of not less than 0.20 cum capacity laid in approved fixed side form work(steel chanel Laying and fixing of 125 microns thick polythin film) spreading the concrete with shovels rakes compacting with using Needle and plate vibrater and finished in continious operation,curing of concrete slabs for 14 days and water finishing to lines etc.. complete
C22: Unit = cum
C23: Taking output = 75 cum (172.50 t)
B24: a) | C24: Material
B25: (i) | C25: Cement @ 330 kgs/cum | D25: MT | E25: 24.75 | F25: ='Lead 2024-25'!L13 -> 6400 | G25: =E25*F25 -> 158400
B26: (ii) | C26: Sand | D26: cum | E26: 33.75 | F26: ='Lead 2024-25'!L11 -> 2724.7496 | G26: =E26*F26 -> 91960.299
B27: (iii) | C27: Crushed stone coarse aggregates, grading will be as per clause 1501.2.4.1 (Table 1500.1) of specifications @ 0.90 Cum/cum of concrete
C28: 20mm | D28: cum | E28: 44.55 | F28: ='Lead 2024-25'!L5 -> 1838.4625 | G28: =E28*F28 -> 81903.506
C29: 12mm | D29: cum | E29: 22.95 | F29: ='Lead 2024-25'!L6 -> 1687.4625 | G29: =E29*F29 -> 38727.265
C30: Plasticiser ( 20ml / 50 kgs of Cement) | D30: Lts | E30: 115 | F30: 213 | G30: =F30*E30 -> 24495
C31: Supply and fixing of 125 microns polythine sheet | D31: Sqm | E31: 412.5 | F31: 19 | G31: =F31*E31 -> 7837.5
C32: Supply and fixing Tar felt joint filler board 20 mm thick | D32: Sqm | E32: 3 | F32: 650 | G32: =F32*E32 -> 1950
F33: Total | G33: =SUM(G25:G32) -> 405273.57
B34: b) | C34: Labour
C35: Mason (1st class) | D35: day | E35: 5 | F35: 645 | G35: =E35*F35 -> 3225
C36: Mason (2nd class) | D36: day | E36: 5 | F36: 615 | G36: =E36*F36 -> 3075
C37: Mazdoor (unskilled) | D37: day | E37: 150 | F37: 575 | G37: =E37*F37 -> 86250
C38: Mazdoor (skilled) | D38: day | E38: 6 | F38: 575 | G38: =E38*F38 -> 3450
C39: Mazdoor (skilled) | D39: day | E39: 6 | F39: 575 | G39: =E39*F39 -> 3450
F40: Total | G40: =SUM(G35:G39) -> 99450
...

Sheet Seig
A1: Calculation of Seignorage Charges
A2: =Cover!B21 -> Name of the worK | C2: =Cover!E21 -> Construction of CC Road in Bairanpalli(GP) of Maddur(M), Siddipet District.
A3: =+Sp.Rep!A5 -> Grant : MGNREGS 2024-25 | G3: Estt.Cost: | H3: =Cover!E22 -> 10
A4: Sl. No | B4: Item | C4: Quantity (finished item) | D4: Unit | E4: Material | F4: Co-efficient | G4: Qty (collected) | H4: Rate | I4: Seignorage Amount
A5: 1 | B5: =A5+1 -> 2 | C5: =B5+1 -> 3 | D5: =C5+1 -> 4 | E5: =D5+1 -> 5 | F5: =E5+1 -> 6 | G5: =F5+1 -> 7 | H5: =G5+1 -> 8 | I5: =H5+1 -> 9
B6: C.C.Road
A7: 1 | B7: Sand | C7: ='Det Estt'!I12 -> 40.5 | D7: Cum | E7: Sand | F7: 1 | G7: =F7*C7 -> 40.5 | H7: 40 | I7: =ROUND(H7*G7,0) -> 1620
A9: 2 | B9: C.C. Pavement | C9: ='Det Estt'!I17 -> 133.65 | D9: Cum | E9: Metal | F9: 0.9 | G9: =F9*C9 -> 120.285 | H9: 75 | I9: =ROUND(H9*G9,0) -> 9021
C10: =C9 -> 133.65 | D10: Cum | E10: Sand | F10: 0.45 | G10: =F10*C10 -> 60.1425 | H10: 40 | I10: =ROUND(H10*G10,0) -> 2406
A12: 3 | B12: Gravel shoulders | C12: ='Det Estt'!I20 -> 27.54 | D12: Cum | E12: Gravel | F12: 1 | G12: =F12*C12 -> 27.54 | H12: 30 | I12: =ROUND(H12*G12,0) -> 826
B14: Total Seignorage amount | I14: =SUM(I7,I9,I10,I12) -> 13873
B18: ='Data '!C114 -> Asst. Exec.Engineer PR
B19: ='Det Estt'!#REF! -> #REF!

Sheet Lead
A1: LEAD STATEMENT (2016-17)
A2: =Cover!B21 -> Name of the worK | C2: =Cover!E21 -> Construction of CC Road in Bairanpalli(GP) of Maddur(M), Siddipet District.
A4: Name of the Grant :- MGNREGS | J4: Estimated Cost of Rs. | K4: =Cover!E22 -> 10
A6: Sl. No. | B6: Particulars | C6: Name of the Quarry | D6: Average Lead | E6: Lead Charges | F6: Net Cost of lead | G6: Initial Rate | H6: Blasting charges | I6: Machine crushing charges | J6: Seignior-age charges | K6: Total Rate Per Cum
A7: 1 | B7: =A7+1 -> 2 | C7: =B7+1 -> 3 | D7: =C7+1 -> 4 | E7: =D7+1 -> 5 | F7: 6 | G7: =F7+1 -> 7 | H7: =G7+1 -> 8 | I7: =H7+1 -> 9 | J7: =I7+1 -> 10 | K7: =J7+1 -> 11
A8: 1 | B8: Gravel | C8: Local | D8: 6 | E8: 85.02 | F8: =E8 -> 85.02 | G8: 103 | K8: =ROUND(SUM(F8:J8),2) -> 188.02
A9: =A8+1 -> 2 | B9: Sand for Concrete | C9: Godavari | D9: 29 | E9: 340.1 | F9: =E9 -> 340.1 | G9: 560 | K9: =ROUND(SUM(F9:J9),2) -> 900.1
A10: =A9+1 -> 3 | B10: Sand for Filling | C10: Local | D10: 6 | E10: =E8 -> 85.02 | F10: =E10 -> 85.02 | G10: 560 | K10: =ROUND(SUM(F10:J10),2) -> 645.02
A11: =A10+1 -> 4 | B11: 20 mm HBG M/C Chips-SS5 | C11: Velgatoor | D11: 29 | E11: 340.1 | F11: =E11 -> 340.1 | G11: 916 | H11: 70 | I11: =G11/4 -> 229 | K11: =ROUND(SUM(F11:J11),2) -> 1555.1
A12: =A11+1 -> 5 | B12: 12 mm HBG M/C Chips-SS5 | C12: Velgatoor | D12: =D11 -> 29 | E12: =E11 -> 340.1 | F12: =E12 -> 340.1 | G12: 822 | H12: 70 | I12: =G12/4 -> 205.5 | K12: =ROUND(SUM(F12:J12),2) -> 1437.6
A13: 6 | B13: Cement | C13: Local | G13: 5900 | K13: =G13 -> 5900
A14: =A13+1 -> 7 | B14: Steel | C14: Local | G14: 32000 | K14: =G14 -> 32000
B15: CERTIFICATE
A16: 1 | B16: Certified that these leads provided average of Mandal above are correct to the best of My knowledge and belief
A17: 2 | B17: Blasting charges may be allowed as the quarry is blasting type
C21: Assistant Engineer | G21: Dy. Executive Engineer
C22: MPP Luxettipet | G22: PR Sub Division Chennur

Sheet Lead 2024-25
A1: LEAD STATEMENT (SSR 2023-24)
A2: ="Name of the Work: "&Cover!E21 -> Name of the Work: Construction of CC Road in Bairanpalli(GP) of Maddur(M), Siddipet District.
A3: S.No | B3: Name of the Material | C3: Source of Supply | D3: Average Lead in KM | E3: Conveyance Charges | F3: Loading Charges | G3: Unloading charges | H3: Total Conveyance charges including loading & unloading Charges | I3: Intial cost | J3: Add Machine Crushing Charges | K3: Blasting Charges | L3: Total Rate
A4: 1 | B4: 2 | C4: 3 | E4: 5 | F4: 7 | G4: 8 | H4: 9 | I4: 10 | J4: 11 | K4: 12 | L4: 14
A5: 1 | B5: 20mm SizeHBG Metal (SS5) | C5: =INPUT!D13 -> Yellamla | D5: =INPUT!E13 -> 44 | E5: =VLOOKUP(D5,'Conv 2024-25'!A$5:C$155,3) -> 630.46253 | H5: =SUM(E5:G5) -> 630.46253 | I5: 1208 | L5: =SUM(H5:K5) -> 1838.4625
A6: 2 | B6: 12-mm Size HBG Metal (SS5) | C6: =C5 -> Yellamla | D6: =D5 -> 44 | E6: =VLOOKUP(D6,'Conv 2024-25'!A$5:C$155,3) -> 630.46253 | H6: =SUM(E6:G6) -> 630.46253 | I6: 1057 | L6: =SUM(H6:K6) -> 1687.4625
A7: 3 | B7: 10 mm SizeHBG Metal (SS5) | C7: =C6 -> Yellamla | D7: =D5 -> 44 | E7: =VLOOKUP(D7,'Conv 2024-25'!A$5:C$155,3) -> 630.46253 | H7: =SUM(E7:G7) -> 630.46253 | I7: 957 | L7: =SUM(H7:K7) -> 1587.4625
A8: 4 | B8: Gravel | C8: =INPUT!D16 -> Local | D8: =INPUT!E16 -> 5 | E8: =VLOOKUP(D8,'Conv 2024-25'!D5:F155,3) -> 64.076046 | H8: =SUM(E8:G8) -> 64.076046 | I8: 109 | L8: =SUM(H8:K8) -> 173.07605
A9: 5 | B9: Sand for filling | C9: Local | D9: 10 | E9: =VLOOKUP(D9,'Conv 2024-25'!D6:F156,3) -> 141.09053 | H9: =SUM(E9:G9) -> 141.09053 | I9: 695 | L9: =SUM(H9:K9) -> 836.09053
A10: 6 | B10: Sand for mortor | C10: Local | D10: 10 | E10: =VLOOKUP(D10,'Conv 2024-25'!D7:F157,3) -> 141.09053 | H10: =SUM(E10:G10) -> 141.09053 | I10: 915 | L10: =SUM(H10:K10) -> 1056.0905
A11: 7 | B11: Sand for Concrete | C11: =INPUT!D14 -> Mahadevpur | D11: =INPUT!E14 -> 156 | E11: =VLOOKUP(D11,'Conv 2024-25'!D8:F158,3) -> 2029.7496 | H11: =SUM(E11:G11) -> 2029.7496 | I11: 695 | L11: =SUM(H11:K11) -> 2724.7496
A12: 8 | B12: Rock Sand | C12: =INPUT!D18 -> Keesara | D12: =INPUT!E18 -> 81 | E12: =VLOOKUP(D12,'Conv 2024-25'!D9:F159,3) -> 1104.5196 | H12: =SUM(E12:G12) -> 1104.5196 | I12: 650 | L12: =SUM(H12:K12) -> 1754.5196
A13: 8 | B13: Cement | C13: =INPUT!I20 -> 45566 | I13: =INPUT!I24 -> 5000 | J13: 28% GST | K13: =I13*0.28 -> 1400 | L13: =I13+K13 -> 6400
A14: 9 | B14: Steel | I14: 52000 | J14: 18% GST | K14: =I14*0.18 -> 9360 | L14: =I14+K14 -> 61360
A16: CERTIFICATES:
B17: 1. Certified that the leads provided above are nearest to the best of my knoweldge and belief.
B18: 2. Certified that the stones extracted from the Quarry and blasting type.
B21: ='Data '!C114 -> Asst. Exec.Engineer PR | E21: =IF(Cover!E22>5,"Dy.Executive Engineer"," ") -> Dy.Executive Engineer
B22: ='Data '!C115 -> MPP Maddur | E22: =IF(Cover!E22>5,"PR SD Chennur"," ") -> PR SD Chennur

Sheet Conv 2024-25
A1: Lead Charges for the year 2023-24
A2: Metal | D2: Gravel & Sand | G2: pipes 1000 | K2: pipes 900 | N2: pipes 600 | Q2: pipes 300 | T2: Pipes 450 | W2: Pipes 200 | Z2: Bricks | AC2: Polished Shabab Stone
A3: lead | B3: SSR Rate With13.615% OHCP (A) | C3: Rate as per 2015-16 withh out OHCP | D3: lead | E3: SSR Rate With13.615% OHCP (B) | F3: Rate as per 2015-16 withh out OHCP | G3: lead | H3: SSR RATE With out OHCP (A) | I3: SSR Rate Without OHCP (B) | K3: lead | L3: SSR RATE With out OHCP (A) | M3: SSR Rate Without OHCP (B) | N3: lead | O3: SSR RATE With out OHCP (A) | P3: SSR Rate Without OHCP (B) | Q3: lead | R3: SSR RATE With out OHCP (A) | S3: SSR Rate Without OHCP (B) | T3: lead | U3: SSR RATE With out OHCP (A) | V3: SSR Rate Without OHCP (B) | W3: lead | X3: SSR RATE With out OHCP (A) | Y3: SSR Rate Without OHCP (B) | Z3: lead | AA3: SSR RATE With out OHCP (A) | AB3: SSR Rate Without OHCP (B) | AC3: lead | AD3: SSR RATE With out OHCP (A) | AE3: SSR Rate Without OHCP (B)
A4: 0 | B4: 0 | C4: 0 | D4: 0 | E4: 0 | F4: 0 | G4: 0 | H4: 0 | I4: 0 | J4: 0 | K4: 0 | L4: 0 | M4: 0 | N4: 0 | O4: 0 | P4: 0 | Q4: 0 | R4: 0 | S4: 0 | Z4: 0 | AA4: 0 | AB4: 0 | AC4: 0 | AD4: 0 | AE4: 0
A5: 0.5 | B5: 42.1 | C5: =B5/$J$6 -> 37.054966 | D5: 0.5 | E5: 43.7 | F5: =E5/$J$6 -> 38.463231 | G5: 0.5 | H5: 206.8 | I5: =H5 -> 206.8 | K5: 0.5 | L5: 171.6 | M5: =L5 -> 171.6 | N5: 0.5 | O5: 97.9 | P5: =O5 -> 97.9 | Q5: 0.5 | R5: 42.9 | S5: =R5 -> 42.9 | T5: 0.5 | U5: 33 | V5: =U5 -> 33 | W5: 0.5 | X5: 9.9 | Y5: =X5 -> 9.9 | Z5: 0.5 | AA5: 70 | AB5: =AA5/$J$6 -> 61.611583 | AC5: 0.5 | AD5: 44.7 | AE5: =AD5/$J$6 -> 39.343397
A6: 1 | B6: 42.1 | C6: =B6/$J$6 -> 37.054966 | D6: 1 | E6: 43.7 | F6: =E6/$J$6 -> 38.463231 | G6: 1 | H6: =H5 -> 206.8 | I6: =H6 -> 206.8 | J6: 1.13615 | K6: 1 | L6: =L5 -> 171.6 | M6: =L6 -> 171.6 | N6: 1 | O6: =O5 -> 97.9 | P6: =O6 -> 97.9 | Q6: 1 | R6: =R5 -> 42.9 | S6: =R6 -> 42.9 | T6: 1 | U6: =U5 -> 33 | V6: =U6 -> 33 | W6: 1 | X6: =X5 -> 9.9 | Y6: =X6 -> 9.9 | Z6: 1 | AA6: 70 | AB6: =AA6/$J$6 -> 61.611583 | AC6: 1 | AD6: 60.4 | AE6: =AD6/$J$6 -> 53.161994
A7: 2 | B7: =59-B6 -> 16.9 | C7: =B7/$J$6 -> 14.874796 | D7: 2 | E7: =61.1-E6 -> 17.4 | F7: =E7/$J$6 -> 15.314879 | G7: 2 | H7: =H6 -> 206.8 | I7: =H7 -> 206.8 | K7: 2 | L7: =L6 -> 171.6 | M7: =L7 -> 171.6 | N7: 2 | O7: =O6 -> 97.9 | P7: =O7 -> 97.9 | Q7: 2 | R7: =R6 -> 42.9 | S7: =R7 -> 42.9 | T7: 2 | U7: =U6 -> 33 | V7: =U7 -> 33 | W7: 2 | X7: =X6 -> 9.9 | Y7: =X7 -> 9.9 | Z7: 2 | AA7: 98 | AB7: =AA7/$J$6 -> 86.256216 | AC7: 2 | AD7: 84.6 | AE7: =AD7/$J$6 -> 74.461999
A8: 3 | B8: =81.5-B5 -> 39.4 | C8: =B8/$J$6 -> 34.67852 | D8: 3 | E8: =81.5-E6 -> 37.8 | F8: =E8/$J$6 -> 33.270255 | G8: 3 | H8: =H7 -> 206.8 | I8: =H8 -> 206.8 | K8: 3 | L8: =L7 -> 171.6 | M8: =L8 -> 171.6 | N8: 3 | O8: =O7 -> 97.9 | P8: =O8 -> 97.9 | Q8: 3 | R8: =R7 -> 42.9 | S8: =R8 -> 42.9 | T8: 3 | U8: =U7 -> 33 | V8: =U8 -> 33 | W8: 3 | X8: =X7 -> 9.9 | Y8: =X8 -> 9.9 | Z8: 3 | AA8: 130.7 | AB8: =AA8/$J$6 -> 115.03763 | AC8: 3 | AD8: 117 | AE8: =AD8/$J$6 -> 102.97936
A9: 4 | B9: =99-B6 -> 56.9 | C9: =B9/$J$6 -> 50.081415 | D9: 4 | E9: =99-E6 -> 55.3 | F9: =E9/$J$6 -> 48.673151 | G9: 4 | H9: =H8 -> 206.8 | I9: =H9 -> 206.8 | K9: 4 | L9: =L8 -> 171.6 | M9: =L9 -> 171.6 | N9: 4 | O9: =O8 -> 97.9 | P9: =O9 -> 97.9 | Q9: 4 | R9: =R8 -> 42.9 | S9: =R9 -> 42.9 | T9: 4 | U9: =U8 -> 33 | V9: =U9 -> 33 | W9: 4 | X9: =X8 -> 9.9 | Y9: =X9 -> 9.9 | Z9: 4 | AA9: 158.7 | AB9: =AA9/$J$6 -> 139.68226 | AC9: 4 | AD9: 142 | AE9: =AD9/$J$6 -> 124.9835
A10: 5 | B10: =116.5-B6 -> 74.4 | C10: =B10/$J$6 -> 65.484311 | D10: 5 | E10: =116.5-E6 -> 72.8 | F10: =E10/$J$6 -> 64.076046 | G10: 5 | H10: =H9 -> 206.8 | I10: =H10 -> 206.8 | K10: 5 | L10: =L9 -> 171.6 | M10: =L10 -> 171.6 | N10: 5 | O10: =O9 -> 97.9 | P10: =O10 -> 97.9 | Q10: 5 | R10: =R9 -> 42.9 | S10: =R10 -> 42.9 | T10: 5 | U10: =U9 -> 33 | V10: =U10 -> 33 | W10: 5 | X10: =X9 -> 9.9 | Y10: =X10 -> 9.9 | Z10: 5 | AA10: 186.7 | AB10: =AA10/$J$6 -> 164.32689 | AC10: 5 | AD10: 167.1 | AE10: =AD10/$J$6 -> 147.07565
A11: 6 | B11: =B10+17.5 -> 91.9 | C11: =B11/$J$6 -> 80.887207 | D11: 6 | E11: =E10+17.5 -> 90.3 | F11: =E11/$J$6 -> 79.478942 | G11: 6 | H11: =H10+9.96 -> 216.76 | I11: =H11 -> 216.76 | K11: 6 | L11: =L10+9.96 -> 181.56 | M11: =L11 -> 181.56 | N11: 6 | O11: =O10+4.54 -> 102.44 | P11: =O11 -> 102.44 | Q11: 6 | R11: =R10+1.18 -> 44.08 | S11: =R11 -> 44.08 | T11: 6 | U11: =U10+1.86 -> 34.86 | V11: =U11 -> 34.86 | W11: 6 | X11: =X10+0.53 -> 10.43 | Y11: =X11 -> 10.43 | Z11: 6 | AA11: =AA10+28 -> 214.7 | AB11: =AA11/$J$6 -> 188.97153 | AC11: 6 | AD11: =AD10+25.1 -> 192.2 | AE11: =AD11/$J$6 -> 169.1678
A12: 7 | B12: =B11+17.5 -> 109.4 | C12: =B12/$J$6 -> 96.290103 | D12: 7 | E12: =E11+17.5 -> 107.8 | F12: =E12/$J$6 -> 94.881838 | G12: 7 | H12: =H11+9.96 -> 226.72 | I12: =H12 -> 226.72 | K12: 7 | L12: =L11+9.96 -> 191.52 | M12: =L12 -> 191.52 | N12: 7 | O12: =O11+4.54 -> 106.98 | P12: =O12 -> 106.98 | Q12: 7 | R12: =R11+1.18 -> 45.26 | S12: =R12 -> 45.26 | T12: 7 | U12: =U11+1.86 -> 36.72 | V12: =U12 -> 36.72 | W12: 7 | X12: =X11+0.53 -> 10.96 | Y12: =X12 -> 10.96 | Z12: 7 | AA12: =AA11+28 -> 242.7 | AB12: =AA12/$J$6 -> 213.61616 | AC12: 7 | AD12: =AD11+25.1 -> 217.3 | AE12: =AD12/$J$6 -> 191.25996
A13: 8 | B13: =B12+17.5 -> 126.9 | C13: =B13/$J$6 -> 111.693 | D13: 8 | E13: =E12+17.5 -> 125.3 | F13: =E13/$J$6 -> 110.28473 | G13: 8 | H13: =H12+9.96 -> 236.68 | I13: =H13 -> 236.68 | K13: 8 | L13: =L12+9.96 -> 201.48 | M13: =L13 -> 201.48 | N13: 8 | O13: =O12+4.54 -> 111.52 | P13: =O13 -> 111.52 | Q13: 8 | R13: =R12+1.18 -> 46.44 | S13: =R13 -> 46.44 | T13: 8 | U13: =U12+1.86 -> 38.58 | V13: =U13 -> 38.58 | W13: 8 | X13: =X12+0.53 -> 11.49 | Y13: =X13 -> 11.49 | Z13: 8 | AA13: =AA12+28 -> 270.7 | AB13: =AA13/$J$6 -> 238.26079 | AC13: 8 | AD13: =AD12+25.1 -> 242.4 | AE13: =AD13/$J$6 -> 213.35211
A14: 9 | B14: =B13+17.5 -> 144.4 | C14: =B14/$J$6 -> 127.09589 | D14: 9 | E14: =E13+17.5 -> 142.8 | F14: =E14/$J$6 -> 125.68763 | G14: 9 | H14: =H13+9.96 -> 246.64 | I14: =H14 -> 246.64 | K14: 9 | L14: =L13+9.96 -> 211.44 | M14: =L14 -> 211.44 | N14: 9 | O14: =O13+4.54 -> 116.06 | P14: =O14 -> 116.06 | Q14: 9 | R14: =R13+1.18 -> 47.62 | S14: =R14 -> 47.62 | T14: 9 | U14: =U13+1.86 -> 40.44 | V14: =U14 -> 40.44 | W14: 9 | X14: =X13+0.53 -> 12.02 | Y14: =X14 -> 12.02 | Z14: 9 | AA14: =AA13+28 -> 298.7 | AB14: =AA14/$J$6 -> 262.90543 | AC14: 9 | AD14: =AD13+25.1 -> 267.5 | AE14: =AD14/$J$6 -> 235.44426
A15: 10 | B15: =B14+17.5 -> 161.9 | C15: =B15/$J$6 -> 142.49879 | D15: 10 | E15: =E14+17.5 -> 160.3 | F15: =E15/$J$6 -> 141.09053 | G15: 10 | H15: =H14+9.96 -> 256.6 | I15: =H15 -> 256.6 | K15: 10 | L15: =L14+9.96 -> 221.4 | M15: =L15 -> 221.4 | N15: 10 | O15: =O14+4.54 -> 120.6 | P15: =O15 -> 120.6 | Q15: 10 | R15: =R14+1.18 -> 48.8 | S15: =R15 -> 48.8 | T15: 10 | U15: =U14+1.86 -> 42.3 | V15: =U15 -> 42.3 | W15: 10 | X15: =X14+0.53 -> 12.55 | Y15: =X15 -> 12.55 | Z15: 10 | AA15: =AA14+28 -> 326.7 | AB15: =AA15/$J$6 -> 287.55006 | AC15: 10 | AD15: =AD14+25.1 -> 292.6 | AE15: =AD15/$J$6 -> 257.53642
A16: 11 | B16: =B15+17.5 -> 179.4 | C16: =B16/$J$6 -> 157.90169 | D16: 11 | E16: =E15+17.5 -> 177.8 | F16: =E16/$J$6 -> 156.49342 | G16: 11 | H16: =H15+9.96 -> 266.56 | I16: =H16 -> 266.56 | K16: 11 | L16: =L15+9.96 -> 231.36 | M16: =L16 -> 231.36 | N16: 11 | O16: =O15+4.54 -> 125.14 | P16: =O16 -> 125.14 | Q16: 11 | R16: =R15+1.18 -> 49.98 | S16: =R16 -> 49.98 | T16: 11 | U16: =U15+1.86 -> 44.16 | V16: =U16 -> 44.16 | W16: 11 | X16: =X15+0.53 -> 13.08 | Y16: =X16 -> 13.08 | Z16: 11 | AA16: =AA15+28 -> 354.7 | AB16: =AA16/$J$6 -> 312.19469 | AC16: 11 | AD16: =AD15+25.1 -> 317.7 | AE16: =AD16/$J$6 -> 279.62857
A17: 12 | B17: =B16+17.5 -> 196.9 | C17: =B17/$J$6 -> 173.30458 | D17: 12 | E17: =E16+17.5 -> 195.3 | F17: =E17/$J$6 -> 171.89632 | G17: 12 | H17: =H16+9.96 -> 276.52 | I17: =H17 -> 276.52 | K17: 12 | L17: =L16+9.96 -> 241.32 | M17: =L17 -> 241.32 | N17: 12 | O17: =O16+4.54 -> 129.68 | P17: =O17 -> 129.68 | Q17: 12 | R17: =R16+1.18 -> 51.16 | S17: =R17 -> 51.16 | T17: 12 | U17: =U16+1.86 -> 46.02 | V17: =U17 -> 46.02 | W17: 12 | X17: =X16+0.53 -> 13.61 | Y17: =X17 -> 13.61 | Z17: 12 | AA17: =AA16+28 -> 382.7 | AB17: =AA17/$J$6 -> 336.83933 | AC17: 12 | AD17: =AD16+25.1 -> 342.8 | AE17: =AD17/$J$6 -> 301.72072
A18: 13 | B18: =B17+17.5 -> 214.4 | C18: =B18/$J$6 -> 188.70748 | D18: 13 | E18: =E17+17.5 -> 212.8 | F18: =E18/$J$6 -> 187.29921 | G18: 13 | H18: =H17+9.96 -> 286.48 | I18: =H18 -> 286.48 | K18: 13 | L18: =L17+9.96 -> 251.28 | M18: =L18 -> 251.28 | N18: 13 | O18: =O17+4.54 -> 134.22 | P18: =O18 -> 134.22 | Q18: 13 | R18: =R17+1.18 -> 52.34 | S18: =R18 -> 52.34 | T18: 13 | U18: =U17+1.86 -> 47.88 | V18: =U18 -> 47.88 | W18: 13 | X18: =X17+0.53 -> 14.14 | Y18: =X18 -> 14.14 | Z18: 13 | AA18: =AA17+28 -> 410.7 | AB18: =AA18/$J$6 -> 361.48396 | AC18: 13 | AD18: =AD17+25.1 -> 367.9 | AE18: =AD18/$J$6 -> 323.81288
A19: 14 | B19: =B18+17.5 -> 231.9 | C19: =B19/$J$6 -> 204.11037 | D19: 14 | E19: =E18+17.5 -> 230.3 | F19: =E19/$J$6 -> 202.70211 | G19: 14 | H19: =H18+9.96 -> 296.44 | I19: =H19 -> 296.44 | K19: 14 | L19: =L18+9.96 -> 261.24 | M19: =L19 -> 261.24 | N19: 14 | O19: =O18+4.54 -> 138.76 | P19: =O19 -> 138.76 | Q19: 14 | R19: =R18+1.18 -> 53.52 | S19: =R19 -> 53.52 | T19: 14 | U19: =U18+1.86 -> 49.74 | V19: =U19 -> 49.74 | W19: 14 | X19: =X18+0.53 -> 14.67 | Y19: =X19 -> 14.67 | Z19: 14 | AA19: =AA18+28 -> 438.7 | AB19: =AA19/$J$6 -> 386.12859 | AC19: 14 | AD19: =AD18+25.1 -> 393 | AE19: =AD19/$J$6 -> 345.90503
A20: 15 | B20: =B19+17.5 -> 249.4 | C20: =B20/$J$6 -> 219.51327 | D20: 15 | E20: =E19+17.5 -> 247.8 | F20: =E20/$J$6 -> 218.105 | G20: 15 | H20: =H19+9.96 -> 306.4 | I20: =H20 -> 306.4 | K20: 15 | L20: =L19+9.96 -> 271.2 | M20: =L20 -> 271.2 | N20: 15 | O20: =O19+4.54 -> 143.3 | P20: =O20 -> 143.3 | Q20: 15 | R20: =R19+1.18 -> 54.7 | S20: =R20 -> 54.7 | T20: 15 | U20: =U19+1.86 -> 51.6 | V20: =U20 -> 51.6 | W20: 15 | X20: =X19+0.53 -> 15.2 | Y20: =X20 -> 15.2 | Z20: 15 | AA20: =AA19+28 -> 466.7 | AB20: =AA20/$J$6 -> 410.77323 | AC20: 15 | AD20: =AD19+25.1 -> 418.1 | AE20: =AD20/$J$6 -> 367.99718
A21: 16 | B21: =B20+17.5 -> 266.9 | C21: =B21/$J$6 -> 234.91616 | D21: 16 | E21: =E20+17.5 -> 265.3 | F21: =E21/$J$6 -> 233.5079 | G21: 16 | H21: =H20+9.96 -> 316.36 | I21: =H21 -> 316.36 | K21: 16 | L21: =L20+9.96 -> 281.16 | M21: =L21 -> 281.16 | N21: 16 | O21: =O20+4.54 -> 147.84 | P21: =O21 -> 147.84 | Q21: 16 | R21: =R20+1.18 -> 55.88 | S21: =R21 -> 55.88 | T21: 16 | U21: =U20+1.86 -> 53.46 | V21: =U21 -> 53.46 | W21: 16 | X21: =X20+0.53 -> 15.73 | Y21: =X21 -> 15.73 | Z21: 16 | AA21: =AA20+28 -> 494.7 | AB21: =AA21/$J$6 -> 435.41786 | AC21: 16 | AD21: =AD20+25.1 -> 443.2 | AE21: =AD21/$J$6 -> 390.08934
A22: 17 | B22: =B21+17.5 -> 284.4 | C22: =B22/$J$6 -> 250.31906 | D22: 17 | E22: =E21+17.5 -> 282.8 | F22: =E22/$J$6 -> 248.9108 | G22: 17 | H22: =H21+9.96 -> 326.32 | I22: =H22 -> 326.32 | K22: 17 | L22: =L21+9.96 -> 291.12 | M22: =L22 -> 291.12 | N22: 17 | O22: =O21+4.54 -> 152.38 | P22: =O22 -> 152.38 | Q22: 17 | R22: =R21+1.18 -> 57.06 | S22: =R22 -> 57.06 | T22: 17 | U22: =U21+1.86 -> 55.32 | V22: =U22 -> 55.32 | W22: 17 | X22: =X21+0.53 -> 16.26 | Y22: =X22 -> 16.26 | Z22: 17 | AA22: =AA21+28 -> 522.7 | AB22: =AA22/$J$6 -> 460.06249 | AC22: 17 | AD22: =AD21+25.1 -> 468.3 | AE22: =AD22/$J$6 -> 412.18149
... A35: 30 | B35: =B34+17.5 -> 511.9 | C35: =B35/$J$6 -> 450.5567 | D35: 30 | E35: =E34+17.5 -> 510.3 | F35: =E35/$J$6 -> 449.14844 | G35: 30 | H35: =H34+9.96 -> 455.8 | I35: =H35 -> 455.8 | K35: 30 | L35: =L34+9.96 -> 420.6 | M35: =L35 -> 420.6 | N35: 30 | O35: =O34+4.54 -> 211.4 | P35: =O35 -> 211.4 | Q35: 30 | R35: =R34+1.18 -> 72.4 | S35: =R35 -> 72.4 | T35: 30 | U35: =U34+1.86 -> 79.5 | V35: =U35 -> 79.5 | W35: 30 | X35: =X34+0.53 -> 23.15 | Y35: =X35 -> 23.15 | Z35: 30 | AA35: =AA34+28 -> 886.7 | AB35: =AA35/$J$6 -> 780.44272 | AC35: 30 | AD35: =AD34+25.1 -> 794.6 | AE35: =AD35/$J$6 -> 699.37948
A36: 31 | B36: =B35+14.6 -> 526.5 | C36: =B36/$J$6 -> 463.40712 | D36: 31 | E36: =E35+14.6 -> 524.9 | F36: =E36/$J$6 -> 461.99886 | G36: 31 | H36: =H35+9.96 -> 465.76 | I36: =H36 -> 465.76 | K36: 31 | L36: =L35+9.96 -> 430.56 | M36: =L36 -> 430.56 | N36: 31 | O36: =O35+4.54 -> 215.94 | P36: =O36 -> 215.94 | Q36: 31 | R36: =R35+1.18 -> 73.58 | S36: =R36 -> 73.58 | T36: 31 | U36: =U35+1.86 -> 81.36 | V36: =U36 -> 81.36 | W36: 31 | X36: =X35+0.53 -> 23.68 | Y36: =X36 -> 23.68 | Z36: 31 | AA36: =AA35+23.3 -> 910 | AB36: =AA36/$J$6 -> 800.95058 | AC36: 31 | AD36: =AD35+20.9 -> 815.5 | AE36: =AD36/$J$6 -> 717.77494
A37: 32 | B37: =B36+14.6 -> 541.1 | C37: =B37/$J$6 -> 476.25754 | D37: 32 | E37: =E36+14.6 -> 539.5 | F37: =E37/$J$6 -> 474.84927 | G37: 32 | H37: =H36+9.96 -> 475.72 | I37: =H37 -> 475.72 | K37: 32 | L37: =L36+9.96 -> 440.52 | M37: =L37 -> 440.52 | N37: 32 | O37: =O36+4.54 -> 220.48 | P37: =O37 -> 220.48 | Q37: 32 | R37: =R36+1.18 -> 74.76 | S37: =R37 -> 74.76 | T37: 32 | U37: =U36+1.86 -> 83.22 | V37: =U37 -> 83.22 | W37: 32 | X37: =X36+0.53 -> 24.21 | Y37: =X37 -> 24.21 | Z37: 32 | AA37: =AA36+23.3 -> 933.3 | AB37: =AA37/$J$6 -> 821.45843 | AC37: 32 | AD37: =AD36+20.9 -> 836.4 | AE37: =AD37/$J$6 -> 736.1704
A38: 33 | B38: =B37+14.6 -> 555.7 | C38: =B38/$J$6 -> 489.10795 | D38: 33 | E38: =E37+14.6 -> 554.1 | F38: =E38/$J$6 -> 487.69969 | G38: 33 | H38: =H37+9.96 -> 485.68 | I38: =H38 -> 485.68 | K38: 33 | L38: =L37+9.96 -> 450.48 | M38: =L38 -> 450.48 | N38: 33 | O38: =O37+4.54 -> 225.02 | P38: =O38 -> 225.02 | Q38: 33 | R38: =R37+1.18 -> 75.94 | S38: =R38 -> 75.94 | T38: 33 | U38: =U37+1.86 -> 85.08 | V38: =U38 -> 85.08 | W38: 33 | X38: =X37+0.53 -> 24.74 | Y38: =X38 -> 24.74 | Z38: 33 | AA38: =AA37+23.3 -> 956.6 | AB38: =AA38/$J$6 -> 841.96629 | AC38: 33 | AD38: =AD37+20.9 -> 857.3 | AE38: =AD38/$J$6 -> 754.56586
A39: 34 | B39: =B38+14.6 -> 570.3 | C39: =B39/$J$6 -> 501.95837 | D39: 34 | E39: =E38+14.6 -> 568.7 | F39: =E39/$J$6 -> 500.5501 | G39: 34 | H39: =H38+9.96 -> 495.64 | I39: =H39 -> 495.64 | K39: 34 | L39: =L38+9.96 -> 460.44 | M39: =L39 -> 460.44 | N39: 34 | O39: =O38+4.54 -> 229.56 | P39: =O39 -> 229.56 | Q39: 34 | R39: =R38+1.18 -> 77.12 | S39: =R39 -> 77.12 | T39: 34 | U39: =U38+1.86 -> 86.94 | V39: =U39 -> 86.94 | W39: 34 | X39: =X38+0.53 -> 25.27 | Y39: =X39 -> 25.27 | Z39: 34 | AA39: =AA38+23.3 -> 979.9 | AB39: =AA39/$J$6 -> 862.47415 | AC39: 34 | AD39: =AD38+20.9 -> 878.2 | AE39: =AD39/$J$6 -> 772.96132
A40: 35 | B40: =B39+14.6 -> 584.9 | C40: =B40/$J$6 -> 514.80878 | D40: 35 | E40: =E39+14.6 -> 583.3 | F40: =E40/$J$6 -> 513.40052 | G40: 35 | H40: =H39+9.96 -> 505.6 | I40: =H40 -> 505.6 | K40: 35 | L40: =L39+9.96 -> 470.4 | M40: =L40 -> 470.4 | N40: 35 | O40: =O39+4.54 -> 234.1 | P40: =O40 -> 234.1 | Q40: 35 | R40: =R39+1.18 -> 78.3 | S40: =R40 -> 78.3 | T40: 35 | U40: =U39+1.86 -> 88.8 | V40: =U40 -> 88.8 | W40: 35 | X40: =X39+0.53 -> 25.8 | Y40: =X40 -> 25.8 | Z40: 35 | AA40: =AA39+23.3 -> 1003.2 | AB40: =AA40/$J$6 -> 882.982 | AC40: 35 | AD40: =AD39+20.9 -> 899.1 | AE40: =AD40/$J$6 -> 791.35678
A41: 36 | B41: =B40+14.6 -> 599.5 | C41: =B41/$J$6 -> 527.6592 | D41: 36 | E41: =E40+14.6 -> 597.9 | F41: =E41/$J$6 -> 526.25094 | G41: 36 | H41: =H40+9.96 -> 515.56 | I41: =H41 -> 515.56 | K41: 36 | L41: =L40+9.96 -> 480.36 | M41: =L41 -> 480.36 | N41: 36 | O41: =O40+4.54 -> 238.64 | P41: =O41 -> 238.64 | Q41: 36 | R41: =R40+1.18 -> 79.48 | S41: =R41 -> 79.48 | T41: 36 | U41: =U40+1.86 -> 90.66 | V41: =U41 -> 90.66 | W41: 36 | X41: =X40+0.53 -> 26.33 | Y41: =X41 -> 26.33 | Z41: 36 | AA41: =AA40+23.3 -> 1026.5 | AB41: =AA41/$J$6 -> 903.48986 | AC41: 36 | AD41: =AD40+20.9 -> 920 | AE41: =AD41/$J$6 -> 809.75223
A42: 37 | B42: =B41+14.6 -> 614.1 | C42: =B42/$J$6 -> 540.50962 | D42: 37 | E42: =E41+14.6 -> 612.5 | F42: =E42/$J$6 -> 539.10135 | G42: 37 | H42: =H41+9.96 -> 525.52 | I42: =H42 -> 525.52 | K42: 37 | L42: =L41+9.96 -> 490.32 | M42: =L42 -> 490.32 | N42: 37 | O42: =O41+4.54 -> 243.18 | P42: =O42 -> 243.18 | Q42: 37 | R42: =R41+1.18 -> 80.66 | S42: =R42 -> 80.66 | T42: 37 | U42: =U41+1.86 -> 92.52 | V42: =U42 -> 92.52 | W42: 37 | X42: =X41+0.53 -> 26.86 | Y42: =X42 -> 26.86 | Z42: 37 | AA42: =AA41+23.3 -> 1049.8 | AB42: =AA42/$J$6 -> 923.99771 | AC42: 37 | AD42: =AD41+20.9 -> 940.9 | AE42: =AD42/$J$6 -> 828.14769
A43: 38 | B43: =B42+14.6 -> 628.7 | C43: =B43/$J$6 -> 553.36003 | D43: 38 | E43: =E42+14.6 -> 627.1 | F43: =E43/$J$6 -> 551.95177 | G43: 38 | H43: =H42+9.96 -> 535.48 | I43: =H43 -> 535.48 | K43: 38 | L43: =L42+9.96 -> 500.28 | M43: =L43 -> 500.28 | N43: 38 | O43: =O42+4.54 -> 247.72 | P43: =O43 -> 247.72 | Q43: 38 | R43: =R42+1.18 -> 81.84 | S43: =R43 -> 81.84 | T43: 38 | U43: =U42+1.86 -> 94.38 | V43: =U43 -> 94.38 | W43: 38 | X43: =X42+0.53 -> 27.39 | Y43: =X43 -> 27.39 | Z43: 38 | AA43: =AA42+23.3 -> 1073.1 | AB43: =AA43/$J$6 -> 944.50557 | AC43: 38 | AD43: =AD42+20.9 -> 961.8 | AE43: =AD43/$J$6 -> 846.54315
A44: 39 | B44: =B43+14.6 -> 643.3 | C44: =B44/$J$6 -> 566.21045 | D44: 39 | E44: =E43+14.6 -> 641.7 | F44: =E44/$J$6 -> 564.80218 | G44: 39 | H44: =H43+9.96 -> 545.44 | I44: =H44 -> 545.44 | K44: 39 | L44: =L43+9.96 -> 510.24 | M44: =L44 -> 510.24 | N44: 39 | O44: =O43+4.54 -> 252.26 | P44: =O44 -> 252.26 | Q44: 39 | R44: =R43+1.18 -> 83.02 | S44: =R44 -> 83.02 | T44: 39 | U44: =U43+1.86 -> 96.24 | V44: =U44 -> 96.24 | W44: 39 | X44: =X43+0.53 -> 27.92 | Y44: =X44 -> 27.92 | Z44: 39 | AA44: =AA43+23.3 -> 1096.4 | AB44: =AA44/$J$6 -> 965.01342 | AC44: 39 | AD44: =AD43+20.9 -> 982.7 | AE44: =AD44/$J$6 -> 864.93861
A45: 40 | B45: =B44+14.6 -> 657.9 | C45: =B45/$J$6 -> 579.06086 | D45: 40 | E45: =E44+14.6 -> 656.3 | F45: =E45/$J$6 -> 577.6526 | G45: 40 | H45: =H44+9.96 -> 555.4 | I45: =H45 -> 555.4 | K45: 40 | L45: =L44+9.96 -> 520.2 | M45: =L45 -> 520.2 | N45: 40 | O45: =O44+4.54 -> 256.8 | P45: =O45 -> 256.8 | Q45: 40 | R45: =R44+1.18 -> 84.2 | S45: =R45 -> 84.2 | T45: 40 | U45: =U44+1.86 -> 98.1 | V45: =U45 -> 98.1 | W45: 40 | X45: =X44+0.53 -> 28.45 | Y45: =X45 -> 28.45 | Z45: 40 | AA45: =AA44+23.3 -> 1119.7 | AB45: =AA45/$J$6 -> 985.52128 | AC45: 40 | AD45: =AD44+20.9 -> 1003.6 | AE45: =AD45/$J$6 -> 883.33407
A46: 41 | B46: =B45+14.6 -> 672.5 | C46: =B46/$J$6 -> 591.91128 | D46: 41 | E46: =E45+14.6 -> 670.9 | F46: =E46/$J$6 -> 590.50301 | G46: 41 | H46: =H45+9.96 -> 565.36 | I46: =H46 -> 565.36 | K46: 41 | L46: =L45+9.96 -> 530.16 | M46: =L46 -> 530.16 | N46: 41 | O46: =O45+4.54 -> 261.34 | P46: =O46 -> 261.34 | Q46: 41 | R46: =R45+1.18 -> 85.38 | S46: =R46 -> 85.38 | T46: 41 | U46: =U45+1.86 -> 99.96 | V46: =U46 -> 99.96 | W46: 41 | X46: =X45+0.53 -> 28.98 | Y46: =X46 -> 28.98 | Z46: 41 | AA46: =AA45+23.3 -> 1143 | AB46: =AA46/$J$6 -> 1006.0291 | AC46: 41 | AD46: =AD45+20.9 -> 1024.5 | AE46: =AD46/$J$6 -> 901.72953
A47: 42 | B47: =B46+14.6 -> 687.1 | C47: =B47/$J$6 -> 604.7617 | D47: 42 | E47: =E46+14.6 -> 685.5 | F47: =E47/$J$6 -> 603.35343 | G47: 42 | H47: =H46+9.96 -> 575.32 | I47: =H47 -> 575.32 | K47: 42 | L47: =L46+9.96 -> 540.12 | M47: =L47 -> 540.12 | N47: 42 | O47: =O46+4.54 -> 265.88 | P47: =O47 -> 265.88 | Q47: 42 | R47: =R46+1.18 -> 86.56 | S47: =R47 -> 86.56 | T47: 42 | U47: =U46+1.86 -> 101.82 | V47: =U47 -> 101.82 | W47: 42 | X47: =X46+0.53 -> 29.51 | Y47: =X47 -> 29.51 | Z47: 42 | AA47: =AA46+23.3 -> 1166.3 | AB47: =AA47/$J$6 -> 1026.537 | AC47: 42 | AD47: =AD46+20.9 -> 1045.4 | AE47: =AD47/$J$6 -> 920.12498
... A155: 150 | B155: =B154+14.6 -> 2263.9 | C155: =B155/$J$6 -> 1992.6066 | D155: 150 | E155: =E154+14.6 -> 2262.3 | F155: =E155/$J$6 -> 1991.1983 | G155: 150 | H155: =H154+9.96 -> 1651 | I155: =H155 -> 1651 | K155: 150 | L155: =L154+9.96 -> 1615.8 | M155: =L155 -> 1615.8 | N155: 150 | O155: =O154+4.54 -> 756.2 | P155: =O155 -> 756.2 | Q155: 150 | R155: =R154+1.18 -> 214 | S155: =R155 -> 214 | T155: 150 | U155: =U154+1.86 -> 302.7 | V155: =U155 -> 302.7 | W155: 150 | X155: =X154+0.53 -> 86.75 | Y155: =X155 -> 86.75 | Z155: 150 | AA155: =AA154+23.3 -> 3682.7 | AB155: =AA155/$J$6 -> 3241.3854 | AC155: 150 | AD155: =AD154+20.9 -> 3302.6 | AE155: =AD155/$J$6 -> 2906.8345
A156: 151 | B156: =B155+14.6 -> 2278.5 | C156: =B156/$J$6 -> 2005.457 | D156: 151 | E156: =E155+14.6 -> 2276.9 | F156: =E156/$J$6 -> 2004.0488 | G156: 151 | H156: =H155+9.05 -> 1660.05 | I156: =H156 -> 1660.05 | K156: 151 | L156: =L155+9.96 -> 1625.76 | M156: =L156 -> 1625.76 | N156: 151 | O156: =O155+4.54 -> 760.74 | P156: =O156 -> 760.74 | Q156: 151 | R156: =R155+1.18 -> 215.18 | S156: =R156 -> 215.18 | T156: 151 | U156: =U155+1.86 -> 304.56 | V156: =U156 -> 304.56 | W156: 151 | X156: =X155+0.53 -> 87.28 | Y156: =X156 -> 87.28 | Z156: 151 | AA156: =AA155+23.3 -> 3706 | AB156: =AA156/$J$6 -> 3261.8932 | AC156: 151 | AD156: =AD155+20.9 -> 3323.5 | AE156: =AD156/$J$6 -> 2925.2299
A157: 152 | B157: =B156+14.6 -> 2293.1 | C157: =B157/$J$6 -> 2018.3074 | D157: 152 | E157: =E156+14.6 -> 2291.5 | F157: =E157/$J$6 -> 2016.8992 | G157: 152 | H157: =H156+9.05 -> 1669.1 | I157: =H157 -> 1669.1 | K157: 152 | L157: =L156+9.96 -> 1635.72 | M157: =L157 -> 1635.72 | N157: 152 | O157: =O156+4.54 -> 765.28 | P157: =O157 -> 765.28 | Q157: 152 | R157: =R156+1.18 -> 216.36 | S157: =R157 -> 216.36 | T157: 152 | U157: =U156+1.86 -> 306.42 | V157: =U157 -> 306.42 | W157: 152 | X157: =X156+0.53 -> 87.81 | Y157: =X157 -> 87.81 | Z157: 152 | AA157: =AA156+23.3 -> 3729.3 | AB157: =AA157/$J$6 -> 3282.4011 | AC157: 152 | AD157: =AD156+20.9 -> 3344.4 | AE157: =AD157/$J$6 -> 2943.6254
A158: 153 | B158: =B157+14.6 -> 2307.7 | C158: =B158/$J$6 -> 2031.1579 | D158: 153 | E158: =E157+14.6 -> 2306.1 | F158: =E158/$J$6 -> 2029.7496 | G158: 153 | H158: =H157+9.05 -> 1678.15 | I158: =H158 -> 1678.15 | K158: 153 | L158: =L157+9.96 -> 1645.68 | M158: =L158 -> 1645.68 | N158: 153 | O158: =O157+4.54 -> 769.82 | P158: =O158 -> 769.82 | Q158: 153 | R158: =R157+1.18 -> 217.54 | S158: =R158 -> 217.54 | T158: 153 | U158: =U157+1.86 -> 308.28 | V158: =U158 -> 308.28 | W158: 153 | X158: =X157+0.53 -> 88.34 | Y158: =X158 -> 88.34 | Z158: 153 | AA158: =AA157+23.3 -> 3752.6 | AB158: =AA158/$J$6 -> 3302.9089 | AC158: 153 | AD158: =AD157+20.9 -> 3365.3 | AE158: =AD158/$J$6 -> 2962.0209
A159: 154 | B159: =B158+14.6 -> 2322.3 | C159: =B159/$J$6 -> 2044.0083 | D159: 154 | E159: =E158+14.6 -> 2320.7 | F159: =E159/$J$6 -> 2042.6 | G159: 154 | H159: =H158+9.05 -> 1687.2 | I159: =H159 -> 1687.2 | K159: 154 | L159: =L158+9.96 -> 1655.64 | M159: =L159 -> 1655.64 | N159: 154 | O159: =O158+4.54 -> 774.36 | P159: =O159 -> 774.36 | Q159: 154 | R159: =R158+1.18 -> 218.72 | S159: =R159 -> 218.72 | T159: 154 | U159: =U158+1.86 -> 310.14 | V159: =U159 -> 310.14 | W159: 154 | X159: =X158+0.53 -> 88.87 | Y159: =X159 -> 88.87 | Z159: 154 | AA159: =AA158+23.3 -> 3775.9 | AB159: =AA159/$J$6 -> 3323.4168 | AC159: 154 | AD159: =AD158+20.9 -> 3386.2 | AE159: =AD159/$J$6 -> 2980.4163
...

Sheet Lead Chennur
A1: S nO | B1: Name of the GP | C1: Sand | D1: Metal
A2: 1 | B2: Algaon | C2: 98 | D2: 26
A3: 2 | B3: Annaram | C3: 92 | D3: 16
A4: 3 | B4: Babberchelka | C4: 86 | D4: 10
A5: 4 | B5: Bopparam | C5: 85 | D5: 27
A6: 5 | B6: Devulawada | C6: 86 | D6: 10
A7: 6 | B7: Edagatta | C7: 85 | D7: 16
A8: 7 | B8: Edulabandam | C8: 90 | D8: 16
A9: 8 | B9: Esanvai | C9: 80 | D9: 19
A10: 9 | B10: Jangaon | C10: 103 | D10: 31
A11: 10 | B11: Kollur | C11: 82 | D11: 5
A12: 11 | B12: Kondampet | C12: 83 | D12: 26
A13: 12 | B13: Kotapalli | C13: 77 | D13: 22
... A32: 31 | B32: Venchapalli | C32: 109 | D32: 43
